BEGIN:VCALENDAR
VERSION:2.0
PRODID:-//Hawick Baptist Church - ECPv6.15.20//NONSGML v1.0//EN
CALSCALE:GREGORIAN
METHOD:PUBLISH
X-ORIGINAL-URL:https://hawickbaptistchurch.com
X-WR-CALDESC:Events for Hawick Baptist Church
REFRESH-INTERVAL;VALUE=DURATION:PT1H
X-Robots-Tag:noindex
X-PUBLISHED-TTL:PT1H
BEGIN:VTIMEZONE
TZID:UTC
BEGIN:STANDARD
TZOFFSETFROM:+0000
TZOFFSETTO:+0000
TZNAME:UTC
DTSTART:20280101T000000
END:STANDARD
END:VTIMEZONE
BEGIN:VEVENT
DTSTART;TZID=UTC:20290102T100000
DTEND;TZID=UTC:20290102T110000
DTSTAMP:20260426T005016
CREATED:20241107T103814Z
LAST-MODIFIED:20250213T142056Z
UID:10000479-1862042400-1862046000@hawickbaptistchurch.com
SUMMARY:MAINLY PLAY
DESCRIPTION:
URL:https://hawickbaptistchurch.com/event/mainly-play-2/2029-01-02/
LOCATION:Hawick Baptist Church\, North Bridge Street\, Hawick\, United Kingdom
ORGANIZER;CN="Mainly Play HBC":MAILTO:mainlyplayhbc@gmail.com
END:VEVENT
BEGIN:VEVENT
DTSTART;TZID=UTC:20290109T100000
DTEND;TZID=UTC:20290109T110000
DTSTAMP:20260426T005016
CREATED:20241107T103814Z
LAST-MODIFIED:20250213T142056Z
UID:10000480-1862647200-1862650800@hawickbaptistchurch.com
SUMMARY:MAINLY PLAY
DESCRIPTION:
URL:https://hawickbaptistchurch.com/event/mainly-play-2/2029-01-09/
LOCATION:Hawick Baptist Church\, North Bridge Street\, Hawick\, United Kingdom
ORGANIZER;CN="Mainly Play HBC":MAILTO:mainlyplayhbc@gmail.com
END:VEVENT
BEGIN:VEVENT
DTSTART;TZID=UTC:20290116T100000
DTEND;TZID=UTC:20290116T110000
DTSTAMP:20260426T005016
CREATED:20241107T103814Z
LAST-MODIFIED:20250213T142056Z
UID:10000481-1863252000-1863255600@hawickbaptistchurch.com
SUMMARY:MAINLY PLAY
DESCRIPTION:
URL:https://hawickbaptistchurch.com/event/mainly-play-2/2029-01-16/
LOCATION:Hawick Baptist Church\, North Bridge Street\, Hawick\, United Kingdom
ORGANIZER;CN="Mainly Play HBC":MAILTO:mainlyplayhbc@gmail.com
END:VEVENT
BEGIN:VEVENT
DTSTART;TZID=UTC:20290123T100000
DTEND;TZID=UTC:20290123T110000
DTSTAMP:20260426T005016
CREATED:20241107T103814Z
LAST-MODIFIED:20250213T142056Z
UID:10000482-1863856800-1863860400@hawickbaptistchurch.com
SUMMARY:MAINLY PLAY
DESCRIPTION:
URL:https://hawickbaptistchurch.com/event/mainly-play-2/2029-01-23/
LOCATION:Hawick Baptist Church\, North Bridge Street\, Hawick\, United Kingdom
ORGANIZER;CN="Mainly Play HBC":MAILTO:mainlyplayhbc@gmail.com
END:VEVENT
BEGIN:VEVENT
DTSTART;TZID=UTC:20290130T100000
DTEND;TZID=UTC:20290130T110000
DTSTAMP:20260426T005016
CREATED:20241107T103814Z
LAST-MODIFIED:20250213T142056Z
UID:10000483-1864461600-1864465200@hawickbaptistchurch.com
SUMMARY:MAINLY PLAY
DESCRIPTION:
URL:https://hawickbaptistchurch.com/event/mainly-play-2/2029-01-30/
LOCATION:Hawick Baptist Church\, North Bridge Street\, Hawick\, United Kingdom
ORGANIZER;CN="Mainly Play HBC":MAILTO:mainlyplayhbc@gmail.com
END:VEVENT
BEGIN:VEVENT
DTSTART;TZID=UTC:20290206T100000
DTEND;TZID=UTC:20290206T110000
DTSTAMP:20260426T005016
CREATED:20241107T103814Z
LAST-MODIFIED:20250213T142056Z
UID:10000484-1865066400-1865070000@hawickbaptistchurch.com
SUMMARY:MAINLY PLAY
DESCRIPTION:
URL:https://hawickbaptistchurch.com/event/mainly-play-2/2029-02-06/
LOCATION:Hawick Baptist Church\, North Bridge Street\, Hawick\, United Kingdom
ORGANIZER;CN="Mainly Play HBC":MAILTO:mainlyplayhbc@gmail.com
END:VEVENT
BEGIN:VEVENT
DTSTART;TZID=UTC:20290213T100000
DTEND;TZID=UTC:20290213T110000
DTSTAMP:20260426T005016
CREATED:20241107T103814Z
LAST-MODIFIED:20250213T142056Z
UID:10000485-1865671200-1865674800@hawickbaptistchurch.com
SUMMARY:MAINLY PLAY
DESCRIPTION:
URL:https://hawickbaptistchurch.com/event/mainly-play-2/2029-02-13/
LOCATION:Hawick Baptist Church\, North Bridge Street\, Hawick\, United Kingdom
ORGANIZER;CN="Mainly Play HBC":MAILTO:mainlyplayhbc@gmail.com
END:VEVENT
BEGIN:VEVENT
DTSTART;TZID=UTC:20290220T100000
DTEND;TZID=UTC:20290220T110000
DTSTAMP:20260426T005016
CREATED:20241107T103814Z
LAST-MODIFIED:20250213T142056Z
UID:10000486-1866276000-1866279600@hawickbaptistchurch.com
SUMMARY:MAINLY PLAY
DESCRIPTION:
URL:https://hawickbaptistchurch.com/event/mainly-play-2/2029-02-20/
LOCATION:Hawick Baptist Church\, North Bridge Street\, Hawick\, United Kingdom
ORGANIZER;CN="Mainly Play HBC":MAILTO:mainlyplayhbc@gmail.com
END:VEVENT
BEGIN:VEVENT
DTSTART;TZID=UTC:20290227T100000
DTEND;TZID=UTC:20290227T110000
DTSTAMP:20260426T005016
CREATED:20241107T103814Z
LAST-MODIFIED:20250213T142056Z
UID:10000487-1866880800-1866884400@hawickbaptistchurch.com
SUMMARY:MAINLY PLAY
DESCRIPTION:
URL:https://hawickbaptistchurch.com/event/mainly-play-2/2029-02-27/
LOCATION:Hawick Baptist Church\, North Bridge Street\, Hawick\, United Kingdom
ORGANIZER;CN="Mainly Play HBC":MAILTO:mainlyplayhbc@gmail.com
END:VEVENT
BEGIN:VEVENT
DTSTART;TZID=UTC:20290306T100000
DTEND;TZID=UTC:20290306T110000
DTSTAMP:20260426T005016
CREATED:20241107T103814Z
LAST-MODIFIED:20250213T142056Z
UID:10000488-1867485600-1867489200@hawickbaptistchurch.com
SUMMARY:MAINLY PLAY
DESCRIPTION:
URL:https://hawickbaptistchurch.com/event/mainly-play-2/2029-03-06/
LOCATION:Hawick Baptist Church\, North Bridge Street\, Hawick\, United Kingdom
ORGANIZER;CN="Mainly Play HBC":MAILTO:mainlyplayhbc@gmail.com
END:VEVENT
BEGIN:VEVENT
DTSTART;TZID=UTC:20290313T100000
DTEND;TZID=UTC:20290313T110000
DTSTAMP:20260426T005016
CREATED:20241107T103814Z
LAST-MODIFIED:20250213T142056Z
UID:10000489-1868090400-1868094000@hawickbaptistchurch.com
SUMMARY:MAINLY PLAY
DESCRIPTION:
URL:https://hawickbaptistchurch.com/event/mainly-play-2/2029-03-13/
LOCATION:Hawick Baptist Church\, North Bridge Street\, Hawick\, United Kingdom
ORGANIZER;CN="Mainly Play HBC":MAILTO:mainlyplayhbc@gmail.com
END:VEVENT
BEGIN:VEVENT
DTSTART;TZID=UTC:20290320T100000
DTEND;TZID=UTC:20290320T110000
DTSTAMP:20260426T005016
CREATED:20241107T103814Z
LAST-MODIFIED:20250213T142056Z
UID:10000490-1868695200-1868698800@hawickbaptistchurch.com
SUMMARY:MAINLY PLAY
DESCRIPTION:
URL:https://hawickbaptistchurch.com/event/mainly-play-2/2029-03-20/
LOCATION:Hawick Baptist Church\, North Bridge Street\, Hawick\, United Kingdom
ORGANIZER;CN="Mainly Play HBC":MAILTO:mainlyplayhbc@gmail.com
END:VEVENT
BEGIN:VEVENT
DTSTART;TZID=UTC:20290327T100000
DTEND;TZID=UTC:20290327T110000
DTSTAMP:20260426T005016
CREATED:20241107T103814Z
LAST-MODIFIED:20250213T142056Z
UID:10000491-1869300000-1869303600@hawickbaptistchurch.com
SUMMARY:MAINLY PLAY
DESCRIPTION:
URL:https://hawickbaptistchurch.com/event/mainly-play-2/2029-03-27/
LOCATION:Hawick Baptist Church\, North Bridge Street\, Hawick\, United Kingdom
ORGANIZER;CN="Mainly Play HBC":MAILTO:mainlyplayhbc@gmail.com
END:VEVENT
BEGIN:VEVENT
DTSTART;TZID=UTC:20290403T100000
DTEND;TZID=UTC:20290403T110000
DTSTAMP:20260426T005016
CREATED:20241107T103814Z
LAST-MODIFIED:20250213T142056Z
UID:10000492-1869904800-1869908400@hawickbaptistchurch.com
SUMMARY:MAINLY PLAY
DESCRIPTION:
URL:https://hawickbaptistchurch.com/event/mainly-play-2/2029-04-03/
LOCATION:Hawick Baptist Church\, North Bridge Street\, Hawick\, United Kingdom
ORGANIZER;CN="Mainly Play HBC":MAILTO:mainlyplayhbc@gmail.com
END:VEVENT
BEGIN:VEVENT
DTSTART;TZID=UTC:20290410T100000
DTEND;TZID=UTC:20290410T110000
DTSTAMP:20260426T005016
CREATED:20241107T103814Z
LAST-MODIFIED:20250213T142056Z
UID:10000493-1870509600-1870513200@hawickbaptistchurch.com
SUMMARY:MAINLY PLAY
DESCRIPTION:
URL:https://hawickbaptistchurch.com/event/mainly-play-2/2029-04-10/
LOCATION:Hawick Baptist Church\, North Bridge Street\, Hawick\, United Kingdom
ORGANIZER;CN="Mainly Play HBC":MAILTO:mainlyplayhbc@gmail.com
END:VEVENT
BEGIN:VEVENT
DTSTART;TZID=UTC:20290417T100000
DTEND;TZID=UTC:20290417T110000
DTSTAMP:20260426T005016
CREATED:20241107T103814Z
LAST-MODIFIED:20250213T142056Z
UID:10000494-1871114400-1871118000@hawickbaptistchurch.com
SUMMARY:MAINLY PLAY
DESCRIPTION:
URL:https://hawickbaptistchurch.com/event/mainly-play-2/2029-04-17/
LOCATION:Hawick Baptist Church\, North Bridge Street\, Hawick\, United Kingdom
ORGANIZER;CN="Mainly Play HBC":MAILTO:mainlyplayhbc@gmail.com
END:VEVENT
BEGIN:VEVENT
DTSTART;TZID=UTC:20290424T100000
DTEND;TZID=UTC:20290424T110000
DTSTAMP:20260426T005016
CREATED:20241107T103814Z
LAST-MODIFIED:20250213T142056Z
UID:10000495-1871719200-1871722800@hawickbaptistchurch.com
SUMMARY:MAINLY PLAY
DESCRIPTION:
URL:https://hawickbaptistchurch.com/event/mainly-play-2/2029-04-24/
LOCATION:Hawick Baptist Church\, North Bridge Street\, Hawick\, United Kingdom
ORGANIZER;CN="Mainly Play HBC":MAILTO:mainlyplayhbc@gmail.com
END:VEVENT
BEGIN:VEVENT
DTSTART;TZID=UTC:20290501T100000
DTEND;TZID=UTC:20290501T110000
DTSTAMP:20260426T005016
CREATED:20241107T103814Z
LAST-MODIFIED:20250213T142056Z
UID:10000496-1872324000-1872327600@hawickbaptistchurch.com
SUMMARY:MAINLY PLAY
DESCRIPTION:
URL:https://hawickbaptistchurch.com/event/mainly-play-2/2029-05-01/
LOCATION:Hawick Baptist Church\, North Bridge Street\, Hawick\, United Kingdom
ORGANIZER;CN="Mainly Play HBC":MAILTO:mainlyplayhbc@gmail.com
END:VEVENT
BEGIN:VEVENT
DTSTART;TZID=UTC:20290508T100000
DTEND;TZID=UTC:20290508T110000
DTSTAMP:20260426T005016
CREATED:20241107T103814Z
LAST-MODIFIED:20250213T142056Z
UID:10000497-1872928800-1872932400@hawickbaptistchurch.com
SUMMARY:MAINLY PLAY
DESCRIPTION:
URL:https://hawickbaptistchurch.com/event/mainly-play-2/2029-05-08/
LOCATION:Hawick Baptist Church\, North Bridge Street\, Hawick\, United Kingdom
ORGANIZER;CN="Mainly Play HBC":MAILTO:mainlyplayhbc@gmail.com
END:VEVENT
BEGIN:VEVENT
DTSTART;TZID=UTC:20290515T100000
DTEND;TZID=UTC:20290515T110000
DTSTAMP:20260426T005016
CREATED:20241107T103814Z
LAST-MODIFIED:20250213T142056Z
UID:10000498-1873533600-1873537200@hawickbaptistchurch.com
SUMMARY:MAINLY PLAY
DESCRIPTION:
URL:https://hawickbaptistchurch.com/event/mainly-play-2/2029-05-15/
LOCATION:Hawick Baptist Church\, North Bridge Street\, Hawick\, United Kingdom
ORGANIZER;CN="Mainly Play HBC":MAILTO:mainlyplayhbc@gmail.com
END:VEVENT
BEGIN:VEVENT
DTSTART;TZID=UTC:20290522T100000
DTEND;TZID=UTC:20290522T110000
DTSTAMP:20260426T005016
CREATED:20241107T103814Z
LAST-MODIFIED:20250213T142056Z
UID:10000499-1874138400-1874142000@hawickbaptistchurch.com
SUMMARY:MAINLY PLAY
DESCRIPTION:
URL:https://hawickbaptistchurch.com/event/mainly-play-2/2029-05-22/
LOCATION:Hawick Baptist Church\, North Bridge Street\, Hawick\, United Kingdom
ORGANIZER;CN="Mainly Play HBC":MAILTO:mainlyplayhbc@gmail.com
END:VEVENT
BEGIN:VEVENT
DTSTART;TZID=UTC:20290529T100000
DTEND;TZID=UTC:20290529T110000
DTSTAMP:20260426T005016
CREATED:20241107T103814Z
LAST-MODIFIED:20250213T142056Z
UID:10000500-1874743200-1874746800@hawickbaptistchurch.com
SUMMARY:MAINLY PLAY
DESCRIPTION:
URL:https://hawickbaptistchurch.com/event/mainly-play-2/2029-05-29/
LOCATION:Hawick Baptist Church\, North Bridge Street\, Hawick\, United Kingdom
ORGANIZER;CN="Mainly Play HBC":MAILTO:mainlyplayhbc@gmail.com
END:VEVENT
BEGIN:VEVENT
DTSTART;TZID=UTC:20290605T100000
DTEND;TZID=UTC:20290605T110000
DTSTAMP:20260426T005016
CREATED:20241107T103814Z
LAST-MODIFIED:20250213T142056Z
UID:10000501-1875348000-1875351600@hawickbaptistchurch.com
SUMMARY:MAINLY PLAY
DESCRIPTION:
URL:https://hawickbaptistchurch.com/event/mainly-play-2/2029-06-05/
LOCATION:Hawick Baptist Church\, North Bridge Street\, Hawick\, United Kingdom
ORGANIZER;CN="Mainly Play HBC":MAILTO:mainlyplayhbc@gmail.com
END:VEVENT
BEGIN:VEVENT
DTSTART;TZID=UTC:20290612T100000
DTEND;TZID=UTC:20290612T110000
DTSTAMP:20260426T005016
CREATED:20241107T103814Z
LAST-MODIFIED:20250213T142056Z
UID:10000502-1875952800-1875956400@hawickbaptistchurch.com
SUMMARY:MAINLY PLAY
DESCRIPTION:
URL:https://hawickbaptistchurch.com/event/mainly-play-2/2029-06-12/
LOCATION:Hawick Baptist Church\, North Bridge Street\, Hawick\, United Kingdom
ORGANIZER;CN="Mainly Play HBC":MAILTO:mainlyplayhbc@gmail.com
END:VEVENT
BEGIN:VEVENT
DTSTART;TZID=UTC:20290619T100000
DTEND;TZID=UTC:20290619T110000
DTSTAMP:20260426T005016
CREATED:20241107T103814Z
LAST-MODIFIED:20250213T142056Z
UID:10000503-1876557600-1876561200@hawickbaptistchurch.com
SUMMARY:MAINLY PLAY
DESCRIPTION:
URL:https://hawickbaptistchurch.com/event/mainly-play-2/2029-06-19/
LOCATION:Hawick Baptist Church\, North Bridge Street\, Hawick\, United Kingdom
ORGANIZER;CN="Mainly Play HBC":MAILTO:mainlyplayhbc@gmail.com
END:VEVENT
BEGIN:VEVENT
DTSTART;TZID=UTC:20290626T100000
DTEND;TZID=UTC:20290626T110000
DTSTAMP:20260426T005016
CREATED:20241107T103814Z
LAST-MODIFIED:20250213T142056Z
UID:10000504-1877162400-1877166000@hawickbaptistchurch.com
SUMMARY:MAINLY PLAY
DESCRIPTION:
URL:https://hawickbaptistchurch.com/event/mainly-play-2/2029-06-26/
LOCATION:Hawick Baptist Church\, North Bridge Street\, Hawick\, United Kingdom
ORGANIZER;CN="Mainly Play HBC":MAILTO:mainlyplayhbc@gmail.com
END:VEVENT
BEGIN:VEVENT
DTSTART;TZID=UTC:20290703T100000
DTEND;TZID=UTC:20290703T110000
DTSTAMP:20260426T005016
CREATED:20241107T103814Z
LAST-MODIFIED:20250213T142056Z
UID:10000505-1877767200-1877770800@hawickbaptistchurch.com
SUMMARY:MAINLY PLAY
DESCRIPTION:
URL:https://hawickbaptistchurch.com/event/mainly-play-2/2029-07-03/
LOCATION:Hawick Baptist Church\, North Bridge Street\, Hawick\, United Kingdom
ORGANIZER;CN="Mainly Play HBC":MAILTO:mainlyplayhbc@gmail.com
END:VEVENT
BEGIN:VEVENT
DTSTART;TZID=UTC:20290710T100000
DTEND;TZID=UTC:20290710T110000
DTSTAMP:20260426T005016
CREATED:20241107T103814Z
LAST-MODIFIED:20250213T142056Z
UID:10000506-1878372000-1878375600@hawickbaptistchurch.com
SUMMARY:MAINLY PLAY
DESCRIPTION:
URL:https://hawickbaptistchurch.com/event/mainly-play-2/2029-07-10/
LOCATION:Hawick Baptist Church\, North Bridge Street\, Hawick\, United Kingdom
ORGANIZER;CN="Mainly Play HBC":MAILTO:mainlyplayhbc@gmail.com
END:VEVENT
BEGIN:VEVENT
DTSTART;TZID=UTC:20290717T100000
DTEND;TZID=UTC:20290717T110000
DTSTAMP:20260426T005016
CREATED:20241107T103814Z
LAST-MODIFIED:20250213T142056Z
UID:10000507-1878976800-1878980400@hawickbaptistchurch.com
SUMMARY:MAINLY PLAY
DESCRIPTION:
URL:https://hawickbaptistchurch.com/event/mainly-play-2/2029-07-17/
LOCATION:Hawick Baptist Church\, North Bridge Street\, Hawick\, United Kingdom
ORGANIZER;CN="Mainly Play HBC":MAILTO:mainlyplayhbc@gmail.com
END:VEVENT
BEGIN:VEVENT
DTSTART;TZID=UTC:20290724T100000
DTEND;TZID=UTC:20290724T110000
DTSTAMP:20260426T005016
CREATED:20241107T103814Z
LAST-MODIFIED:20250213T142056Z
UID:10000508-1879581600-1879585200@hawickbaptistchurch.com
SUMMARY:MAINLY PLAY
DESCRIPTION:
URL:https://hawickbaptistchurch.com/event/mainly-play-2/2029-07-24/
LOCATION:Hawick Baptist Church\, North Bridge Street\, Hawick\, United Kingdom
ORGANIZER;CN="Mainly Play HBC":MAILTO:mainlyplayhbc@gmail.com
END:VEVENT
END:VCALENDAR