BEGIN:VCALENDAR
VERSION:2.0
PRODID:-//Hawick Baptist Church - ECPv6.15.20//NONSGML v1.0//EN
CALSCALE:GREGORIAN
METHOD:PUBLISH
X-WR-CALNAME:Hawick Baptist Church
X-ORIGINAL-URL:https://hawickbaptistchurch.com
X-WR-CALDESC:Events for Hawick Baptist Church
REFRESH-INTERVAL;VALUE=DURATION:PT1H
X-Robots-Tag:noindex
X-PUBLISHED-TTL:PT1H
BEGIN:VTIMEZONE
TZID:UTC
BEGIN:STANDARD
TZOFFSETFROM:+0000
TZOFFSETTO:+0000
TZNAME:UTC
DTSTART:20270101T000000
END:STANDARD
END:VTIMEZONE
BEGIN:VEVENT
DTSTART;TZID=UTC:20280620T100000
DTEND;TZID=UTC:20280620T110000
DTSTAMP:20260425T185700
CREATED:20241107T103814Z
LAST-MODIFIED:20250213T142056Z
UID:10000451-1845108000-1845111600@hawickbaptistchurch.com
SUMMARY:MAINLY PLAY
DESCRIPTION:
URL:https://hawickbaptistchurch.com/event/mainly-play-2/2028-06-20/
LOCATION:Hawick Baptist Church\, North Bridge Street\, Hawick\, United Kingdom
ORGANIZER;CN="Mainly Play HBC":MAILTO:mainlyplayhbc@gmail.com
END:VEVENT
BEGIN:VEVENT
DTSTART;TZID=UTC:20280627T100000
DTEND;TZID=UTC:20280627T110000
DTSTAMP:20260425T185700
CREATED:20241107T103814Z
LAST-MODIFIED:20250213T142056Z
UID:10000452-1845712800-1845716400@hawickbaptistchurch.com
SUMMARY:MAINLY PLAY
DESCRIPTION:
URL:https://hawickbaptistchurch.com/event/mainly-play-2/2028-06-27/
LOCATION:Hawick Baptist Church\, North Bridge Street\, Hawick\, United Kingdom
ORGANIZER;CN="Mainly Play HBC":MAILTO:mainlyplayhbc@gmail.com
END:VEVENT
BEGIN:VEVENT
DTSTART;TZID=UTC:20280704T100000
DTEND;TZID=UTC:20280704T110000
DTSTAMP:20260425T185700
CREATED:20241107T103814Z
LAST-MODIFIED:20250213T142056Z
UID:10000453-1846317600-1846321200@hawickbaptistchurch.com
SUMMARY:MAINLY PLAY
DESCRIPTION:
URL:https://hawickbaptistchurch.com/event/mainly-play-2/2028-07-04/
LOCATION:Hawick Baptist Church\, North Bridge Street\, Hawick\, United Kingdom
ORGANIZER;CN="Mainly Play HBC":MAILTO:mainlyplayhbc@gmail.com
END:VEVENT
BEGIN:VEVENT
DTSTART;TZID=UTC:20280711T100000
DTEND;TZID=UTC:20280711T110000
DTSTAMP:20260425T185700
CREATED:20241107T103814Z
LAST-MODIFIED:20250213T142056Z
UID:10000454-1846922400-1846926000@hawickbaptistchurch.com
SUMMARY:MAINLY PLAY
DESCRIPTION:
URL:https://hawickbaptistchurch.com/event/mainly-play-2/2028-07-11/
LOCATION:Hawick Baptist Church\, North Bridge Street\, Hawick\, United Kingdom
ORGANIZER;CN="Mainly Play HBC":MAILTO:mainlyplayhbc@gmail.com
END:VEVENT
BEGIN:VEVENT
DTSTART;TZID=UTC:20280718T100000
DTEND;TZID=UTC:20280718T110000
DTSTAMP:20260425T185700
CREATED:20241107T103814Z
LAST-MODIFIED:20250213T142056Z
UID:10000455-1847527200-1847530800@hawickbaptistchurch.com
SUMMARY:MAINLY PLAY
DESCRIPTION:
URL:https://hawickbaptistchurch.com/event/mainly-play-2/2028-07-18/
LOCATION:Hawick Baptist Church\, North Bridge Street\, Hawick\, United Kingdom
ORGANIZER;CN="Mainly Play HBC":MAILTO:mainlyplayhbc@gmail.com
END:VEVENT
BEGIN:VEVENT
DTSTART;TZID=UTC:20280725T100000
DTEND;TZID=UTC:20280725T110000
DTSTAMP:20260425T185700
CREATED:20241107T103814Z
LAST-MODIFIED:20250213T142056Z
UID:10000456-1848132000-1848135600@hawickbaptistchurch.com
SUMMARY:MAINLY PLAY
DESCRIPTION:
URL:https://hawickbaptistchurch.com/event/mainly-play-2/2028-07-25/
LOCATION:Hawick Baptist Church\, North Bridge Street\, Hawick\, United Kingdom
ORGANIZER;CN="Mainly Play HBC":MAILTO:mainlyplayhbc@gmail.com
END:VEVENT
BEGIN:VEVENT
DTSTART;TZID=UTC:20280801T100000
DTEND;TZID=UTC:20280801T110000
DTSTAMP:20260425T185700
CREATED:20241107T103814Z
LAST-MODIFIED:20250213T142056Z
UID:10000457-1848736800-1848740400@hawickbaptistchurch.com
SUMMARY:MAINLY PLAY
DESCRIPTION:
URL:https://hawickbaptistchurch.com/event/mainly-play-2/2028-08-01/
LOCATION:Hawick Baptist Church\, North Bridge Street\, Hawick\, United Kingdom
ORGANIZER;CN="Mainly Play HBC":MAILTO:mainlyplayhbc@gmail.com
END:VEVENT
BEGIN:VEVENT
DTSTART;TZID=UTC:20280808T100000
DTEND;TZID=UTC:20280808T110000
DTSTAMP:20260425T185700
CREATED:20241107T103814Z
LAST-MODIFIED:20250213T142056Z
UID:10000458-1849341600-1849345200@hawickbaptistchurch.com
SUMMARY:MAINLY PLAY
DESCRIPTION:
URL:https://hawickbaptistchurch.com/event/mainly-play-2/2028-08-08/
LOCATION:Hawick Baptist Church\, North Bridge Street\, Hawick\, United Kingdom
ORGANIZER;CN="Mainly Play HBC":MAILTO:mainlyplayhbc@gmail.com
END:VEVENT
BEGIN:VEVENT
DTSTART;TZID=UTC:20280815T100000
DTEND;TZID=UTC:20280815T110000
DTSTAMP:20260425T185700
CREATED:20241107T103814Z
LAST-MODIFIED:20250213T142056Z
UID:10000459-1849946400-1849950000@hawickbaptistchurch.com
SUMMARY:MAINLY PLAY
DESCRIPTION:
URL:https://hawickbaptistchurch.com/event/mainly-play-2/2028-08-15/
LOCATION:Hawick Baptist Church\, North Bridge Street\, Hawick\, United Kingdom
ORGANIZER;CN="Mainly Play HBC":MAILTO:mainlyplayhbc@gmail.com
END:VEVENT
BEGIN:VEVENT
DTSTART;TZID=UTC:20280822T100000
DTEND;TZID=UTC:20280822T110000
DTSTAMP:20260425T185700
CREATED:20241107T103814Z
LAST-MODIFIED:20250213T142056Z
UID:10000460-1850551200-1850554800@hawickbaptistchurch.com
SUMMARY:MAINLY PLAY
DESCRIPTION:
URL:https://hawickbaptistchurch.com/event/mainly-play-2/2028-08-22/
LOCATION:Hawick Baptist Church\, North Bridge Street\, Hawick\, United Kingdom
ORGANIZER;CN="Mainly Play HBC":MAILTO:mainlyplayhbc@gmail.com
END:VEVENT
BEGIN:VEVENT
DTSTART;TZID=UTC:20280829T100000
DTEND;TZID=UTC:20280829T110000
DTSTAMP:20260425T185700
CREATED:20241107T103814Z
LAST-MODIFIED:20250213T142056Z
UID:10000461-1851156000-1851159600@hawickbaptistchurch.com
SUMMARY:MAINLY PLAY
DESCRIPTION:
URL:https://hawickbaptistchurch.com/event/mainly-play-2/2028-08-29/
LOCATION:Hawick Baptist Church\, North Bridge Street\, Hawick\, United Kingdom
ORGANIZER;CN="Mainly Play HBC":MAILTO:mainlyplayhbc@gmail.com
END:VEVENT
BEGIN:VEVENT
DTSTART;TZID=UTC:20280905T100000
DTEND;TZID=UTC:20280905T110000
DTSTAMP:20260425T185700
CREATED:20241107T103814Z
LAST-MODIFIED:20250213T142056Z
UID:10000462-1851760800-1851764400@hawickbaptistchurch.com
SUMMARY:MAINLY PLAY
DESCRIPTION:
URL:https://hawickbaptistchurch.com/event/mainly-play-2/2028-09-05/
LOCATION:Hawick Baptist Church\, North Bridge Street\, Hawick\, United Kingdom
ORGANIZER;CN="Mainly Play HBC":MAILTO:mainlyplayhbc@gmail.com
END:VEVENT
BEGIN:VEVENT
DTSTART;TZID=UTC:20280912T100000
DTEND;TZID=UTC:20280912T110000
DTSTAMP:20260425T185700
CREATED:20241107T103814Z
LAST-MODIFIED:20250213T142056Z
UID:10000463-1852365600-1852369200@hawickbaptistchurch.com
SUMMARY:MAINLY PLAY
DESCRIPTION:
URL:https://hawickbaptistchurch.com/event/mainly-play-2/2028-09-12/
LOCATION:Hawick Baptist Church\, North Bridge Street\, Hawick\, United Kingdom
ORGANIZER;CN="Mainly Play HBC":MAILTO:mainlyplayhbc@gmail.com
END:VEVENT
BEGIN:VEVENT
DTSTART;TZID=UTC:20280919T100000
DTEND;TZID=UTC:20280919T110000
DTSTAMP:20260425T185700
CREATED:20241107T103814Z
LAST-MODIFIED:20250213T142056Z
UID:10000464-1852970400-1852974000@hawickbaptistchurch.com
SUMMARY:MAINLY PLAY
DESCRIPTION:
URL:https://hawickbaptistchurch.com/event/mainly-play-2/2028-09-19/
LOCATION:Hawick Baptist Church\, North Bridge Street\, Hawick\, United Kingdom
ORGANIZER;CN="Mainly Play HBC":MAILTO:mainlyplayhbc@gmail.com
END:VEVENT
BEGIN:VEVENT
DTSTART;TZID=UTC:20280926T100000
DTEND;TZID=UTC:20280926T110000
DTSTAMP:20260425T185700
CREATED:20241107T103814Z
LAST-MODIFIED:20250213T142056Z
UID:10000465-1853575200-1853578800@hawickbaptistchurch.com
SUMMARY:MAINLY PLAY
DESCRIPTION:
URL:https://hawickbaptistchurch.com/event/mainly-play-2/2028-09-26/
LOCATION:Hawick Baptist Church\, North Bridge Street\, Hawick\, United Kingdom
ORGANIZER;CN="Mainly Play HBC":MAILTO:mainlyplayhbc@gmail.com
END:VEVENT
BEGIN:VEVENT
DTSTART;TZID=UTC:20281003T100000
DTEND;TZID=UTC:20281003T110000
DTSTAMP:20260425T185700
CREATED:20241107T103814Z
LAST-MODIFIED:20250213T142056Z
UID:10000466-1854180000-1854183600@hawickbaptistchurch.com
SUMMARY:MAINLY PLAY
DESCRIPTION:
URL:https://hawickbaptistchurch.com/event/mainly-play-2/2028-10-03/
LOCATION:Hawick Baptist Church\, North Bridge Street\, Hawick\, United Kingdom
ORGANIZER;CN="Mainly Play HBC":MAILTO:mainlyplayhbc@gmail.com
END:VEVENT
BEGIN:VEVENT
DTSTART;TZID=UTC:20281010T100000
DTEND;TZID=UTC:20281010T110000
DTSTAMP:20260425T185700
CREATED:20241107T103814Z
LAST-MODIFIED:20250213T142056Z
UID:10000467-1854784800-1854788400@hawickbaptistchurch.com
SUMMARY:MAINLY PLAY
DESCRIPTION:
URL:https://hawickbaptistchurch.com/event/mainly-play-2/2028-10-10/
LOCATION:Hawick Baptist Church\, North Bridge Street\, Hawick\, United Kingdom
ORGANIZER;CN="Mainly Play HBC":MAILTO:mainlyplayhbc@gmail.com
END:VEVENT
BEGIN:VEVENT
DTSTART;TZID=UTC:20281017T100000
DTEND;TZID=UTC:20281017T110000
DTSTAMP:20260425T185700
CREATED:20241107T103814Z
LAST-MODIFIED:20250213T142056Z
UID:10000468-1855389600-1855393200@hawickbaptistchurch.com
SUMMARY:MAINLY PLAY
DESCRIPTION:
URL:https://hawickbaptistchurch.com/event/mainly-play-2/2028-10-17/
LOCATION:Hawick Baptist Church\, North Bridge Street\, Hawick\, United Kingdom
ORGANIZER;CN="Mainly Play HBC":MAILTO:mainlyplayhbc@gmail.com
END:VEVENT
BEGIN:VEVENT
DTSTART;TZID=UTC:20281024T100000
DTEND;TZID=UTC:20281024T110000
DTSTAMP:20260425T185700
CREATED:20241107T103814Z
LAST-MODIFIED:20250213T142056Z
UID:10000469-1855994400-1855998000@hawickbaptistchurch.com
SUMMARY:MAINLY PLAY
DESCRIPTION:
URL:https://hawickbaptistchurch.com/event/mainly-play-2/2028-10-24/
LOCATION:Hawick Baptist Church\, North Bridge Street\, Hawick\, United Kingdom
ORGANIZER;CN="Mainly Play HBC":MAILTO:mainlyplayhbc@gmail.com
END:VEVENT
BEGIN:VEVENT
DTSTART;TZID=UTC:20281031T100000
DTEND;TZID=UTC:20281031T110000
DTSTAMP:20260425T185700
CREATED:20241107T103814Z
LAST-MODIFIED:20250213T142056Z
UID:10000470-1856599200-1856602800@hawickbaptistchurch.com
SUMMARY:MAINLY PLAY
DESCRIPTION:
URL:https://hawickbaptistchurch.com/event/mainly-play-2/2028-10-31/
LOCATION:Hawick Baptist Church\, North Bridge Street\, Hawick\, United Kingdom
ORGANIZER;CN="Mainly Play HBC":MAILTO:mainlyplayhbc@gmail.com
END:VEVENT
BEGIN:VEVENT
DTSTART;TZID=UTC:20281107T100000
DTEND;TZID=UTC:20281107T110000
DTSTAMP:20260425T185700
CREATED:20241107T103814Z
LAST-MODIFIED:20250213T142056Z
UID:10000471-1857204000-1857207600@hawickbaptistchurch.com
SUMMARY:MAINLY PLAY
DESCRIPTION:
URL:https://hawickbaptistchurch.com/event/mainly-play-2/2028-11-07/
LOCATION:Hawick Baptist Church\, North Bridge Street\, Hawick\, United Kingdom
ORGANIZER;CN="Mainly Play HBC":MAILTO:mainlyplayhbc@gmail.com
END:VEVENT
BEGIN:VEVENT
DTSTART;TZID=UTC:20281114T100000
DTEND;TZID=UTC:20281114T110000
DTSTAMP:20260425T185700
CREATED:20241107T103814Z
LAST-MODIFIED:20250213T142056Z
UID:10000472-1857808800-1857812400@hawickbaptistchurch.com
SUMMARY:MAINLY PLAY
DESCRIPTION:
URL:https://hawickbaptistchurch.com/event/mainly-play-2/2028-11-14/
LOCATION:Hawick Baptist Church\, North Bridge Street\, Hawick\, United Kingdom
ORGANIZER;CN="Mainly Play HBC":MAILTO:mainlyplayhbc@gmail.com
END:VEVENT
BEGIN:VEVENT
DTSTART;TZID=UTC:20281121T100000
DTEND;TZID=UTC:20281121T110000
DTSTAMP:20260425T185700
CREATED:20241107T103814Z
LAST-MODIFIED:20250213T142056Z
UID:10000473-1858413600-1858417200@hawickbaptistchurch.com
SUMMARY:MAINLY PLAY
DESCRIPTION:
URL:https://hawickbaptistchurch.com/event/mainly-play-2/2028-11-21/
LOCATION:Hawick Baptist Church\, North Bridge Street\, Hawick\, United Kingdom
ORGANIZER;CN="Mainly Play HBC":MAILTO:mainlyplayhbc@gmail.com
END:VEVENT
BEGIN:VEVENT
DTSTART;TZID=UTC:20281128T100000
DTEND;TZID=UTC:20281128T110000
DTSTAMP:20260425T185700
CREATED:20241107T103814Z
LAST-MODIFIED:20250213T142056Z
UID:10000474-1859018400-1859022000@hawickbaptistchurch.com
SUMMARY:MAINLY PLAY
DESCRIPTION:
URL:https://hawickbaptistchurch.com/event/mainly-play-2/2028-11-28/
LOCATION:Hawick Baptist Church\, North Bridge Street\, Hawick\, United Kingdom
ORGANIZER;CN="Mainly Play HBC":MAILTO:mainlyplayhbc@gmail.com
END:VEVENT
BEGIN:VEVENT
DTSTART;TZID=UTC:20281205T100000
DTEND;TZID=UTC:20281205T110000
DTSTAMP:20260425T185700
CREATED:20241107T103814Z
LAST-MODIFIED:20250213T142056Z
UID:10000475-1859623200-1859626800@hawickbaptistchurch.com
SUMMARY:MAINLY PLAY
DESCRIPTION:
URL:https://hawickbaptistchurch.com/event/mainly-play-2/2028-12-05/
LOCATION:Hawick Baptist Church\, North Bridge Street\, Hawick\, United Kingdom
ORGANIZER;CN="Mainly Play HBC":MAILTO:mainlyplayhbc@gmail.com
END:VEVENT
BEGIN:VEVENT
DTSTART;TZID=UTC:20281212T100000
DTEND;TZID=UTC:20281212T110000
DTSTAMP:20260425T185700
CREATED:20241107T103814Z
LAST-MODIFIED:20250213T142056Z
UID:10000476-1860228000-1860231600@hawickbaptistchurch.com
SUMMARY:MAINLY PLAY
DESCRIPTION:
URL:https://hawickbaptistchurch.com/event/mainly-play-2/2028-12-12/
LOCATION:Hawick Baptist Church\, North Bridge Street\, Hawick\, United Kingdom
ORGANIZER;CN="Mainly Play HBC":MAILTO:mainlyplayhbc@gmail.com
END:VEVENT
BEGIN:VEVENT
DTSTART;TZID=UTC:20281219T100000
DTEND;TZID=UTC:20281219T110000
DTSTAMP:20260425T185700
CREATED:20241107T103814Z
LAST-MODIFIED:20250213T142056Z
UID:10000477-1860832800-1860836400@hawickbaptistchurch.com
SUMMARY:MAINLY PLAY
DESCRIPTION:
URL:https://hawickbaptistchurch.com/event/mainly-play-2/2028-12-19/
LOCATION:Hawick Baptist Church\, North Bridge Street\, Hawick\, United Kingdom
ORGANIZER;CN="Mainly Play HBC":MAILTO:mainlyplayhbc@gmail.com
END:VEVENT
BEGIN:VEVENT
DTSTART;TZID=UTC:20281226T100000
DTEND;TZID=UTC:20281226T110000
DTSTAMP:20260425T185700
CREATED:20241107T103814Z
LAST-MODIFIED:20250213T142056Z
UID:10000478-1861437600-1861441200@hawickbaptistchurch.com
SUMMARY:MAINLY PLAY
DESCRIPTION:
URL:https://hawickbaptistchurch.com/event/mainly-play-2/2028-12-26/
LOCATION:Hawick Baptist Church\, North Bridge Street\, Hawick\, United Kingdom
ORGANIZER;CN="Mainly Play HBC":MAILTO:mainlyplayhbc@gmail.com
END:VEVENT
BEGIN:VEVENT
DTSTART;TZID=UTC:20290102T100000
DTEND;TZID=UTC:20290102T110000
DTSTAMP:20260425T185700
CREATED:20241107T103814Z
LAST-MODIFIED:20250213T142056Z
UID:10000479-1862042400-1862046000@hawickbaptistchurch.com
SUMMARY:MAINLY PLAY
DESCRIPTION:
URL:https://hawickbaptistchurch.com/event/mainly-play-2/2029-01-02/
LOCATION:Hawick Baptist Church\, North Bridge Street\, Hawick\, United Kingdom
ORGANIZER;CN="Mainly Play HBC":MAILTO:mainlyplayhbc@gmail.com
END:VEVENT
BEGIN:VEVENT
DTSTART;TZID=UTC:20290109T100000
DTEND;TZID=UTC:20290109T110000
DTSTAMP:20260425T185700
CREATED:20241107T103814Z
LAST-MODIFIED:20250213T142056Z
UID:10000480-1862647200-1862650800@hawickbaptistchurch.com
SUMMARY:MAINLY PLAY
DESCRIPTION:
URL:https://hawickbaptistchurch.com/event/mainly-play-2/2029-01-09/
LOCATION:Hawick Baptist Church\, North Bridge Street\, Hawick\, United Kingdom
ORGANIZER;CN="Mainly Play HBC":MAILTO:mainlyplayhbc@gmail.com
END:VEVENT
END:VCALENDAR