BEGIN:VCALENDAR
VERSION:2.0
PRODID:-//Hawick Baptist Church - ECPv6.15.20//NONSGML v1.0//EN
CALSCALE:GREGORIAN
METHOD:PUBLISH
X-WR-CALNAME:Hawick Baptist Church
X-ORIGINAL-URL:https://hawickbaptistchurch.com
X-WR-CALDESC:Events for Hawick Baptist Church
REFRESH-INTERVAL;VALUE=DURATION:PT1H
X-Robots-Tag:noindex
X-PUBLISHED-TTL:PT1H
BEGIN:VTIMEZONE
TZID:UTC
BEGIN:STANDARD
TZOFFSETFROM:+0000
TZOFFSETTO:+0000
TZNAME:UTC
DTSTART:20260101T000000
END:STANDARD
END:VTIMEZONE
BEGIN:VEVENT
DTSTART;TZID=UTC:20271019T100000
DTEND;TZID=UTC:20271019T110000
DTSTAMP:20260425T113857
CREATED:20241107T103814Z
LAST-MODIFIED:20250213T142056Z
UID:10000416-1823940000-1823943600@hawickbaptistchurch.com
SUMMARY:MAINLY PLAY
DESCRIPTION:
URL:https://hawickbaptistchurch.com/event/mainly-play-2/2027-10-19/
LOCATION:Hawick Baptist Church\, North Bridge Street\, Hawick\, United Kingdom
ORGANIZER;CN="Mainly Play HBC":MAILTO:mainlyplayhbc@gmail.com
END:VEVENT
BEGIN:VEVENT
DTSTART;TZID=UTC:20271026T100000
DTEND;TZID=UTC:20271026T110000
DTSTAMP:20260425T113857
CREATED:20241107T103814Z
LAST-MODIFIED:20250213T142056Z
UID:10000417-1824544800-1824548400@hawickbaptistchurch.com
SUMMARY:MAINLY PLAY
DESCRIPTION:
URL:https://hawickbaptistchurch.com/event/mainly-play-2/2027-10-26/
LOCATION:Hawick Baptist Church\, North Bridge Street\, Hawick\, United Kingdom
ORGANIZER;CN="Mainly Play HBC":MAILTO:mainlyplayhbc@gmail.com
END:VEVENT
BEGIN:VEVENT
DTSTART;TZID=UTC:20271102T100000
DTEND;TZID=UTC:20271102T110000
DTSTAMP:20260425T113857
CREATED:20241107T103814Z
LAST-MODIFIED:20250213T142056Z
UID:10000418-1825149600-1825153200@hawickbaptistchurch.com
SUMMARY:MAINLY PLAY
DESCRIPTION:
URL:https://hawickbaptistchurch.com/event/mainly-play-2/2027-11-02/
LOCATION:Hawick Baptist Church\, North Bridge Street\, Hawick\, United Kingdom
ORGANIZER;CN="Mainly Play HBC":MAILTO:mainlyplayhbc@gmail.com
END:VEVENT
BEGIN:VEVENT
DTSTART;TZID=UTC:20271109T100000
DTEND;TZID=UTC:20271109T110000
DTSTAMP:20260425T113857
CREATED:20241107T103814Z
LAST-MODIFIED:20250213T142056Z
UID:10000419-1825754400-1825758000@hawickbaptistchurch.com
SUMMARY:MAINLY PLAY
DESCRIPTION:
URL:https://hawickbaptistchurch.com/event/mainly-play-2/2027-11-09/
LOCATION:Hawick Baptist Church\, North Bridge Street\, Hawick\, United Kingdom
ORGANIZER;CN="Mainly Play HBC":MAILTO:mainlyplayhbc@gmail.com
END:VEVENT
BEGIN:VEVENT
DTSTART;TZID=UTC:20271116T100000
DTEND;TZID=UTC:20271116T110000
DTSTAMP:20260425T113857
CREATED:20241107T103814Z
LAST-MODIFIED:20250213T142056Z
UID:10000420-1826359200-1826362800@hawickbaptistchurch.com
SUMMARY:MAINLY PLAY
DESCRIPTION:
URL:https://hawickbaptistchurch.com/event/mainly-play-2/2027-11-16/
LOCATION:Hawick Baptist Church\, North Bridge Street\, Hawick\, United Kingdom
ORGANIZER;CN="Mainly Play HBC":MAILTO:mainlyplayhbc@gmail.com
END:VEVENT
BEGIN:VEVENT
DTSTART;TZID=UTC:20271123T100000
DTEND;TZID=UTC:20271123T110000
DTSTAMP:20260425T113857
CREATED:20241107T103814Z
LAST-MODIFIED:20250213T142056Z
UID:10000421-1826964000-1826967600@hawickbaptistchurch.com
SUMMARY:MAINLY PLAY
DESCRIPTION:
URL:https://hawickbaptistchurch.com/event/mainly-play-2/2027-11-23/
LOCATION:Hawick Baptist Church\, North Bridge Street\, Hawick\, United Kingdom
ORGANIZER;CN="Mainly Play HBC":MAILTO:mainlyplayhbc@gmail.com
END:VEVENT
BEGIN:VEVENT
DTSTART;TZID=UTC:20271130T100000
DTEND;TZID=UTC:20271130T110000
DTSTAMP:20260425T113857
CREATED:20241107T103814Z
LAST-MODIFIED:20250213T142056Z
UID:10000422-1827568800-1827572400@hawickbaptistchurch.com
SUMMARY:MAINLY PLAY
DESCRIPTION:
URL:https://hawickbaptistchurch.com/event/mainly-play-2/2027-11-30/
LOCATION:Hawick Baptist Church\, North Bridge Street\, Hawick\, United Kingdom
ORGANIZER;CN="Mainly Play HBC":MAILTO:mainlyplayhbc@gmail.com
END:VEVENT
BEGIN:VEVENT
DTSTART;TZID=UTC:20271207T100000
DTEND;TZID=UTC:20271207T110000
DTSTAMP:20260425T113857
CREATED:20241107T103814Z
LAST-MODIFIED:20250213T142056Z
UID:10000423-1828173600-1828177200@hawickbaptistchurch.com
SUMMARY:MAINLY PLAY
DESCRIPTION:
URL:https://hawickbaptistchurch.com/event/mainly-play-2/2027-12-07/
LOCATION:Hawick Baptist Church\, North Bridge Street\, Hawick\, United Kingdom
ORGANIZER;CN="Mainly Play HBC":MAILTO:mainlyplayhbc@gmail.com
END:VEVENT
BEGIN:VEVENT
DTSTART;TZID=UTC:20271214T100000
DTEND;TZID=UTC:20271214T110000
DTSTAMP:20260425T113857
CREATED:20241107T103814Z
LAST-MODIFIED:20250213T142056Z
UID:10000424-1828778400-1828782000@hawickbaptistchurch.com
SUMMARY:MAINLY PLAY
DESCRIPTION:
URL:https://hawickbaptistchurch.com/event/mainly-play-2/2027-12-14/
LOCATION:Hawick Baptist Church\, North Bridge Street\, Hawick\, United Kingdom
ORGANIZER;CN="Mainly Play HBC":MAILTO:mainlyplayhbc@gmail.com
END:VEVENT
BEGIN:VEVENT
DTSTART;TZID=UTC:20271221T100000
DTEND;TZID=UTC:20271221T110000
DTSTAMP:20260425T113857
CREATED:20241107T103814Z
LAST-MODIFIED:20250213T142056Z
UID:10000425-1829383200-1829386800@hawickbaptistchurch.com
SUMMARY:MAINLY PLAY
DESCRIPTION:
URL:https://hawickbaptistchurch.com/event/mainly-play-2/2027-12-21/
LOCATION:Hawick Baptist Church\, North Bridge Street\, Hawick\, United Kingdom
ORGANIZER;CN="Mainly Play HBC":MAILTO:mainlyplayhbc@gmail.com
END:VEVENT
BEGIN:VEVENT
DTSTART;TZID=UTC:20271228T100000
DTEND;TZID=UTC:20271228T110000
DTSTAMP:20260425T113857
CREATED:20241107T103814Z
LAST-MODIFIED:20250213T142056Z
UID:10000426-1829988000-1829991600@hawickbaptistchurch.com
SUMMARY:MAINLY PLAY
DESCRIPTION:
URL:https://hawickbaptistchurch.com/event/mainly-play-2/2027-12-28/
LOCATION:Hawick Baptist Church\, North Bridge Street\, Hawick\, United Kingdom
ORGANIZER;CN="Mainly Play HBC":MAILTO:mainlyplayhbc@gmail.com
END:VEVENT
BEGIN:VEVENT
DTSTART;TZID=UTC:20280104T100000
DTEND;TZID=UTC:20280104T110000
DTSTAMP:20260425T113857
CREATED:20241107T103814Z
LAST-MODIFIED:20250213T142056Z
UID:10000427-1830592800-1830596400@hawickbaptistchurch.com
SUMMARY:MAINLY PLAY
DESCRIPTION:
URL:https://hawickbaptistchurch.com/event/mainly-play-2/2028-01-04/
LOCATION:Hawick Baptist Church\, North Bridge Street\, Hawick\, United Kingdom
ORGANIZER;CN="Mainly Play HBC":MAILTO:mainlyplayhbc@gmail.com
END:VEVENT
BEGIN:VEVENT
DTSTART;TZID=UTC:20280111T100000
DTEND;TZID=UTC:20280111T110000
DTSTAMP:20260425T113857
CREATED:20241107T103814Z
LAST-MODIFIED:20250213T142056Z
UID:10000428-1831197600-1831201200@hawickbaptistchurch.com
SUMMARY:MAINLY PLAY
DESCRIPTION:
URL:https://hawickbaptistchurch.com/event/mainly-play-2/2028-01-11/
LOCATION:Hawick Baptist Church\, North Bridge Street\, Hawick\, United Kingdom
ORGANIZER;CN="Mainly Play HBC":MAILTO:mainlyplayhbc@gmail.com
END:VEVENT
BEGIN:VEVENT
DTSTART;TZID=UTC:20280118T100000
DTEND;TZID=UTC:20280118T110000
DTSTAMP:20260425T113857
CREATED:20241107T103814Z
LAST-MODIFIED:20250213T142056Z
UID:10000429-1831802400-1831806000@hawickbaptistchurch.com
SUMMARY:MAINLY PLAY
DESCRIPTION:
URL:https://hawickbaptistchurch.com/event/mainly-play-2/2028-01-18/
LOCATION:Hawick Baptist Church\, North Bridge Street\, Hawick\, United Kingdom
ORGANIZER;CN="Mainly Play HBC":MAILTO:mainlyplayhbc@gmail.com
END:VEVENT
BEGIN:VEVENT
DTSTART;TZID=UTC:20280125T100000
DTEND;TZID=UTC:20280125T110000
DTSTAMP:20260425T113857
CREATED:20241107T103814Z
LAST-MODIFIED:20250213T142056Z
UID:10000430-1832407200-1832410800@hawickbaptistchurch.com
SUMMARY:MAINLY PLAY
DESCRIPTION:
URL:https://hawickbaptistchurch.com/event/mainly-play-2/2028-01-25/
LOCATION:Hawick Baptist Church\, North Bridge Street\, Hawick\, United Kingdom
ORGANIZER;CN="Mainly Play HBC":MAILTO:mainlyplayhbc@gmail.com
END:VEVENT
BEGIN:VEVENT
DTSTART;TZID=UTC:20280201T100000
DTEND;TZID=UTC:20280201T110000
DTSTAMP:20260425T113857
CREATED:20241107T103814Z
LAST-MODIFIED:20250213T142056Z
UID:10000431-1833012000-1833015600@hawickbaptistchurch.com
SUMMARY:MAINLY PLAY
DESCRIPTION:
URL:https://hawickbaptistchurch.com/event/mainly-play-2/2028-02-01/
LOCATION:Hawick Baptist Church\, North Bridge Street\, Hawick\, United Kingdom
ORGANIZER;CN="Mainly Play HBC":MAILTO:mainlyplayhbc@gmail.com
END:VEVENT
BEGIN:VEVENT
DTSTART;TZID=UTC:20280208T100000
DTEND;TZID=UTC:20280208T110000
DTSTAMP:20260425T113857
CREATED:20241107T103814Z
LAST-MODIFIED:20250213T142056Z
UID:10000432-1833616800-1833620400@hawickbaptistchurch.com
SUMMARY:MAINLY PLAY
DESCRIPTION:
URL:https://hawickbaptistchurch.com/event/mainly-play-2/2028-02-08/
LOCATION:Hawick Baptist Church\, North Bridge Street\, Hawick\, United Kingdom
ORGANIZER;CN="Mainly Play HBC":MAILTO:mainlyplayhbc@gmail.com
END:VEVENT
BEGIN:VEVENT
DTSTART;TZID=UTC:20280215T100000
DTEND;TZID=UTC:20280215T110000
DTSTAMP:20260425T113857
CREATED:20241107T103814Z
LAST-MODIFIED:20250213T142056Z
UID:10000433-1834221600-1834225200@hawickbaptistchurch.com
SUMMARY:MAINLY PLAY
DESCRIPTION:
URL:https://hawickbaptistchurch.com/event/mainly-play-2/2028-02-15/
LOCATION:Hawick Baptist Church\, North Bridge Street\, Hawick\, United Kingdom
ORGANIZER;CN="Mainly Play HBC":MAILTO:mainlyplayhbc@gmail.com
END:VEVENT
BEGIN:VEVENT
DTSTART;TZID=UTC:20280222T100000
DTEND;TZID=UTC:20280222T110000
DTSTAMP:20260425T113857
CREATED:20241107T103814Z
LAST-MODIFIED:20250213T142056Z
UID:10000434-1834826400-1834830000@hawickbaptistchurch.com
SUMMARY:MAINLY PLAY
DESCRIPTION:
URL:https://hawickbaptistchurch.com/event/mainly-play-2/2028-02-22/
LOCATION:Hawick Baptist Church\, North Bridge Street\, Hawick\, United Kingdom
ORGANIZER;CN="Mainly Play HBC":MAILTO:mainlyplayhbc@gmail.com
END:VEVENT
BEGIN:VEVENT
DTSTART;TZID=UTC:20280229T100000
DTEND;TZID=UTC:20280229T110000
DTSTAMP:20260425T113857
CREATED:20241107T103814Z
LAST-MODIFIED:20250213T142056Z
UID:10000435-1835431200-1835434800@hawickbaptistchurch.com
SUMMARY:MAINLY PLAY
DESCRIPTION:
URL:https://hawickbaptistchurch.com/event/mainly-play-2/2028-02-29/
LOCATION:Hawick Baptist Church\, North Bridge Street\, Hawick\, United Kingdom
ORGANIZER;CN="Mainly Play HBC":MAILTO:mainlyplayhbc@gmail.com
END:VEVENT
BEGIN:VEVENT
DTSTART;TZID=UTC:20280307T100000
DTEND;TZID=UTC:20280307T110000
DTSTAMP:20260425T113857
CREATED:20241107T103814Z
LAST-MODIFIED:20250213T142056Z
UID:10000436-1836036000-1836039600@hawickbaptistchurch.com
SUMMARY:MAINLY PLAY
DESCRIPTION:
URL:https://hawickbaptistchurch.com/event/mainly-play-2/2028-03-07/
LOCATION:Hawick Baptist Church\, North Bridge Street\, Hawick\, United Kingdom
ORGANIZER;CN="Mainly Play HBC":MAILTO:mainlyplayhbc@gmail.com
END:VEVENT
BEGIN:VEVENT
DTSTART;TZID=UTC:20280314T100000
DTEND;TZID=UTC:20280314T110000
DTSTAMP:20260425T113857
CREATED:20241107T103814Z
LAST-MODIFIED:20250213T142056Z
UID:10000437-1836640800-1836644400@hawickbaptistchurch.com
SUMMARY:MAINLY PLAY
DESCRIPTION:
URL:https://hawickbaptistchurch.com/event/mainly-play-2/2028-03-14/
LOCATION:Hawick Baptist Church\, North Bridge Street\, Hawick\, United Kingdom
ORGANIZER;CN="Mainly Play HBC":MAILTO:mainlyplayhbc@gmail.com
END:VEVENT
BEGIN:VEVENT
DTSTART;TZID=UTC:20280321T100000
DTEND;TZID=UTC:20280321T110000
DTSTAMP:20260425T113857
CREATED:20241107T103814Z
LAST-MODIFIED:20250213T142056Z
UID:10000438-1837245600-1837249200@hawickbaptistchurch.com
SUMMARY:MAINLY PLAY
DESCRIPTION:
URL:https://hawickbaptistchurch.com/event/mainly-play-2/2028-03-21/
LOCATION:Hawick Baptist Church\, North Bridge Street\, Hawick\, United Kingdom
ORGANIZER;CN="Mainly Play HBC":MAILTO:mainlyplayhbc@gmail.com
END:VEVENT
BEGIN:VEVENT
DTSTART;TZID=UTC:20280328T100000
DTEND;TZID=UTC:20280328T110000
DTSTAMP:20260425T113857
CREATED:20241107T103814Z
LAST-MODIFIED:20250213T142056Z
UID:10000439-1837850400-1837854000@hawickbaptistchurch.com
SUMMARY:MAINLY PLAY
DESCRIPTION:
URL:https://hawickbaptistchurch.com/event/mainly-play-2/2028-03-28/
LOCATION:Hawick Baptist Church\, North Bridge Street\, Hawick\, United Kingdom
ORGANIZER;CN="Mainly Play HBC":MAILTO:mainlyplayhbc@gmail.com
END:VEVENT
BEGIN:VEVENT
DTSTART;TZID=UTC:20280404T100000
DTEND;TZID=UTC:20280404T110000
DTSTAMP:20260425T113857
CREATED:20241107T103814Z
LAST-MODIFIED:20250213T142056Z
UID:10000440-1838455200-1838458800@hawickbaptistchurch.com
SUMMARY:MAINLY PLAY
DESCRIPTION:
URL:https://hawickbaptistchurch.com/event/mainly-play-2/2028-04-04/
LOCATION:Hawick Baptist Church\, North Bridge Street\, Hawick\, United Kingdom
ORGANIZER;CN="Mainly Play HBC":MAILTO:mainlyplayhbc@gmail.com
END:VEVENT
BEGIN:VEVENT
DTSTART;TZID=UTC:20280411T100000
DTEND;TZID=UTC:20280411T110000
DTSTAMP:20260425T113857
CREATED:20241107T103814Z
LAST-MODIFIED:20250213T142056Z
UID:10000441-1839060000-1839063600@hawickbaptistchurch.com
SUMMARY:MAINLY PLAY
DESCRIPTION:
URL:https://hawickbaptistchurch.com/event/mainly-play-2/2028-04-11/
LOCATION:Hawick Baptist Church\, North Bridge Street\, Hawick\, United Kingdom
ORGANIZER;CN="Mainly Play HBC":MAILTO:mainlyplayhbc@gmail.com
END:VEVENT
BEGIN:VEVENT
DTSTART;TZID=UTC:20280418T100000
DTEND;TZID=UTC:20280418T110000
DTSTAMP:20260425T113857
CREATED:20241107T103814Z
LAST-MODIFIED:20250213T142056Z
UID:10000442-1839664800-1839668400@hawickbaptistchurch.com
SUMMARY:MAINLY PLAY
DESCRIPTION:
URL:https://hawickbaptistchurch.com/event/mainly-play-2/2028-04-18/
LOCATION:Hawick Baptist Church\, North Bridge Street\, Hawick\, United Kingdom
ORGANIZER;CN="Mainly Play HBC":MAILTO:mainlyplayhbc@gmail.com
END:VEVENT
BEGIN:VEVENT
DTSTART;TZID=UTC:20280425T100000
DTEND;TZID=UTC:20280425T110000
DTSTAMP:20260425T113857
CREATED:20241107T103814Z
LAST-MODIFIED:20250213T142056Z
UID:10000443-1840269600-1840273200@hawickbaptistchurch.com
SUMMARY:MAINLY PLAY
DESCRIPTION:
URL:https://hawickbaptistchurch.com/event/mainly-play-2/2028-04-25/
LOCATION:Hawick Baptist Church\, North Bridge Street\, Hawick\, United Kingdom
ORGANIZER;CN="Mainly Play HBC":MAILTO:mainlyplayhbc@gmail.com
END:VEVENT
BEGIN:VEVENT
DTSTART;TZID=UTC:20280502T100000
DTEND;TZID=UTC:20280502T110000
DTSTAMP:20260425T113857
CREATED:20241107T103814Z
LAST-MODIFIED:20250213T142056Z
UID:10000444-1840874400-1840878000@hawickbaptistchurch.com
SUMMARY:MAINLY PLAY
DESCRIPTION:
URL:https://hawickbaptistchurch.com/event/mainly-play-2/2028-05-02/
LOCATION:Hawick Baptist Church\, North Bridge Street\, Hawick\, United Kingdom
ORGANIZER;CN="Mainly Play HBC":MAILTO:mainlyplayhbc@gmail.com
END:VEVENT
BEGIN:VEVENT
DTSTART;TZID=UTC:20280509T100000
DTEND;TZID=UTC:20280509T110000
DTSTAMP:20260425T113857
CREATED:20241107T103814Z
LAST-MODIFIED:20250213T142056Z
UID:10000445-1841479200-1841482800@hawickbaptistchurch.com
SUMMARY:MAINLY PLAY
DESCRIPTION:
URL:https://hawickbaptistchurch.com/event/mainly-play-2/2028-05-09/
LOCATION:Hawick Baptist Church\, North Bridge Street\, Hawick\, United Kingdom
ORGANIZER;CN="Mainly Play HBC":MAILTO:mainlyplayhbc@gmail.com
END:VEVENT
END:VCALENDAR