BEGIN:VCALENDAR
VERSION:2.0
PRODID:-//Hawick Baptist Church - ECPv6.15.20//NONSGML v1.0//EN
CALSCALE:GREGORIAN
METHOD:PUBLISH
X-ORIGINAL-URL:https://hawickbaptistchurch.com
X-WR-CALDESC:Events for Hawick Baptist Church
REFRESH-INTERVAL;VALUE=DURATION:PT1H
X-Robots-Tag:noindex
X-PUBLISHED-TTL:PT1H
BEGIN:VTIMEZONE
TZID:Europe/London
BEGIN:DAYLIGHT
TZOFFSETFROM:+0000
TZOFFSETTO:+0100
TZNAME:BST
DTSTART:20260329T010000
END:DAYLIGHT
BEGIN:STANDARD
TZOFFSETFROM:+0100
TZOFFSETTO:+0000
TZNAME:GMT
DTSTART:20261025T010000
END:STANDARD
BEGIN:DAYLIGHT
TZOFFSETFROM:+0000
TZOFFSETTO:+0100
TZNAME:BST
DTSTART:20270328T010000
END:DAYLIGHT
BEGIN:STANDARD
TZOFFSETFROM:+0100
TZOFFSETTO:+0000
TZNAME:GMT
DTSTART:20271031T010000
END:STANDARD
BEGIN:DAYLIGHT
TZOFFSETFROM:+0000
TZOFFSETTO:+0100
TZNAME:BST
DTSTART:20280326T010000
END:DAYLIGHT
BEGIN:STANDARD
TZOFFSETFROM:+0100
TZOFFSETTO:+0000
TZNAME:GMT
DTSTART:20281029T010000
END:STANDARD
END:VTIMEZONE
BEGIN:VTIMEZONE
TZID:UTC
BEGIN:STANDARD
TZOFFSETFROM:+0000
TZOFFSETTO:+0000
TZNAME:UTC
DTSTART:20260101T000000
END:STANDARD
END:VTIMEZONE
BEGIN:VEVENT
DTSTART;TZID=Europe/London:20270404T103000
DTEND;TZID=Europe/London:20270404T113000
DTSTAMP:20260425T160630
CREATED:20241104T182139Z
LAST-MODIFIED:20250826T082821Z
UID:10000127-1806834600-1806838200@hawickbaptistchurch.com
SUMMARY:SUNDAY SERVICE
DESCRIPTION:We meet at 10:30 AM every Sunday morning for our main time together as a whole church family at our building on North Bridge Street\, Hawick.
URL:https://hawickbaptistchurch.com/event/sunday-service/2027-04-04/
LOCATION:Hawick Baptist Church\, North Bridge Street\, Hawick\, United Kingdom
END:VEVENT
BEGIN:VEVENT
DTSTART;TZID=UTC:20270406T100000
DTEND;TZID=UTC:20270406T110000
DTSTAMP:20260425T160630
CREATED:20241107T103814Z
LAST-MODIFIED:20250213T142056Z
UID:10000388-1807005600-1807009200@hawickbaptistchurch.com
SUMMARY:MAINLY PLAY
DESCRIPTION:
URL:https://hawickbaptistchurch.com/event/mainly-play-2/2027-04-06/
LOCATION:Hawick Baptist Church\, North Bridge Street\, Hawick\, United Kingdom
ORGANIZER;CN="Mainly Play HBC":MAILTO:mainlyplayhbc@gmail.com
END:VEVENT
BEGIN:VEVENT
DTSTART;TZID=UTC:20270407T160000
DTEND;TZID=UTC:20270407T170000
DTSTAMP:20260425T160630
CREATED:20241107T103959Z
LAST-MODIFIED:20241107T150551Z
UID:10000910-1807113600-1807117200@hawickbaptistchurch.com
SUMMARY:PRAYER MEETING
DESCRIPTION:
URL:https://hawickbaptistchurch.com/event/prayer-meeting/2027-04-07/
LOCATION:Hawick Baptist Church\, North Bridge Street\, Hawick\, United Kingdom
END:VEVENT
BEGIN:VEVENT
DTSTART;TZID=UTC:20270408T190000
DTEND;TZID=UTC:20270408T210000
DTSTAMP:20260425T160630
CREATED:20241109T130702Z
LAST-MODIFIED:20241109T130736Z
UID:10001174-1807210800-1807218000@hawickbaptistchurch.com
SUMMARY:HOME GROUPS
DESCRIPTION:
URL:https://hawickbaptistchurch.com/event/home-groups/2027-04-08/
END:VEVENT
BEGIN:VEVENT
DTSTART;TZID=Europe/London:20270411T103000
DTEND;TZID=Europe/London:20270411T113000
DTSTAMP:20260425T160630
CREATED:20241104T182139Z
LAST-MODIFIED:20250826T082821Z
UID:10000128-1807439400-1807443000@hawickbaptistchurch.com
SUMMARY:SUNDAY SERVICE
DESCRIPTION:We meet at 10:30 AM every Sunday morning for our main time together as a whole church family at our building on North Bridge Street\, Hawick.
URL:https://hawickbaptistchurch.com/event/sunday-service/2027-04-11/
LOCATION:Hawick Baptist Church\, North Bridge Street\, Hawick\, United Kingdom
END:VEVENT
BEGIN:VEVENT
DTSTART;TZID=UTC:20270413T100000
DTEND;TZID=UTC:20270413T110000
DTSTAMP:20260425T160630
CREATED:20241107T103814Z
LAST-MODIFIED:20250213T142056Z
UID:10000389-1807610400-1807614000@hawickbaptistchurch.com
SUMMARY:MAINLY PLAY
DESCRIPTION:
URL:https://hawickbaptistchurch.com/event/mainly-play-2/2027-04-13/
LOCATION:Hawick Baptist Church\, North Bridge Street\, Hawick\, United Kingdom
ORGANIZER;CN="Mainly Play HBC":MAILTO:mainlyplayhbc@gmail.com
END:VEVENT
BEGIN:VEVENT
DTSTART;TZID=UTC:20270414T160000
DTEND;TZID=UTC:20270414T170000
DTSTAMP:20260425T160630
CREATED:20241107T103959Z
LAST-MODIFIED:20241107T150551Z
UID:10000911-1807718400-1807722000@hawickbaptistchurch.com
SUMMARY:PRAYER MEETING
DESCRIPTION:
URL:https://hawickbaptistchurch.com/event/prayer-meeting/2027-04-14/
LOCATION:Hawick Baptist Church\, North Bridge Street\, Hawick\, United Kingdom
END:VEVENT
BEGIN:VEVENT
DTSTART;TZID=UTC:20270415T190000
DTEND;TZID=UTC:20270415T210000
DTSTAMP:20260425T160630
CREATED:20241109T130702Z
LAST-MODIFIED:20241109T130736Z
UID:10001175-1807815600-1807822800@hawickbaptistchurch.com
SUMMARY:HOME GROUPS
DESCRIPTION:
URL:https://hawickbaptistchurch.com/event/home-groups/2027-04-15/
END:VEVENT
BEGIN:VEVENT
DTSTART;TZID=Europe/London:20270418T103000
DTEND;TZID=Europe/London:20270418T113000
DTSTAMP:20260425T160630
CREATED:20241104T182139Z
LAST-MODIFIED:20250826T082821Z
UID:10000129-1808044200-1808047800@hawickbaptistchurch.com
SUMMARY:SUNDAY SERVICE
DESCRIPTION:We meet at 10:30 AM every Sunday morning for our main time together as a whole church family at our building on North Bridge Street\, Hawick.
URL:https://hawickbaptistchurch.com/event/sunday-service/2027-04-18/
LOCATION:Hawick Baptist Church\, North Bridge Street\, Hawick\, United Kingdom
END:VEVENT
BEGIN:VEVENT
DTSTART;TZID=UTC:20270420T100000
DTEND;TZID=UTC:20270420T110000
DTSTAMP:20260425T160630
CREATED:20241107T103814Z
LAST-MODIFIED:20250213T142056Z
UID:10000390-1808215200-1808218800@hawickbaptistchurch.com
SUMMARY:MAINLY PLAY
DESCRIPTION:
URL:https://hawickbaptistchurch.com/event/mainly-play-2/2027-04-20/
LOCATION:Hawick Baptist Church\, North Bridge Street\, Hawick\, United Kingdom
ORGANIZER;CN="Mainly Play HBC":MAILTO:mainlyplayhbc@gmail.com
END:VEVENT
BEGIN:VEVENT
DTSTART;TZID=UTC:20270421T160000
DTEND;TZID=UTC:20270421T170000
DTSTAMP:20260425T160630
CREATED:20241107T103959Z
LAST-MODIFIED:20241107T150551Z
UID:10000912-1808323200-1808326800@hawickbaptistchurch.com
SUMMARY:PRAYER MEETING
DESCRIPTION:
URL:https://hawickbaptistchurch.com/event/prayer-meeting/2027-04-21/
LOCATION:Hawick Baptist Church\, North Bridge Street\, Hawick\, United Kingdom
END:VEVENT
BEGIN:VEVENT
DTSTART;TZID=UTC:20270422T190000
DTEND;TZID=UTC:20270422T210000
DTSTAMP:20260425T160630
CREATED:20241109T130702Z
LAST-MODIFIED:20241109T130736Z
UID:10001176-1808420400-1808427600@hawickbaptistchurch.com
SUMMARY:HOME GROUPS
DESCRIPTION:
URL:https://hawickbaptistchurch.com/event/home-groups/2027-04-22/
END:VEVENT
BEGIN:VEVENT
DTSTART;TZID=Europe/London:20270425T103000
DTEND;TZID=Europe/London:20270425T113000
DTSTAMP:20260425T160630
CREATED:20241104T182139Z
LAST-MODIFIED:20250826T082821Z
UID:10000130-1808649000-1808652600@hawickbaptistchurch.com
SUMMARY:SUNDAY SERVICE
DESCRIPTION:We meet at 10:30 AM every Sunday morning for our main time together as a whole church family at our building on North Bridge Street\, Hawick.
URL:https://hawickbaptistchurch.com/event/sunday-service/2027-04-25/
LOCATION:Hawick Baptist Church\, North Bridge Street\, Hawick\, United Kingdom
END:VEVENT
BEGIN:VEVENT
DTSTART;TZID=UTC:20270427T100000
DTEND;TZID=UTC:20270427T110000
DTSTAMP:20260425T160630
CREATED:20241107T103814Z
LAST-MODIFIED:20250213T142056Z
UID:10000391-1808820000-1808823600@hawickbaptistchurch.com
SUMMARY:MAINLY PLAY
DESCRIPTION:
URL:https://hawickbaptistchurch.com/event/mainly-play-2/2027-04-27/
LOCATION:Hawick Baptist Church\, North Bridge Street\, Hawick\, United Kingdom
ORGANIZER;CN="Mainly Play HBC":MAILTO:mainlyplayhbc@gmail.com
END:VEVENT
BEGIN:VEVENT
DTSTART;TZID=UTC:20270428T160000
DTEND;TZID=UTC:20270428T170000
DTSTAMP:20260425T160630
CREATED:20241107T103959Z
LAST-MODIFIED:20241107T150551Z
UID:10000913-1808928000-1808931600@hawickbaptistchurch.com
SUMMARY:PRAYER MEETING
DESCRIPTION:
URL:https://hawickbaptistchurch.com/event/prayer-meeting/2027-04-28/
LOCATION:Hawick Baptist Church\, North Bridge Street\, Hawick\, United Kingdom
END:VEVENT
BEGIN:VEVENT
DTSTART;TZID=UTC:20270429T190000
DTEND;TZID=UTC:20270429T210000
DTSTAMP:20260425T160630
CREATED:20241109T130702Z
LAST-MODIFIED:20241109T130736Z
UID:10001177-1809025200-1809032400@hawickbaptistchurch.com
SUMMARY:HOME GROUPS
DESCRIPTION:
URL:https://hawickbaptistchurch.com/event/home-groups/2027-04-29/
END:VEVENT
BEGIN:VEVENT
DTSTART;TZID=Europe/London:20270502T103000
DTEND;TZID=Europe/London:20270502T113000
DTSTAMP:20260425T160630
CREATED:20241104T182139Z
LAST-MODIFIED:20250826T082821Z
UID:10000131-1809253800-1809257400@hawickbaptistchurch.com
SUMMARY:SUNDAY SERVICE
DESCRIPTION:We meet at 10:30 AM every Sunday morning for our main time together as a whole church family at our building on North Bridge Street\, Hawick.
URL:https://hawickbaptistchurch.com/event/sunday-service/2027-05-02/
LOCATION:Hawick Baptist Church\, North Bridge Street\, Hawick\, United Kingdom
END:VEVENT
BEGIN:VEVENT
DTSTART;TZID=UTC:20270504T100000
DTEND;TZID=UTC:20270504T110000
DTSTAMP:20260425T160630
CREATED:20241107T103814Z
LAST-MODIFIED:20250213T142056Z
UID:10000392-1809424800-1809428400@hawickbaptistchurch.com
SUMMARY:MAINLY PLAY
DESCRIPTION:
URL:https://hawickbaptistchurch.com/event/mainly-play-2/2027-05-04/
LOCATION:Hawick Baptist Church\, North Bridge Street\, Hawick\, United Kingdom
ORGANIZER;CN="Mainly Play HBC":MAILTO:mainlyplayhbc@gmail.com
END:VEVENT
BEGIN:VEVENT
DTSTART;TZID=UTC:20270505T160000
DTEND;TZID=UTC:20270505T170000
DTSTAMP:20260425T160630
CREATED:20241107T103959Z
LAST-MODIFIED:20241107T150551Z
UID:10000914-1809532800-1809536400@hawickbaptistchurch.com
SUMMARY:PRAYER MEETING
DESCRIPTION:
URL:https://hawickbaptistchurch.com/event/prayer-meeting/2027-05-05/
LOCATION:Hawick Baptist Church\, North Bridge Street\, Hawick\, United Kingdom
END:VEVENT
BEGIN:VEVENT
DTSTART;TZID=UTC:20270506T190000
DTEND;TZID=UTC:20270506T210000
DTSTAMP:20260425T160630
CREATED:20241109T130702Z
LAST-MODIFIED:20241109T130736Z
UID:10001178-1809630000-1809637200@hawickbaptistchurch.com
SUMMARY:HOME GROUPS
DESCRIPTION:
URL:https://hawickbaptistchurch.com/event/home-groups/2027-05-06/
END:VEVENT
BEGIN:VEVENT
DTSTART;TZID=Europe/London:20270509T103000
DTEND;TZID=Europe/London:20270509T113000
DTSTAMP:20260425T160630
CREATED:20241104T182139Z
LAST-MODIFIED:20250826T082821Z
UID:10000132-1809858600-1809862200@hawickbaptistchurch.com
SUMMARY:SUNDAY SERVICE
DESCRIPTION:We meet at 10:30 AM every Sunday morning for our main time together as a whole church family at our building on North Bridge Street\, Hawick.
URL:https://hawickbaptistchurch.com/event/sunday-service/2027-05-09/
LOCATION:Hawick Baptist Church\, North Bridge Street\, Hawick\, United Kingdom
END:VEVENT
BEGIN:VEVENT
DTSTART;TZID=UTC:20270511T100000
DTEND;TZID=UTC:20270511T110000
DTSTAMP:20260425T160630
CREATED:20241107T103814Z
LAST-MODIFIED:20250213T142056Z
UID:10000393-1810029600-1810033200@hawickbaptistchurch.com
SUMMARY:MAINLY PLAY
DESCRIPTION:
URL:https://hawickbaptistchurch.com/event/mainly-play-2/2027-05-11/
LOCATION:Hawick Baptist Church\, North Bridge Street\, Hawick\, United Kingdom
ORGANIZER;CN="Mainly Play HBC":MAILTO:mainlyplayhbc@gmail.com
END:VEVENT
BEGIN:VEVENT
DTSTART;TZID=UTC:20270512T160000
DTEND;TZID=UTC:20270512T170000
DTSTAMP:20260425T160630
CREATED:20241107T103959Z
LAST-MODIFIED:20241107T150551Z
UID:10000915-1810137600-1810141200@hawickbaptistchurch.com
SUMMARY:PRAYER MEETING
DESCRIPTION:
URL:https://hawickbaptistchurch.com/event/prayer-meeting/2027-05-12/
LOCATION:Hawick Baptist Church\, North Bridge Street\, Hawick\, United Kingdom
END:VEVENT
BEGIN:VEVENT
DTSTART;TZID=UTC:20270513T190000
DTEND;TZID=UTC:20270513T210000
DTSTAMP:20260425T160630
CREATED:20241109T130702Z
LAST-MODIFIED:20241109T130736Z
UID:10001179-1810234800-1810242000@hawickbaptistchurch.com
SUMMARY:HOME GROUPS
DESCRIPTION:
URL:https://hawickbaptistchurch.com/event/home-groups/2027-05-13/
END:VEVENT
BEGIN:VEVENT
DTSTART;TZID=Europe/London:20270516T103000
DTEND;TZID=Europe/London:20270516T113000
DTSTAMP:20260425T160630
CREATED:20241104T182139Z
LAST-MODIFIED:20250826T082821Z
UID:10000133-1810463400-1810467000@hawickbaptistchurch.com
SUMMARY:SUNDAY SERVICE
DESCRIPTION:We meet at 10:30 AM every Sunday morning for our main time together as a whole church family at our building on North Bridge Street\, Hawick.
URL:https://hawickbaptistchurch.com/event/sunday-service/2027-05-16/
LOCATION:Hawick Baptist Church\, North Bridge Street\, Hawick\, United Kingdom
END:VEVENT
BEGIN:VEVENT
DTSTART;TZID=UTC:20270518T100000
DTEND;TZID=UTC:20270518T110000
DTSTAMP:20260425T160630
CREATED:20241107T103814Z
LAST-MODIFIED:20250213T142056Z
UID:10000394-1810634400-1810638000@hawickbaptistchurch.com
SUMMARY:MAINLY PLAY
DESCRIPTION:
URL:https://hawickbaptistchurch.com/event/mainly-play-2/2027-05-18/
LOCATION:Hawick Baptist Church\, North Bridge Street\, Hawick\, United Kingdom
ORGANIZER;CN="Mainly Play HBC":MAILTO:mainlyplayhbc@gmail.com
END:VEVENT
BEGIN:VEVENT
DTSTART;TZID=UTC:20270519T160000
DTEND;TZID=UTC:20270519T170000
DTSTAMP:20260425T160630
CREATED:20241107T103959Z
LAST-MODIFIED:20241107T150551Z
UID:10000916-1810742400-1810746000@hawickbaptistchurch.com
SUMMARY:PRAYER MEETING
DESCRIPTION:
URL:https://hawickbaptistchurch.com/event/prayer-meeting/2027-05-19/
LOCATION:Hawick Baptist Church\, North Bridge Street\, Hawick\, United Kingdom
END:VEVENT
BEGIN:VEVENT
DTSTART;TZID=UTC:20270520T190000
DTEND;TZID=UTC:20270520T210000
DTSTAMP:20260425T160630
CREATED:20241109T130702Z
LAST-MODIFIED:20241109T130736Z
UID:10001180-1810839600-1810846800@hawickbaptistchurch.com
SUMMARY:HOME GROUPS
DESCRIPTION:
URL:https://hawickbaptistchurch.com/event/home-groups/2027-05-20/
END:VEVENT
BEGIN:VEVENT
DTSTART;TZID=Europe/London:20270523T103000
DTEND;TZID=Europe/London:20270523T113000
DTSTAMP:20260425T160630
CREATED:20241104T182139Z
LAST-MODIFIED:20250826T082821Z
UID:10000134-1811068200-1811071800@hawickbaptistchurch.com
SUMMARY:SUNDAY SERVICE
DESCRIPTION:We meet at 10:30 AM every Sunday morning for our main time together as a whole church family at our building on North Bridge Street\, Hawick.
URL:https://hawickbaptistchurch.com/event/sunday-service/2027-05-23/
LOCATION:Hawick Baptist Church\, North Bridge Street\, Hawick\, United Kingdom
END:VEVENT
BEGIN:VEVENT
DTSTART;TZID=UTC:20270525T100000
DTEND;TZID=UTC:20270525T110000
DTSTAMP:20260425T160630
CREATED:20241107T103814Z
LAST-MODIFIED:20250213T142056Z
UID:10000395-1811239200-1811242800@hawickbaptistchurch.com
SUMMARY:MAINLY PLAY
DESCRIPTION:
URL:https://hawickbaptistchurch.com/event/mainly-play-2/2027-05-25/
LOCATION:Hawick Baptist Church\, North Bridge Street\, Hawick\, United Kingdom
ORGANIZER;CN="Mainly Play HBC":MAILTO:mainlyplayhbc@gmail.com
END:VEVENT
END:VCALENDAR