BEGIN:VCALENDAR
VERSION:2.0
PRODID:-//Hawick Baptist Church - ECPv6.15.20//NONSGML v1.0//EN
CALSCALE:GREGORIAN
METHOD:PUBLISH
X-WR-CALNAME:Hawick Baptist Church
X-ORIGINAL-URL:https://hawickbaptistchurch.com
X-WR-CALDESC:Events for Hawick Baptist Church
REFRESH-INTERVAL;VALUE=DURATION:PT1H
X-Robots-Tag:noindex
X-PUBLISHED-TTL:PT1H
BEGIN:VTIMEZONE
TZID:Europe/London
BEGIN:DAYLIGHT
TZOFFSETFROM:+0000
TZOFFSETTO:+0100
TZNAME:BST
DTSTART:20270328T010000
END:DAYLIGHT
BEGIN:STANDARD
TZOFFSETFROM:+0100
TZOFFSETTO:+0000
TZNAME:GMT
DTSTART:20271031T010000
END:STANDARD
BEGIN:DAYLIGHT
TZOFFSETFROM:+0000
TZOFFSETTO:+0100
TZNAME:BST
DTSTART:20280326T010000
END:DAYLIGHT
BEGIN:STANDARD
TZOFFSETFROM:+0100
TZOFFSETTO:+0000
TZNAME:GMT
DTSTART:20281029T010000
END:STANDARD
BEGIN:DAYLIGHT
TZOFFSETFROM:+0000
TZOFFSETTO:+0100
TZNAME:BST
DTSTART:20290325T010000
END:DAYLIGHT
BEGIN:STANDARD
TZOFFSETFROM:+0100
TZOFFSETTO:+0000
TZNAME:GMT
DTSTART:20291028T010000
END:STANDARD
END:VTIMEZONE
BEGIN:VTIMEZONE
TZID:UTC
BEGIN:STANDARD
TZOFFSETFROM:+0000
TZOFFSETTO:+0000
TZNAME:UTC
DTSTART:20270101T000000
END:STANDARD
END:VTIMEZONE
BEGIN:VEVENT
DTSTART;TZID=Europe/London:20280423T103000
DTEND;TZID=Europe/London:20280423T113000
DTSTAMP:20260426T034751
CREATED:20241104T182139Z
LAST-MODIFIED:20250826T082821Z
UID:10000182-1840098600-1840102200@hawickbaptistchurch.com
SUMMARY:SUNDAY SERVICE
DESCRIPTION:We meet at 10:30 AM every Sunday morning for our main time together as a whole church family at our building on North Bridge Street\, Hawick.
URL:https://hawickbaptistchurch.com/event/sunday-service/2028-04-23/
LOCATION:Hawick Baptist Church\, North Bridge Street\, Hawick\, United Kingdom
END:VEVENT
BEGIN:VEVENT
DTSTART;TZID=UTC:20280425T100000
DTEND;TZID=UTC:20280425T110000
DTSTAMP:20260426T034751
CREATED:20241107T103814Z
LAST-MODIFIED:20250213T142056Z
UID:10000443-1840269600-1840273200@hawickbaptistchurch.com
SUMMARY:MAINLY PLAY
DESCRIPTION:
URL:https://hawickbaptistchurch.com/event/mainly-play-2/2028-04-25/
LOCATION:Hawick Baptist Church\, North Bridge Street\, Hawick\, United Kingdom
ORGANIZER;CN="Mainly Play HBC":MAILTO:mainlyplayhbc@gmail.com
END:VEVENT
BEGIN:VEVENT
DTSTART;TZID=UTC:20280426T160000
DTEND;TZID=UTC:20280426T170000
DTSTAMP:20260426T034751
CREATED:20241107T103959Z
LAST-MODIFIED:20241107T150551Z
UID:10000965-1840377600-1840381200@hawickbaptistchurch.com
SUMMARY:PRAYER MEETING
DESCRIPTION:
URL:https://hawickbaptistchurch.com/event/prayer-meeting/2028-04-26/
LOCATION:Hawick Baptist Church\, North Bridge Street\, Hawick\, United Kingdom
END:VEVENT
BEGIN:VEVENT
DTSTART;TZID=UTC:20280427T190000
DTEND;TZID=UTC:20280427T210000
DTSTAMP:20260426T034751
CREATED:20241109T130702Z
LAST-MODIFIED:20241109T130736Z
UID:10001229-1840474800-1840482000@hawickbaptistchurch.com
SUMMARY:HOME GROUPS
DESCRIPTION:
URL:https://hawickbaptistchurch.com/event/home-groups/2028-04-27/
END:VEVENT
BEGIN:VEVENT
DTSTART;TZID=Europe/London:20280430T103000
DTEND;TZID=Europe/London:20280430T113000
DTSTAMP:20260426T034751
CREATED:20241104T182139Z
LAST-MODIFIED:20250826T082821Z
UID:10000183-1840703400-1840707000@hawickbaptistchurch.com
SUMMARY:SUNDAY SERVICE
DESCRIPTION:We meet at 10:30 AM every Sunday morning for our main time together as a whole church family at our building on North Bridge Street\, Hawick.
URL:https://hawickbaptistchurch.com/event/sunday-service/2028-04-30/
LOCATION:Hawick Baptist Church\, North Bridge Street\, Hawick\, United Kingdom
END:VEVENT
BEGIN:VEVENT
DTSTART;TZID=UTC:20280502T100000
DTEND;TZID=UTC:20280502T110000
DTSTAMP:20260426T034751
CREATED:20241107T103814Z
LAST-MODIFIED:20250213T142056Z
UID:10000444-1840874400-1840878000@hawickbaptistchurch.com
SUMMARY:MAINLY PLAY
DESCRIPTION:
URL:https://hawickbaptistchurch.com/event/mainly-play-2/2028-05-02/
LOCATION:Hawick Baptist Church\, North Bridge Street\, Hawick\, United Kingdom
ORGANIZER;CN="Mainly Play HBC":MAILTO:mainlyplayhbc@gmail.com
END:VEVENT
BEGIN:VEVENT
DTSTART;TZID=UTC:20280503T160000
DTEND;TZID=UTC:20280503T170000
DTSTAMP:20260426T034751
CREATED:20241107T103959Z
LAST-MODIFIED:20241107T150551Z
UID:10000966-1840982400-1840986000@hawickbaptistchurch.com
SUMMARY:PRAYER MEETING
DESCRIPTION:
URL:https://hawickbaptistchurch.com/event/prayer-meeting/2028-05-03/
LOCATION:Hawick Baptist Church\, North Bridge Street\, Hawick\, United Kingdom
END:VEVENT
BEGIN:VEVENT
DTSTART;TZID=UTC:20280504T190000
DTEND;TZID=UTC:20280504T210000
DTSTAMP:20260426T034751
CREATED:20241109T130702Z
LAST-MODIFIED:20241109T130736Z
UID:10001230-1841079600-1841086800@hawickbaptistchurch.com
SUMMARY:HOME GROUPS
DESCRIPTION:
URL:https://hawickbaptistchurch.com/event/home-groups/2028-05-04/
END:VEVENT
BEGIN:VEVENT
DTSTART;TZID=Europe/London:20280507T103000
DTEND;TZID=Europe/London:20280507T113000
DTSTAMP:20260426T034751
CREATED:20241104T182139Z
LAST-MODIFIED:20250826T082821Z
UID:10000184-1841308200-1841311800@hawickbaptistchurch.com
SUMMARY:SUNDAY SERVICE
DESCRIPTION:We meet at 10:30 AM every Sunday morning for our main time together as a whole church family at our building on North Bridge Street\, Hawick.
URL:https://hawickbaptistchurch.com/event/sunday-service/2028-05-07/
LOCATION:Hawick Baptist Church\, North Bridge Street\, Hawick\, United Kingdom
END:VEVENT
BEGIN:VEVENT
DTSTART;TZID=UTC:20280509T100000
DTEND;TZID=UTC:20280509T110000
DTSTAMP:20260426T034751
CREATED:20241107T103814Z
LAST-MODIFIED:20250213T142056Z
UID:10000445-1841479200-1841482800@hawickbaptistchurch.com
SUMMARY:MAINLY PLAY
DESCRIPTION:
URL:https://hawickbaptistchurch.com/event/mainly-play-2/2028-05-09/
LOCATION:Hawick Baptist Church\, North Bridge Street\, Hawick\, United Kingdom
ORGANIZER;CN="Mainly Play HBC":MAILTO:mainlyplayhbc@gmail.com
END:VEVENT
BEGIN:VEVENT
DTSTART;TZID=UTC:20280510T160000
DTEND;TZID=UTC:20280510T170000
DTSTAMP:20260426T034751
CREATED:20241107T103959Z
LAST-MODIFIED:20241107T150551Z
UID:10000967-1841587200-1841590800@hawickbaptistchurch.com
SUMMARY:PRAYER MEETING
DESCRIPTION:
URL:https://hawickbaptistchurch.com/event/prayer-meeting/2028-05-10/
LOCATION:Hawick Baptist Church\, North Bridge Street\, Hawick\, United Kingdom
END:VEVENT
BEGIN:VEVENT
DTSTART;TZID=UTC:20280511T190000
DTEND;TZID=UTC:20280511T210000
DTSTAMP:20260426T034751
CREATED:20241109T130702Z
LAST-MODIFIED:20241109T130736Z
UID:10001231-1841684400-1841691600@hawickbaptistchurch.com
SUMMARY:HOME GROUPS
DESCRIPTION:
URL:https://hawickbaptistchurch.com/event/home-groups/2028-05-11/
END:VEVENT
BEGIN:VEVENT
DTSTART;TZID=Europe/London:20280514T103000
DTEND;TZID=Europe/London:20280514T113000
DTSTAMP:20260426T034751
CREATED:20241104T182139Z
LAST-MODIFIED:20250826T082821Z
UID:10000185-1841913000-1841916600@hawickbaptistchurch.com
SUMMARY:SUNDAY SERVICE
DESCRIPTION:We meet at 10:30 AM every Sunday morning for our main time together as a whole church family at our building on North Bridge Street\, Hawick.
URL:https://hawickbaptistchurch.com/event/sunday-service/2028-05-14/
LOCATION:Hawick Baptist Church\, North Bridge Street\, Hawick\, United Kingdom
END:VEVENT
BEGIN:VEVENT
DTSTART;TZID=UTC:20280516T100000
DTEND;TZID=UTC:20280516T110000
DTSTAMP:20260426T034751
CREATED:20241107T103814Z
LAST-MODIFIED:20250213T142056Z
UID:10000446-1842084000-1842087600@hawickbaptistchurch.com
SUMMARY:MAINLY PLAY
DESCRIPTION:
URL:https://hawickbaptistchurch.com/event/mainly-play-2/2028-05-16/
LOCATION:Hawick Baptist Church\, North Bridge Street\, Hawick\, United Kingdom
ORGANIZER;CN="Mainly Play HBC":MAILTO:mainlyplayhbc@gmail.com
END:VEVENT
BEGIN:VEVENT
DTSTART;TZID=UTC:20280517T160000
DTEND;TZID=UTC:20280517T170000
DTSTAMP:20260426T034751
CREATED:20241107T103959Z
LAST-MODIFIED:20241107T150551Z
UID:10000968-1842192000-1842195600@hawickbaptistchurch.com
SUMMARY:PRAYER MEETING
DESCRIPTION:
URL:https://hawickbaptistchurch.com/event/prayer-meeting/2028-05-17/
LOCATION:Hawick Baptist Church\, North Bridge Street\, Hawick\, United Kingdom
END:VEVENT
BEGIN:VEVENT
DTSTART;TZID=UTC:20280518T190000
DTEND;TZID=UTC:20280518T210000
DTSTAMP:20260426T034751
CREATED:20241109T130702Z
LAST-MODIFIED:20241109T130736Z
UID:10001232-1842289200-1842296400@hawickbaptistchurch.com
SUMMARY:HOME GROUPS
DESCRIPTION:
URL:https://hawickbaptistchurch.com/event/home-groups/2028-05-18/
END:VEVENT
BEGIN:VEVENT
DTSTART;TZID=Europe/London:20280521T103000
DTEND;TZID=Europe/London:20280521T113000
DTSTAMP:20260426T034751
CREATED:20241104T182139Z
LAST-MODIFIED:20250826T082821Z
UID:10000186-1842517800-1842521400@hawickbaptistchurch.com
SUMMARY:SUNDAY SERVICE
DESCRIPTION:We meet at 10:30 AM every Sunday morning for our main time together as a whole church family at our building on North Bridge Street\, Hawick.
URL:https://hawickbaptistchurch.com/event/sunday-service/2028-05-21/
LOCATION:Hawick Baptist Church\, North Bridge Street\, Hawick\, United Kingdom
END:VEVENT
BEGIN:VEVENT
DTSTART;TZID=UTC:20280523T100000
DTEND;TZID=UTC:20280523T110000
DTSTAMP:20260426T034751
CREATED:20241107T103814Z
LAST-MODIFIED:20250213T142056Z
UID:10000447-1842688800-1842692400@hawickbaptistchurch.com
SUMMARY:MAINLY PLAY
DESCRIPTION:
URL:https://hawickbaptistchurch.com/event/mainly-play-2/2028-05-23/
LOCATION:Hawick Baptist Church\, North Bridge Street\, Hawick\, United Kingdom
ORGANIZER;CN="Mainly Play HBC":MAILTO:mainlyplayhbc@gmail.com
END:VEVENT
BEGIN:VEVENT
DTSTART;TZID=UTC:20280524T160000
DTEND;TZID=UTC:20280524T170000
DTSTAMP:20260426T034751
CREATED:20241107T103959Z
LAST-MODIFIED:20241107T150551Z
UID:10000969-1842796800-1842800400@hawickbaptistchurch.com
SUMMARY:PRAYER MEETING
DESCRIPTION:
URL:https://hawickbaptistchurch.com/event/prayer-meeting/2028-05-24/
LOCATION:Hawick Baptist Church\, North Bridge Street\, Hawick\, United Kingdom
END:VEVENT
BEGIN:VEVENT
DTSTART;TZID=UTC:20280525T190000
DTEND;TZID=UTC:20280525T210000
DTSTAMP:20260426T034751
CREATED:20241109T130702Z
LAST-MODIFIED:20241109T130736Z
UID:10001233-1842894000-1842901200@hawickbaptistchurch.com
SUMMARY:HOME GROUPS
DESCRIPTION:
URL:https://hawickbaptistchurch.com/event/home-groups/2028-05-25/
END:VEVENT
BEGIN:VEVENT
DTSTART;TZID=Europe/London:20280528T103000
DTEND;TZID=Europe/London:20280528T113000
DTSTAMP:20260426T034751
CREATED:20241104T182139Z
LAST-MODIFIED:20250826T082821Z
UID:10000187-1843122600-1843126200@hawickbaptistchurch.com
SUMMARY:SUNDAY SERVICE
DESCRIPTION:We meet at 10:30 AM every Sunday morning for our main time together as a whole church family at our building on North Bridge Street\, Hawick.
URL:https://hawickbaptistchurch.com/event/sunday-service/2028-05-28/
LOCATION:Hawick Baptist Church\, North Bridge Street\, Hawick\, United Kingdom
END:VEVENT
BEGIN:VEVENT
DTSTART;TZID=UTC:20280530T100000
DTEND;TZID=UTC:20280530T110000
DTSTAMP:20260426T034751
CREATED:20241107T103814Z
LAST-MODIFIED:20250213T142056Z
UID:10000448-1843293600-1843297200@hawickbaptistchurch.com
SUMMARY:MAINLY PLAY
DESCRIPTION:
URL:https://hawickbaptistchurch.com/event/mainly-play-2/2028-05-30/
LOCATION:Hawick Baptist Church\, North Bridge Street\, Hawick\, United Kingdom
ORGANIZER;CN="Mainly Play HBC":MAILTO:mainlyplayhbc@gmail.com
END:VEVENT
BEGIN:VEVENT
DTSTART;TZID=UTC:20280531T160000
DTEND;TZID=UTC:20280531T170000
DTSTAMP:20260426T034751
CREATED:20241107T103959Z
LAST-MODIFIED:20241107T150551Z
UID:10000970-1843401600-1843405200@hawickbaptistchurch.com
SUMMARY:PRAYER MEETING
DESCRIPTION:
URL:https://hawickbaptistchurch.com/event/prayer-meeting/2028-05-31/
LOCATION:Hawick Baptist Church\, North Bridge Street\, Hawick\, United Kingdom
END:VEVENT
BEGIN:VEVENT
DTSTART;TZID=UTC:20280601T190000
DTEND;TZID=UTC:20280601T210000
DTSTAMP:20260426T034752
CREATED:20241109T130702Z
LAST-MODIFIED:20241109T130736Z
UID:10001234-1843498800-1843506000@hawickbaptistchurch.com
SUMMARY:HOME GROUPS
DESCRIPTION:
URL:https://hawickbaptistchurch.com/event/home-groups/2028-06-01/
END:VEVENT
BEGIN:VEVENT
DTSTART;TZID=Europe/London:20280604T103000
DTEND;TZID=Europe/London:20280604T113000
DTSTAMP:20260426T034752
CREATED:20241104T182139Z
LAST-MODIFIED:20250826T082821Z
UID:10000188-1843727400-1843731000@hawickbaptistchurch.com
SUMMARY:SUNDAY SERVICE
DESCRIPTION:We meet at 10:30 AM every Sunday morning for our main time together as a whole church family at our building on North Bridge Street\, Hawick.
URL:https://hawickbaptistchurch.com/event/sunday-service/2028-06-04/
LOCATION:Hawick Baptist Church\, North Bridge Street\, Hawick\, United Kingdom
END:VEVENT
BEGIN:VEVENT
DTSTART;TZID=UTC:20280606T100000
DTEND;TZID=UTC:20280606T110000
DTSTAMP:20260426T034752
CREATED:20241107T103814Z
LAST-MODIFIED:20250213T142056Z
UID:10000449-1843898400-1843902000@hawickbaptistchurch.com
SUMMARY:MAINLY PLAY
DESCRIPTION:
URL:https://hawickbaptistchurch.com/event/mainly-play-2/2028-06-06/
LOCATION:Hawick Baptist Church\, North Bridge Street\, Hawick\, United Kingdom
ORGANIZER;CN="Mainly Play HBC":MAILTO:mainlyplayhbc@gmail.com
END:VEVENT
BEGIN:VEVENT
DTSTART;TZID=UTC:20280607T160000
DTEND;TZID=UTC:20280607T170000
DTSTAMP:20260426T034752
CREATED:20241107T103959Z
LAST-MODIFIED:20241107T150551Z
UID:10000971-1844006400-1844010000@hawickbaptistchurch.com
SUMMARY:PRAYER MEETING
DESCRIPTION:
URL:https://hawickbaptistchurch.com/event/prayer-meeting/2028-06-07/
LOCATION:Hawick Baptist Church\, North Bridge Street\, Hawick\, United Kingdom
END:VEVENT
BEGIN:VEVENT
DTSTART;TZID=UTC:20280608T190000
DTEND;TZID=UTC:20280608T210000
DTSTAMP:20260426T034752
CREATED:20241109T130702Z
LAST-MODIFIED:20241109T130736Z
UID:10001235-1844103600-1844110800@hawickbaptistchurch.com
SUMMARY:HOME GROUPS
DESCRIPTION:
URL:https://hawickbaptistchurch.com/event/home-groups/2028-06-08/
END:VEVENT
BEGIN:VEVENT
DTSTART;TZID=Europe/London:20280611T103000
DTEND;TZID=Europe/London:20280611T113000
DTSTAMP:20260426T034752
CREATED:20241104T182139Z
LAST-MODIFIED:20250826T082821Z
UID:10000189-1844332200-1844335800@hawickbaptistchurch.com
SUMMARY:SUNDAY SERVICE
DESCRIPTION:We meet at 10:30 AM every Sunday morning for our main time together as a whole church family at our building on North Bridge Street\, Hawick.
URL:https://hawickbaptistchurch.com/event/sunday-service/2028-06-11/
LOCATION:Hawick Baptist Church\, North Bridge Street\, Hawick\, United Kingdom
END:VEVENT
BEGIN:VEVENT
DTSTART;TZID=UTC:20280613T100000
DTEND;TZID=UTC:20280613T110000
DTSTAMP:20260426T034752
CREATED:20241107T103814Z
LAST-MODIFIED:20250213T142056Z
UID:10000450-1844503200-1844506800@hawickbaptistchurch.com
SUMMARY:MAINLY PLAY
DESCRIPTION:
URL:https://hawickbaptistchurch.com/event/mainly-play-2/2028-06-13/
LOCATION:Hawick Baptist Church\, North Bridge Street\, Hawick\, United Kingdom
ORGANIZER;CN="Mainly Play HBC":MAILTO:mainlyplayhbc@gmail.com
END:VEVENT
END:VCALENDAR