BEGIN:VCALENDAR
VERSION:2.0
PRODID:-//Hawick Baptist Church - ECPv6.15.20//NONSGML v1.0//EN
CALSCALE:GREGORIAN
METHOD:PUBLISH
X-ORIGINAL-URL:https://hawickbaptistchurch.com
X-WR-CALDESC:Events for Hawick Baptist Church
REFRESH-INTERVAL;VALUE=DURATION:PT1H
X-Robots-Tag:noindex
X-PUBLISHED-TTL:PT1H
BEGIN:VTIMEZONE
TZID:UTC
BEGIN:STANDARD
TZOFFSETFROM:+0000
TZOFFSETTO:+0000
TZNAME:UTC
DTSTART:20250101T000000
END:STANDARD
END:VTIMEZONE
BEGIN:VTIMEZONE
TZID:Europe/London
BEGIN:DAYLIGHT
TZOFFSETFROM:+0000
TZOFFSETTO:+0100
TZNAME:BST
DTSTART:20250330T010000
END:DAYLIGHT
BEGIN:STANDARD
TZOFFSETFROM:+0100
TZOFFSETTO:+0000
TZNAME:GMT
DTSTART:20251026T010000
END:STANDARD
BEGIN:DAYLIGHT
TZOFFSETFROM:+0000
TZOFFSETTO:+0100
TZNAME:BST
DTSTART:20260329T010000
END:DAYLIGHT
BEGIN:STANDARD
TZOFFSETFROM:+0100
TZOFFSETTO:+0000
TZNAME:GMT
DTSTART:20261025T010000
END:STANDARD
BEGIN:DAYLIGHT
TZOFFSETFROM:+0000
TZOFFSETTO:+0100
TZNAME:BST
DTSTART:20270328T010000
END:DAYLIGHT
BEGIN:STANDARD
TZOFFSETFROM:+0100
TZOFFSETTO:+0000
TZNAME:GMT
DTSTART:20271031T010000
END:STANDARD
END:VTIMEZONE
BEGIN:VEVENT
DTSTART;TZID=UTC:20261020T100000
DTEND;TZID=UTC:20261020T110000
DTSTAMP:20260423T061632
CREATED:20241107T103814Z
LAST-MODIFIED:20250213T142056Z
UID:10000364-1792490400-1792494000@hawickbaptistchurch.com
SUMMARY:MAINLY PLAY
DESCRIPTION:
URL:https://hawickbaptistchurch.com/event/mainly-play-2/2026-10-20/
LOCATION:Hawick Baptist Church\, North Bridge Street\, Hawick\, United Kingdom
ORGANIZER;CN="Mainly Play HBC":MAILTO:mainlyplayhbc@gmail.com
END:VEVENT
BEGIN:VEVENT
DTSTART;TZID=UTC:20261021T160000
DTEND;TZID=UTC:20261021T170000
DTSTAMP:20260423T061632
CREATED:20241107T103959Z
LAST-MODIFIED:20241107T150551Z
UID:10000886-1792598400-1792602000@hawickbaptistchurch.com
SUMMARY:PRAYER MEETING
DESCRIPTION:
URL:https://hawickbaptistchurch.com/event/prayer-meeting/2026-10-21/
LOCATION:Hawick Baptist Church\, North Bridge Street\, Hawick\, United Kingdom
END:VEVENT
BEGIN:VEVENT
DTSTART;TZID=UTC:20261022T190000
DTEND;TZID=UTC:20261022T210000
DTSTAMP:20260423T061632
CREATED:20241109T130702Z
LAST-MODIFIED:20241109T130736Z
UID:10001150-1792695600-1792702800@hawickbaptistchurch.com
SUMMARY:HOME GROUPS
DESCRIPTION:
URL:https://hawickbaptistchurch.com/event/home-groups/2026-10-22/
END:VEVENT
BEGIN:VEVENT
DTSTART;TZID=Europe/London:20261025T103000
DTEND;TZID=Europe/London:20261025T113000
DTSTAMP:20260423T061632
CREATED:20241104T182139Z
LAST-MODIFIED:20250826T082821Z
UID:10000104-1792924200-1792927800@hawickbaptistchurch.com
SUMMARY:SUNDAY SERVICE
DESCRIPTION:We meet at 10:30 AM every Sunday morning for our main time together as a whole church family at our building on North Bridge Street\, Hawick.
URL:https://hawickbaptistchurch.com/event/sunday-service/2026-10-25/
LOCATION:Hawick Baptist Church\, North Bridge Street\, Hawick\, United Kingdom
END:VEVENT
BEGIN:VEVENT
DTSTART;TZID=UTC:20261027T100000
DTEND;TZID=UTC:20261027T110000
DTSTAMP:20260423T061632
CREATED:20241107T103814Z
LAST-MODIFIED:20250213T142056Z
UID:10000365-1793095200-1793098800@hawickbaptistchurch.com
SUMMARY:MAINLY PLAY
DESCRIPTION:
URL:https://hawickbaptistchurch.com/event/mainly-play-2/2026-10-27/
LOCATION:Hawick Baptist Church\, North Bridge Street\, Hawick\, United Kingdom
ORGANIZER;CN="Mainly Play HBC":MAILTO:mainlyplayhbc@gmail.com
END:VEVENT
BEGIN:VEVENT
DTSTART;TZID=UTC:20261028T160000
DTEND;TZID=UTC:20261028T170000
DTSTAMP:20260423T061632
CREATED:20241107T103959Z
LAST-MODIFIED:20241107T150551Z
UID:10000887-1793203200-1793206800@hawickbaptistchurch.com
SUMMARY:PRAYER MEETING
DESCRIPTION:
URL:https://hawickbaptistchurch.com/event/prayer-meeting/2026-10-28/
LOCATION:Hawick Baptist Church\, North Bridge Street\, Hawick\, United Kingdom
END:VEVENT
BEGIN:VEVENT
DTSTART;TZID=UTC:20261029T190000
DTEND;TZID=UTC:20261029T210000
DTSTAMP:20260423T061632
CREATED:20241109T130702Z
LAST-MODIFIED:20241109T130736Z
UID:10001151-1793300400-1793307600@hawickbaptistchurch.com
SUMMARY:HOME GROUPS
DESCRIPTION:
URL:https://hawickbaptistchurch.com/event/home-groups/2026-10-29/
END:VEVENT
BEGIN:VEVENT
DTSTART;TZID=Europe/London:20261101T103000
DTEND;TZID=Europe/London:20261101T113000
DTSTAMP:20260423T061632
CREATED:20241104T182139Z
LAST-MODIFIED:20250826T082821Z
UID:10000105-1793529000-1793532600@hawickbaptistchurch.com
SUMMARY:SUNDAY SERVICE
DESCRIPTION:We meet at 10:30 AM every Sunday morning for our main time together as a whole church family at our building on North Bridge Street\, Hawick.
URL:https://hawickbaptistchurch.com/event/sunday-service/2026-11-01/
LOCATION:Hawick Baptist Church\, North Bridge Street\, Hawick\, United Kingdom
END:VEVENT
BEGIN:VEVENT
DTSTART;TZID=UTC:20261103T100000
DTEND;TZID=UTC:20261103T110000
DTSTAMP:20260423T061632
CREATED:20241107T103814Z
LAST-MODIFIED:20250213T142056Z
UID:10000366-1793700000-1793703600@hawickbaptistchurch.com
SUMMARY:MAINLY PLAY
DESCRIPTION:
URL:https://hawickbaptistchurch.com/event/mainly-play-2/2026-11-03/
LOCATION:Hawick Baptist Church\, North Bridge Street\, Hawick\, United Kingdom
ORGANIZER;CN="Mainly Play HBC":MAILTO:mainlyplayhbc@gmail.com
END:VEVENT
BEGIN:VEVENT
DTSTART;TZID=UTC:20261104T160000
DTEND;TZID=UTC:20261104T170000
DTSTAMP:20260423T061632
CREATED:20241107T103959Z
LAST-MODIFIED:20241107T150551Z
UID:10000888-1793808000-1793811600@hawickbaptistchurch.com
SUMMARY:PRAYER MEETING
DESCRIPTION:
URL:https://hawickbaptistchurch.com/event/prayer-meeting/2026-11-04/
LOCATION:Hawick Baptist Church\, North Bridge Street\, Hawick\, United Kingdom
END:VEVENT
BEGIN:VEVENT
DTSTART;TZID=UTC:20261105T190000
DTEND;TZID=UTC:20261105T210000
DTSTAMP:20260423T061632
CREATED:20241109T130702Z
LAST-MODIFIED:20241109T130736Z
UID:10001152-1793905200-1793912400@hawickbaptistchurch.com
SUMMARY:HOME GROUPS
DESCRIPTION:
URL:https://hawickbaptistchurch.com/event/home-groups/2026-11-05/
END:VEVENT
BEGIN:VEVENT
DTSTART;TZID=Europe/London:20261108T103000
DTEND;TZID=Europe/London:20261108T113000
DTSTAMP:20260423T061632
CREATED:20241104T182139Z
LAST-MODIFIED:20250826T082821Z
UID:10000106-1794133800-1794137400@hawickbaptistchurch.com
SUMMARY:SUNDAY SERVICE
DESCRIPTION:We meet at 10:30 AM every Sunday morning for our main time together as a whole church family at our building on North Bridge Street\, Hawick.
URL:https://hawickbaptistchurch.com/event/sunday-service/2026-11-08/
LOCATION:Hawick Baptist Church\, North Bridge Street\, Hawick\, United Kingdom
END:VEVENT
BEGIN:VEVENT
DTSTART;TZID=UTC:20261110T100000
DTEND;TZID=UTC:20261110T110000
DTSTAMP:20260423T061632
CREATED:20241107T103814Z
LAST-MODIFIED:20250213T142056Z
UID:10000367-1794304800-1794308400@hawickbaptistchurch.com
SUMMARY:MAINLY PLAY
DESCRIPTION:
URL:https://hawickbaptistchurch.com/event/mainly-play-2/2026-11-10/
LOCATION:Hawick Baptist Church\, North Bridge Street\, Hawick\, United Kingdom
ORGANIZER;CN="Mainly Play HBC":MAILTO:mainlyplayhbc@gmail.com
END:VEVENT
BEGIN:VEVENT
DTSTART;TZID=UTC:20261111T160000
DTEND;TZID=UTC:20261111T170000
DTSTAMP:20260423T061632
CREATED:20241107T103959Z
LAST-MODIFIED:20241107T150551Z
UID:10000889-1794412800-1794416400@hawickbaptistchurch.com
SUMMARY:PRAYER MEETING
DESCRIPTION:
URL:https://hawickbaptistchurch.com/event/prayer-meeting/2026-11-11/
LOCATION:Hawick Baptist Church\, North Bridge Street\, Hawick\, United Kingdom
END:VEVENT
BEGIN:VEVENT
DTSTART;TZID=UTC:20261112T190000
DTEND;TZID=UTC:20261112T210000
DTSTAMP:20260423T061632
CREATED:20241109T130702Z
LAST-MODIFIED:20241109T130736Z
UID:10001153-1794510000-1794517200@hawickbaptistchurch.com
SUMMARY:HOME GROUPS
DESCRIPTION:
URL:https://hawickbaptistchurch.com/event/home-groups/2026-11-12/
END:VEVENT
BEGIN:VEVENT
DTSTART;TZID=Europe/London:20261115T103000
DTEND;TZID=Europe/London:20261115T113000
DTSTAMP:20260423T061632
CREATED:20241104T182139Z
LAST-MODIFIED:20250826T082821Z
UID:10000107-1794738600-1794742200@hawickbaptistchurch.com
SUMMARY:SUNDAY SERVICE
DESCRIPTION:We meet at 10:30 AM every Sunday morning for our main time together as a whole church family at our building on North Bridge Street\, Hawick.
URL:https://hawickbaptistchurch.com/event/sunday-service/2026-11-15/
LOCATION:Hawick Baptist Church\, North Bridge Street\, Hawick\, United Kingdom
END:VEVENT
BEGIN:VEVENT
DTSTART;TZID=UTC:20261117T100000
DTEND;TZID=UTC:20261117T110000
DTSTAMP:20260423T061632
CREATED:20241107T103814Z
LAST-MODIFIED:20250213T142056Z
UID:10000368-1794909600-1794913200@hawickbaptistchurch.com
SUMMARY:MAINLY PLAY
DESCRIPTION:
URL:https://hawickbaptistchurch.com/event/mainly-play-2/2026-11-17/
LOCATION:Hawick Baptist Church\, North Bridge Street\, Hawick\, United Kingdom
ORGANIZER;CN="Mainly Play HBC":MAILTO:mainlyplayhbc@gmail.com
END:VEVENT
BEGIN:VEVENT
DTSTART;TZID=UTC:20261118T160000
DTEND;TZID=UTC:20261118T170000
DTSTAMP:20260423T061632
CREATED:20241107T103959Z
LAST-MODIFIED:20241107T150551Z
UID:10000890-1795017600-1795021200@hawickbaptistchurch.com
SUMMARY:PRAYER MEETING
DESCRIPTION:
URL:https://hawickbaptistchurch.com/event/prayer-meeting/2026-11-18/
LOCATION:Hawick Baptist Church\, North Bridge Street\, Hawick\, United Kingdom
END:VEVENT
BEGIN:VEVENT
DTSTART;TZID=UTC:20261119T190000
DTEND;TZID=UTC:20261119T210000
DTSTAMP:20260423T061632
CREATED:20241109T130702Z
LAST-MODIFIED:20241109T130736Z
UID:10001154-1795114800-1795122000@hawickbaptistchurch.com
SUMMARY:HOME GROUPS
DESCRIPTION:
URL:https://hawickbaptistchurch.com/event/home-groups/2026-11-19/
END:VEVENT
BEGIN:VEVENT
DTSTART;TZID=Europe/London:20261122T103000
DTEND;TZID=Europe/London:20261122T113000
DTSTAMP:20260423T061632
CREATED:20241104T182139Z
LAST-MODIFIED:20250826T082821Z
UID:10000108-1795343400-1795347000@hawickbaptistchurch.com
SUMMARY:SUNDAY SERVICE
DESCRIPTION:We meet at 10:30 AM every Sunday morning for our main time together as a whole church family at our building on North Bridge Street\, Hawick.
URL:https://hawickbaptistchurch.com/event/sunday-service/2026-11-22/
LOCATION:Hawick Baptist Church\, North Bridge Street\, Hawick\, United Kingdom
END:VEVENT
BEGIN:VEVENT
DTSTART;TZID=UTC:20261124T100000
DTEND;TZID=UTC:20261124T110000
DTSTAMP:20260423T061632
CREATED:20241107T103814Z
LAST-MODIFIED:20250213T142056Z
UID:10000369-1795514400-1795518000@hawickbaptistchurch.com
SUMMARY:MAINLY PLAY
DESCRIPTION:
URL:https://hawickbaptistchurch.com/event/mainly-play-2/2026-11-24/
LOCATION:Hawick Baptist Church\, North Bridge Street\, Hawick\, United Kingdom
ORGANIZER;CN="Mainly Play HBC":MAILTO:mainlyplayhbc@gmail.com
END:VEVENT
BEGIN:VEVENT
DTSTART;TZID=UTC:20261125T160000
DTEND;TZID=UTC:20261125T170000
DTSTAMP:20260423T061632
CREATED:20241107T103959Z
LAST-MODIFIED:20241107T150551Z
UID:10000891-1795622400-1795626000@hawickbaptistchurch.com
SUMMARY:PRAYER MEETING
DESCRIPTION:
URL:https://hawickbaptistchurch.com/event/prayer-meeting/2026-11-25/
LOCATION:Hawick Baptist Church\, North Bridge Street\, Hawick\, United Kingdom
END:VEVENT
BEGIN:VEVENT
DTSTART;TZID=UTC:20261126T190000
DTEND;TZID=UTC:20261126T210000
DTSTAMP:20260423T061632
CREATED:20241109T130702Z
LAST-MODIFIED:20241109T130736Z
UID:10001155-1795719600-1795726800@hawickbaptistchurch.com
SUMMARY:HOME GROUPS
DESCRIPTION:
URL:https://hawickbaptistchurch.com/event/home-groups/2026-11-26/
END:VEVENT
BEGIN:VEVENT
DTSTART;TZID=Europe/London:20261129T103000
DTEND;TZID=Europe/London:20261129T113000
DTSTAMP:20260423T061632
CREATED:20241104T182139Z
LAST-MODIFIED:20250826T082821Z
UID:10000109-1795948200-1795951800@hawickbaptistchurch.com
SUMMARY:SUNDAY SERVICE
DESCRIPTION:We meet at 10:30 AM every Sunday morning for our main time together as a whole church family at our building on North Bridge Street\, Hawick.
URL:https://hawickbaptistchurch.com/event/sunday-service/2026-11-29/
LOCATION:Hawick Baptist Church\, North Bridge Street\, Hawick\, United Kingdom
END:VEVENT
BEGIN:VEVENT
DTSTART;TZID=UTC:20261201T100000
DTEND;TZID=UTC:20261201T110000
DTSTAMP:20260423T061632
CREATED:20241107T103814Z
LAST-MODIFIED:20250213T142056Z
UID:10000370-1796119200-1796122800@hawickbaptistchurch.com
SUMMARY:MAINLY PLAY
DESCRIPTION:
URL:https://hawickbaptistchurch.com/event/mainly-play-2/2026-12-01/
LOCATION:Hawick Baptist Church\, North Bridge Street\, Hawick\, United Kingdom
ORGANIZER;CN="Mainly Play HBC":MAILTO:mainlyplayhbc@gmail.com
END:VEVENT
BEGIN:VEVENT
DTSTART;TZID=UTC:20261202T160000
DTEND;TZID=UTC:20261202T170000
DTSTAMP:20260423T061632
CREATED:20241107T103959Z
LAST-MODIFIED:20241107T150551Z
UID:10000892-1796227200-1796230800@hawickbaptistchurch.com
SUMMARY:PRAYER MEETING
DESCRIPTION:
URL:https://hawickbaptistchurch.com/event/prayer-meeting/2026-12-02/
LOCATION:Hawick Baptist Church\, North Bridge Street\, Hawick\, United Kingdom
END:VEVENT
BEGIN:VEVENT
DTSTART;TZID=UTC:20261203T190000
DTEND;TZID=UTC:20261203T210000
DTSTAMP:20260423T061632
CREATED:20241109T130702Z
LAST-MODIFIED:20241109T130736Z
UID:10001156-1796324400-1796331600@hawickbaptistchurch.com
SUMMARY:HOME GROUPS
DESCRIPTION:
URL:https://hawickbaptistchurch.com/event/home-groups/2026-12-03/
END:VEVENT
BEGIN:VEVENT
DTSTART;TZID=Europe/London:20261206T103000
DTEND;TZID=Europe/London:20261206T113000
DTSTAMP:20260423T061632
CREATED:20241104T182139Z
LAST-MODIFIED:20250826T082821Z
UID:10000110-1796553000-1796556600@hawickbaptistchurch.com
SUMMARY:SUNDAY SERVICE
DESCRIPTION:We meet at 10:30 AM every Sunday morning for our main time together as a whole church family at our building on North Bridge Street\, Hawick.
URL:https://hawickbaptistchurch.com/event/sunday-service/2026-12-06/
LOCATION:Hawick Baptist Church\, North Bridge Street\, Hawick\, United Kingdom
END:VEVENT
BEGIN:VEVENT
DTSTART;TZID=UTC:20261208T100000
DTEND;TZID=UTC:20261208T110000
DTSTAMP:20260423T061632
CREATED:20241107T103814Z
LAST-MODIFIED:20250213T142056Z
UID:10000371-1796724000-1796727600@hawickbaptistchurch.com
SUMMARY:MAINLY PLAY
DESCRIPTION:
URL:https://hawickbaptistchurch.com/event/mainly-play-2/2026-12-08/
LOCATION:Hawick Baptist Church\, North Bridge Street\, Hawick\, United Kingdom
ORGANIZER;CN="Mainly Play HBC":MAILTO:mainlyplayhbc@gmail.com
END:VEVENT
BEGIN:VEVENT
DTSTART;TZID=UTC:20261209T160000
DTEND;TZID=UTC:20261209T170000
DTSTAMP:20260423T061632
CREATED:20241107T103959Z
LAST-MODIFIED:20241107T150551Z
UID:10000893-1796832000-1796835600@hawickbaptistchurch.com
SUMMARY:PRAYER MEETING
DESCRIPTION:
URL:https://hawickbaptistchurch.com/event/prayer-meeting/2026-12-09/
LOCATION:Hawick Baptist Church\, North Bridge Street\, Hawick\, United Kingdom
END:VEVENT
END:VCALENDAR