BEGIN:VCALENDAR
VERSION:2.0
PRODID:-//Hawick Baptist Church - ECPv6.15.20//NONSGML v1.0//EN
CALSCALE:GREGORIAN
METHOD:PUBLISH
X-WR-CALNAME:Hawick Baptist Church
X-ORIGINAL-URL:https://hawickbaptistchurch.com
X-WR-CALDESC:Events for Hawick Baptist Church
REFRESH-INTERVAL;VALUE=DURATION:PT1H
X-Robots-Tag:noindex
X-PUBLISHED-TTL:PT1H
BEGIN:VTIMEZONE
TZID:UTC
BEGIN:STANDARD
TZOFFSETFROM:+0000
TZOFFSETTO:+0000
TZNAME:UTC
DTSTART:20260101T000000
END:STANDARD
END:VTIMEZONE
BEGIN:VTIMEZONE
TZID:Europe/London
BEGIN:DAYLIGHT
TZOFFSETFROM:+0000
TZOFFSETTO:+0100
TZNAME:BST
DTSTART:20260329T010000
END:DAYLIGHT
BEGIN:STANDARD
TZOFFSETFROM:+0100
TZOFFSETTO:+0000
TZNAME:GMT
DTSTART:20261025T010000
END:STANDARD
BEGIN:DAYLIGHT
TZOFFSETFROM:+0000
TZOFFSETTO:+0100
TZNAME:BST
DTSTART:20270328T010000
END:DAYLIGHT
BEGIN:STANDARD
TZOFFSETFROM:+0100
TZOFFSETTO:+0000
TZNAME:GMT
DTSTART:20271031T010000
END:STANDARD
BEGIN:DAYLIGHT
TZOFFSETFROM:+0000
TZOFFSETTO:+0100
TZNAME:BST
DTSTART:20280326T010000
END:DAYLIGHT
BEGIN:STANDARD
TZOFFSETFROM:+0100
TZOFFSETTO:+0000
TZNAME:GMT
DTSTART:20281029T010000
END:STANDARD
END:VTIMEZONE
BEGIN:VEVENT
DTSTART;TZID=UTC:20270923T190000
DTEND;TZID=UTC:20270923T210000
DTSTAMP:20260425T154527
CREATED:20241109T130702Z
LAST-MODIFIED:20241109T130736Z
UID:10001198-1821726000-1821733200@hawickbaptistchurch.com
SUMMARY:HOME GROUPS
DESCRIPTION:
URL:https://hawickbaptistchurch.com/event/home-groups/2027-09-23/
END:VEVENT
BEGIN:VEVENT
DTSTART;TZID=Europe/London:20270926T103000
DTEND;TZID=Europe/London:20270926T113000
DTSTAMP:20260425T154527
CREATED:20241104T182139Z
LAST-MODIFIED:20250826T082821Z
UID:10000152-1821954600-1821958200@hawickbaptistchurch.com
SUMMARY:SUNDAY SERVICE
DESCRIPTION:We meet at 10:30 AM every Sunday morning for our main time together as a whole church family at our building on North Bridge Street\, Hawick.
URL:https://hawickbaptistchurch.com/event/sunday-service/2027-09-26/
LOCATION:Hawick Baptist Church\, North Bridge Street\, Hawick\, United Kingdom
END:VEVENT
BEGIN:VEVENT
DTSTART;TZID=UTC:20270928T100000
DTEND;TZID=UTC:20270928T110000
DTSTAMP:20260425T154527
CREATED:20241107T103814Z
LAST-MODIFIED:20250213T142056Z
UID:10000413-1822125600-1822129200@hawickbaptistchurch.com
SUMMARY:MAINLY PLAY
DESCRIPTION:
URL:https://hawickbaptistchurch.com/event/mainly-play-2/2027-09-28/
LOCATION:Hawick Baptist Church\, North Bridge Street\, Hawick\, United Kingdom
ORGANIZER;CN="Mainly Play HBC":MAILTO:mainlyplayhbc@gmail.com
END:VEVENT
BEGIN:VEVENT
DTSTART;TZID=UTC:20270929T160000
DTEND;TZID=UTC:20270929T170000
DTSTAMP:20260425T154527
CREATED:20241107T103959Z
LAST-MODIFIED:20241107T150551Z
UID:10000935-1822233600-1822237200@hawickbaptistchurch.com
SUMMARY:PRAYER MEETING
DESCRIPTION:
URL:https://hawickbaptistchurch.com/event/prayer-meeting/2027-09-29/
LOCATION:Hawick Baptist Church\, North Bridge Street\, Hawick\, United Kingdom
END:VEVENT
BEGIN:VEVENT
DTSTART;TZID=UTC:20270930T190000
DTEND;TZID=UTC:20270930T210000
DTSTAMP:20260425T154527
CREATED:20241109T130702Z
LAST-MODIFIED:20241109T130736Z
UID:10001199-1822330800-1822338000@hawickbaptistchurch.com
SUMMARY:HOME GROUPS
DESCRIPTION:
URL:https://hawickbaptistchurch.com/event/home-groups/2027-09-30/
END:VEVENT
BEGIN:VEVENT
DTSTART;TZID=Europe/London:20271003T103000
DTEND;TZID=Europe/London:20271003T113000
DTSTAMP:20260425T154527
CREATED:20241104T182139Z
LAST-MODIFIED:20250826T082821Z
UID:10000153-1822559400-1822563000@hawickbaptistchurch.com
SUMMARY:SUNDAY SERVICE
DESCRIPTION:We meet at 10:30 AM every Sunday morning for our main time together as a whole church family at our building on North Bridge Street\, Hawick.
URL:https://hawickbaptistchurch.com/event/sunday-service/2027-10-03/
LOCATION:Hawick Baptist Church\, North Bridge Street\, Hawick\, United Kingdom
END:VEVENT
BEGIN:VEVENT
DTSTART;TZID=UTC:20271005T100000
DTEND;TZID=UTC:20271005T110000
DTSTAMP:20260425T154527
CREATED:20241107T103814Z
LAST-MODIFIED:20250213T142056Z
UID:10000414-1822730400-1822734000@hawickbaptistchurch.com
SUMMARY:MAINLY PLAY
DESCRIPTION:
URL:https://hawickbaptistchurch.com/event/mainly-play-2/2027-10-05/
LOCATION:Hawick Baptist Church\, North Bridge Street\, Hawick\, United Kingdom
ORGANIZER;CN="Mainly Play HBC":MAILTO:mainlyplayhbc@gmail.com
END:VEVENT
BEGIN:VEVENT
DTSTART;TZID=UTC:20271006T160000
DTEND;TZID=UTC:20271006T170000
DTSTAMP:20260425T154527
CREATED:20241107T103959Z
LAST-MODIFIED:20241107T150551Z
UID:10000936-1822838400-1822842000@hawickbaptistchurch.com
SUMMARY:PRAYER MEETING
DESCRIPTION:
URL:https://hawickbaptistchurch.com/event/prayer-meeting/2027-10-06/
LOCATION:Hawick Baptist Church\, North Bridge Street\, Hawick\, United Kingdom
END:VEVENT
BEGIN:VEVENT
DTSTART;TZID=UTC:20271007T190000
DTEND;TZID=UTC:20271007T210000
DTSTAMP:20260425T154527
CREATED:20241109T130702Z
LAST-MODIFIED:20241109T130736Z
UID:10001200-1822935600-1822942800@hawickbaptistchurch.com
SUMMARY:HOME GROUPS
DESCRIPTION:
URL:https://hawickbaptistchurch.com/event/home-groups/2027-10-07/
END:VEVENT
BEGIN:VEVENT
DTSTART;TZID=Europe/London:20271010T103000
DTEND;TZID=Europe/London:20271010T113000
DTSTAMP:20260425T154527
CREATED:20241104T182139Z
LAST-MODIFIED:20250826T082821Z
UID:10000154-1823164200-1823167800@hawickbaptistchurch.com
SUMMARY:SUNDAY SERVICE
DESCRIPTION:We meet at 10:30 AM every Sunday morning for our main time together as a whole church family at our building on North Bridge Street\, Hawick.
URL:https://hawickbaptistchurch.com/event/sunday-service/2027-10-10/
LOCATION:Hawick Baptist Church\, North Bridge Street\, Hawick\, United Kingdom
END:VEVENT
BEGIN:VEVENT
DTSTART;TZID=UTC:20271012T100000
DTEND;TZID=UTC:20271012T110000
DTSTAMP:20260425T154527
CREATED:20241107T103814Z
LAST-MODIFIED:20250213T142056Z
UID:10000415-1823335200-1823338800@hawickbaptistchurch.com
SUMMARY:MAINLY PLAY
DESCRIPTION:
URL:https://hawickbaptistchurch.com/event/mainly-play-2/2027-10-12/
LOCATION:Hawick Baptist Church\, North Bridge Street\, Hawick\, United Kingdom
ORGANIZER;CN="Mainly Play HBC":MAILTO:mainlyplayhbc@gmail.com
END:VEVENT
BEGIN:VEVENT
DTSTART;TZID=UTC:20271013T160000
DTEND;TZID=UTC:20271013T170000
DTSTAMP:20260425T154527
CREATED:20241107T103959Z
LAST-MODIFIED:20241107T150551Z
UID:10000937-1823443200-1823446800@hawickbaptistchurch.com
SUMMARY:PRAYER MEETING
DESCRIPTION:
URL:https://hawickbaptistchurch.com/event/prayer-meeting/2027-10-13/
LOCATION:Hawick Baptist Church\, North Bridge Street\, Hawick\, United Kingdom
END:VEVENT
BEGIN:VEVENT
DTSTART;TZID=UTC:20271014T190000
DTEND;TZID=UTC:20271014T210000
DTSTAMP:20260425T154527
CREATED:20241109T130702Z
LAST-MODIFIED:20241109T130736Z
UID:10001201-1823540400-1823547600@hawickbaptistchurch.com
SUMMARY:HOME GROUPS
DESCRIPTION:
URL:https://hawickbaptistchurch.com/event/home-groups/2027-10-14/
END:VEVENT
BEGIN:VEVENT
DTSTART;TZID=Europe/London:20271017T103000
DTEND;TZID=Europe/London:20271017T113000
DTSTAMP:20260425T154527
CREATED:20241104T182139Z
LAST-MODIFIED:20250826T082821Z
UID:10000155-1823769000-1823772600@hawickbaptistchurch.com
SUMMARY:SUNDAY SERVICE
DESCRIPTION:We meet at 10:30 AM every Sunday morning for our main time together as a whole church family at our building on North Bridge Street\, Hawick.
URL:https://hawickbaptistchurch.com/event/sunday-service/2027-10-17/
LOCATION:Hawick Baptist Church\, North Bridge Street\, Hawick\, United Kingdom
END:VEVENT
BEGIN:VEVENT
DTSTART;TZID=UTC:20271019T100000
DTEND;TZID=UTC:20271019T110000
DTSTAMP:20260425T154527
CREATED:20241107T103814Z
LAST-MODIFIED:20250213T142056Z
UID:10000416-1823940000-1823943600@hawickbaptistchurch.com
SUMMARY:MAINLY PLAY
DESCRIPTION:
URL:https://hawickbaptistchurch.com/event/mainly-play-2/2027-10-19/
LOCATION:Hawick Baptist Church\, North Bridge Street\, Hawick\, United Kingdom
ORGANIZER;CN="Mainly Play HBC":MAILTO:mainlyplayhbc@gmail.com
END:VEVENT
BEGIN:VEVENT
DTSTART;TZID=UTC:20271020T160000
DTEND;TZID=UTC:20271020T170000
DTSTAMP:20260425T154527
CREATED:20241107T103959Z
LAST-MODIFIED:20241107T150551Z
UID:10000938-1824048000-1824051600@hawickbaptistchurch.com
SUMMARY:PRAYER MEETING
DESCRIPTION:
URL:https://hawickbaptistchurch.com/event/prayer-meeting/2027-10-20/
LOCATION:Hawick Baptist Church\, North Bridge Street\, Hawick\, United Kingdom
END:VEVENT
BEGIN:VEVENT
DTSTART;TZID=UTC:20271021T190000
DTEND;TZID=UTC:20271021T210000
DTSTAMP:20260425T154527
CREATED:20241109T130702Z
LAST-MODIFIED:20241109T130736Z
UID:10001202-1824145200-1824152400@hawickbaptistchurch.com
SUMMARY:HOME GROUPS
DESCRIPTION:
URL:https://hawickbaptistchurch.com/event/home-groups/2027-10-21/
END:VEVENT
BEGIN:VEVENT
DTSTART;TZID=Europe/London:20271024T103000
DTEND;TZID=Europe/London:20271024T113000
DTSTAMP:20260425T154527
CREATED:20241104T182139Z
LAST-MODIFIED:20250826T082821Z
UID:10000156-1824373800-1824377400@hawickbaptistchurch.com
SUMMARY:SUNDAY SERVICE
DESCRIPTION:We meet at 10:30 AM every Sunday morning for our main time together as a whole church family at our building on North Bridge Street\, Hawick.
URL:https://hawickbaptistchurch.com/event/sunday-service/2027-10-24/
LOCATION:Hawick Baptist Church\, North Bridge Street\, Hawick\, United Kingdom
END:VEVENT
BEGIN:VEVENT
DTSTART;TZID=UTC:20271026T100000
DTEND;TZID=UTC:20271026T110000
DTSTAMP:20260425T154527
CREATED:20241107T103814Z
LAST-MODIFIED:20250213T142056Z
UID:10000417-1824544800-1824548400@hawickbaptistchurch.com
SUMMARY:MAINLY PLAY
DESCRIPTION:
URL:https://hawickbaptistchurch.com/event/mainly-play-2/2027-10-26/
LOCATION:Hawick Baptist Church\, North Bridge Street\, Hawick\, United Kingdom
ORGANIZER;CN="Mainly Play HBC":MAILTO:mainlyplayhbc@gmail.com
END:VEVENT
BEGIN:VEVENT
DTSTART;TZID=UTC:20271027T160000
DTEND;TZID=UTC:20271027T170000
DTSTAMP:20260425T154527
CREATED:20241107T103959Z
LAST-MODIFIED:20241107T150551Z
UID:10000939-1824652800-1824656400@hawickbaptistchurch.com
SUMMARY:PRAYER MEETING
DESCRIPTION:
URL:https://hawickbaptistchurch.com/event/prayer-meeting/2027-10-27/
LOCATION:Hawick Baptist Church\, North Bridge Street\, Hawick\, United Kingdom
END:VEVENT
BEGIN:VEVENT
DTSTART;TZID=UTC:20271028T190000
DTEND;TZID=UTC:20271028T210000
DTSTAMP:20260425T154527
CREATED:20241109T130702Z
LAST-MODIFIED:20241109T130736Z
UID:10001203-1824750000-1824757200@hawickbaptistchurch.com
SUMMARY:HOME GROUPS
DESCRIPTION:
URL:https://hawickbaptistchurch.com/event/home-groups/2027-10-28/
END:VEVENT
BEGIN:VEVENT
DTSTART;TZID=Europe/London:20271031T103000
DTEND;TZID=Europe/London:20271031T113000
DTSTAMP:20260425T154527
CREATED:20241104T182139Z
LAST-MODIFIED:20250826T082821Z
UID:10000157-1824978600-1824982200@hawickbaptistchurch.com
SUMMARY:SUNDAY SERVICE
DESCRIPTION:We meet at 10:30 AM every Sunday morning for our main time together as a whole church family at our building on North Bridge Street\, Hawick.
URL:https://hawickbaptistchurch.com/event/sunday-service/2027-10-31/
LOCATION:Hawick Baptist Church\, North Bridge Street\, Hawick\, United Kingdom
END:VEVENT
BEGIN:VEVENT
DTSTART;TZID=UTC:20271102T100000
DTEND;TZID=UTC:20271102T110000
DTSTAMP:20260425T154527
CREATED:20241107T103814Z
LAST-MODIFIED:20250213T142056Z
UID:10000418-1825149600-1825153200@hawickbaptistchurch.com
SUMMARY:MAINLY PLAY
DESCRIPTION:
URL:https://hawickbaptistchurch.com/event/mainly-play-2/2027-11-02/
LOCATION:Hawick Baptist Church\, North Bridge Street\, Hawick\, United Kingdom
ORGANIZER;CN="Mainly Play HBC":MAILTO:mainlyplayhbc@gmail.com
END:VEVENT
BEGIN:VEVENT
DTSTART;TZID=UTC:20271103T160000
DTEND;TZID=UTC:20271103T170000
DTSTAMP:20260425T154527
CREATED:20241107T103959Z
LAST-MODIFIED:20241107T150551Z
UID:10000940-1825257600-1825261200@hawickbaptistchurch.com
SUMMARY:PRAYER MEETING
DESCRIPTION:
URL:https://hawickbaptistchurch.com/event/prayer-meeting/2027-11-03/
LOCATION:Hawick Baptist Church\, North Bridge Street\, Hawick\, United Kingdom
END:VEVENT
BEGIN:VEVENT
DTSTART;TZID=UTC:20271104T190000
DTEND;TZID=UTC:20271104T210000
DTSTAMP:20260425T154527
CREATED:20241109T130702Z
LAST-MODIFIED:20241109T130736Z
UID:10001204-1825354800-1825362000@hawickbaptistchurch.com
SUMMARY:HOME GROUPS
DESCRIPTION:
URL:https://hawickbaptistchurch.com/event/home-groups/2027-11-04/
END:VEVENT
BEGIN:VEVENT
DTSTART;TZID=Europe/London:20271107T103000
DTEND;TZID=Europe/London:20271107T113000
DTSTAMP:20260425T154527
CREATED:20241104T182139Z
LAST-MODIFIED:20250826T082821Z
UID:10000158-1825583400-1825587000@hawickbaptistchurch.com
SUMMARY:SUNDAY SERVICE
DESCRIPTION:We meet at 10:30 AM every Sunday morning for our main time together as a whole church family at our building on North Bridge Street\, Hawick.
URL:https://hawickbaptistchurch.com/event/sunday-service/2027-11-07/
LOCATION:Hawick Baptist Church\, North Bridge Street\, Hawick\, United Kingdom
END:VEVENT
BEGIN:VEVENT
DTSTART;TZID=UTC:20271109T100000
DTEND;TZID=UTC:20271109T110000
DTSTAMP:20260425T154527
CREATED:20241107T103814Z
LAST-MODIFIED:20250213T142056Z
UID:10000419-1825754400-1825758000@hawickbaptistchurch.com
SUMMARY:MAINLY PLAY
DESCRIPTION:
URL:https://hawickbaptistchurch.com/event/mainly-play-2/2027-11-09/
LOCATION:Hawick Baptist Church\, North Bridge Street\, Hawick\, United Kingdom
ORGANIZER;CN="Mainly Play HBC":MAILTO:mainlyplayhbc@gmail.com
END:VEVENT
BEGIN:VEVENT
DTSTART;TZID=UTC:20271110T160000
DTEND;TZID=UTC:20271110T170000
DTSTAMP:20260425T154527
CREATED:20241107T103959Z
LAST-MODIFIED:20241107T150551Z
UID:10000941-1825862400-1825866000@hawickbaptistchurch.com
SUMMARY:PRAYER MEETING
DESCRIPTION:
URL:https://hawickbaptistchurch.com/event/prayer-meeting/2027-11-10/
LOCATION:Hawick Baptist Church\, North Bridge Street\, Hawick\, United Kingdom
END:VEVENT
BEGIN:VEVENT
DTSTART;TZID=UTC:20271111T190000
DTEND;TZID=UTC:20271111T210000
DTSTAMP:20260425T154527
CREATED:20241109T130702Z
LAST-MODIFIED:20241109T130736Z
UID:10001205-1825959600-1825966800@hawickbaptistchurch.com
SUMMARY:HOME GROUPS
DESCRIPTION:
URL:https://hawickbaptistchurch.com/event/home-groups/2027-11-11/
END:VEVENT
BEGIN:VEVENT
DTSTART;TZID=Europe/London:20271114T103000
DTEND;TZID=Europe/London:20271114T113000
DTSTAMP:20260425T154527
CREATED:20241104T182139Z
LAST-MODIFIED:20250826T082821Z
UID:10000159-1826188200-1826191800@hawickbaptistchurch.com
SUMMARY:SUNDAY SERVICE
DESCRIPTION:We meet at 10:30 AM every Sunday morning for our main time together as a whole church family at our building on North Bridge Street\, Hawick.
URL:https://hawickbaptistchurch.com/event/sunday-service/2027-11-14/
LOCATION:Hawick Baptist Church\, North Bridge Street\, Hawick\, United Kingdom
END:VEVENT
END:VCALENDAR