BEGIN:VCALENDAR
VERSION:2.0
PRODID:-//Hawick Baptist Church - ECPv6.15.20//NONSGML v1.0//EN
CALSCALE:GREGORIAN
METHOD:PUBLISH
X-ORIGINAL-URL:https://hawickbaptistchurch.com
X-WR-CALDESC:Events for Hawick Baptist Church
REFRESH-INTERVAL;VALUE=DURATION:PT1H
X-Robots-Tag:noindex
X-PUBLISHED-TTL:PT1H
BEGIN:VTIMEZONE
TZID:UTC
BEGIN:STANDARD
TZOFFSETFROM:+0000
TZOFFSETTO:+0000
TZNAME:UTC
DTSTART:20260101T000000
END:STANDARD
END:VTIMEZONE
BEGIN:VTIMEZONE
TZID:Europe/London
BEGIN:DAYLIGHT
TZOFFSETFROM:+0000
TZOFFSETTO:+0100
TZNAME:BST
DTSTART:20260329T010000
END:DAYLIGHT
BEGIN:STANDARD
TZOFFSETFROM:+0100
TZOFFSETTO:+0000
TZNAME:GMT
DTSTART:20261025T010000
END:STANDARD
BEGIN:DAYLIGHT
TZOFFSETFROM:+0000
TZOFFSETTO:+0100
TZNAME:BST
DTSTART:20270328T010000
END:DAYLIGHT
BEGIN:STANDARD
TZOFFSETFROM:+0100
TZOFFSETTO:+0000
TZNAME:GMT
DTSTART:20271031T010000
END:STANDARD
BEGIN:DAYLIGHT
TZOFFSETFROM:+0000
TZOFFSETTO:+0100
TZNAME:BST
DTSTART:20280326T010000
END:DAYLIGHT
BEGIN:STANDARD
TZOFFSETFROM:+0100
TZOFFSETTO:+0000
TZNAME:GMT
DTSTART:20281029T010000
END:STANDARD
BEGIN:DAYLIGHT
TZOFFSETFROM:+0000
TZOFFSETTO:+0100
TZNAME:BST
DTSTART:20290325T010000
END:DAYLIGHT
BEGIN:STANDARD
TZOFFSETFROM:+0100
TZOFFSETTO:+0000
TZNAME:GMT
DTSTART:20291028T010000
END:STANDARD
END:VTIMEZONE
BEGIN:VEVENT
DTSTART;TZID=UTC:20271222T160000
DTEND;TZID=UTC:20271222T170000
DTSTAMP:20260425T122101
CREATED:20241107T103959Z
LAST-MODIFIED:20241107T150551Z
UID:10000947-1829491200-1829494800@hawickbaptistchurch.com
SUMMARY:PRAYER MEETING
DESCRIPTION:
URL:https://hawickbaptistchurch.com/event/prayer-meeting/2027-12-22/
LOCATION:Hawick Baptist Church\, North Bridge Street\, Hawick\, United Kingdom
END:VEVENT
BEGIN:VEVENT
DTSTART;TZID=UTC:20271223T190000
DTEND;TZID=UTC:20271223T210000
DTSTAMP:20260425T122101
CREATED:20241109T130702Z
LAST-MODIFIED:20241109T130736Z
UID:10001211-1829588400-1829595600@hawickbaptistchurch.com
SUMMARY:HOME GROUPS
DESCRIPTION:
URL:https://hawickbaptistchurch.com/event/home-groups/2027-12-23/
END:VEVENT
BEGIN:VEVENT
DTSTART;TZID=Europe/London:20271226T103000
DTEND;TZID=Europe/London:20271226T113000
DTSTAMP:20260425T122101
CREATED:20241104T182139Z
LAST-MODIFIED:20250826T082821Z
UID:10000165-1829817000-1829820600@hawickbaptistchurch.com
SUMMARY:SUNDAY SERVICE
DESCRIPTION:We meet at 10:30 AM every Sunday morning for our main time together as a whole church family at our building on North Bridge Street\, Hawick.
URL:https://hawickbaptistchurch.com/event/sunday-service/2027-12-26/
LOCATION:Hawick Baptist Church\, North Bridge Street\, Hawick\, United Kingdom
END:VEVENT
BEGIN:VEVENT
DTSTART;TZID=UTC:20271228T100000
DTEND;TZID=UTC:20271228T110000
DTSTAMP:20260425T122101
CREATED:20241107T103814Z
LAST-MODIFIED:20250213T142056Z
UID:10000426-1829988000-1829991600@hawickbaptistchurch.com
SUMMARY:MAINLY PLAY
DESCRIPTION:
URL:https://hawickbaptistchurch.com/event/mainly-play-2/2027-12-28/
LOCATION:Hawick Baptist Church\, North Bridge Street\, Hawick\, United Kingdom
ORGANIZER;CN="Mainly Play HBC":MAILTO:mainlyplayhbc@gmail.com
END:VEVENT
BEGIN:VEVENT
DTSTART;TZID=UTC:20271229T160000
DTEND;TZID=UTC:20271229T170000
DTSTAMP:20260425T122101
CREATED:20241107T103959Z
LAST-MODIFIED:20241107T150551Z
UID:10000948-1830096000-1830099600@hawickbaptistchurch.com
SUMMARY:PRAYER MEETING
DESCRIPTION:
URL:https://hawickbaptistchurch.com/event/prayer-meeting/2027-12-29/
LOCATION:Hawick Baptist Church\, North Bridge Street\, Hawick\, United Kingdom
END:VEVENT
BEGIN:VEVENT
DTSTART;TZID=UTC:20271230T190000
DTEND;TZID=UTC:20271230T210000
DTSTAMP:20260425T122101
CREATED:20241109T130702Z
LAST-MODIFIED:20241109T130736Z
UID:10001212-1830193200-1830200400@hawickbaptistchurch.com
SUMMARY:HOME GROUPS
DESCRIPTION:
URL:https://hawickbaptistchurch.com/event/home-groups/2027-12-30/
END:VEVENT
BEGIN:VEVENT
DTSTART;TZID=Europe/London:20280102T103000
DTEND;TZID=Europe/London:20280102T113000
DTSTAMP:20260425T122101
CREATED:20241104T182139Z
LAST-MODIFIED:20250826T082821Z
UID:10000166-1830421800-1830425400@hawickbaptistchurch.com
SUMMARY:SUNDAY SERVICE
DESCRIPTION:We meet at 10:30 AM every Sunday morning for our main time together as a whole church family at our building on North Bridge Street\, Hawick.
URL:https://hawickbaptistchurch.com/event/sunday-service/2028-01-02/
LOCATION:Hawick Baptist Church\, North Bridge Street\, Hawick\, United Kingdom
END:VEVENT
BEGIN:VEVENT
DTSTART;TZID=UTC:20280104T100000
DTEND;TZID=UTC:20280104T110000
DTSTAMP:20260425T122101
CREATED:20241107T103814Z
LAST-MODIFIED:20250213T142056Z
UID:10000427-1830592800-1830596400@hawickbaptistchurch.com
SUMMARY:MAINLY PLAY
DESCRIPTION:
URL:https://hawickbaptistchurch.com/event/mainly-play-2/2028-01-04/
LOCATION:Hawick Baptist Church\, North Bridge Street\, Hawick\, United Kingdom
ORGANIZER;CN="Mainly Play HBC":MAILTO:mainlyplayhbc@gmail.com
END:VEVENT
BEGIN:VEVENT
DTSTART;TZID=UTC:20280105T160000
DTEND;TZID=UTC:20280105T170000
DTSTAMP:20260425T122101
CREATED:20241107T103959Z
LAST-MODIFIED:20241107T150551Z
UID:10000949-1830700800-1830704400@hawickbaptistchurch.com
SUMMARY:PRAYER MEETING
DESCRIPTION:
URL:https://hawickbaptistchurch.com/event/prayer-meeting/2028-01-05/
LOCATION:Hawick Baptist Church\, North Bridge Street\, Hawick\, United Kingdom
END:VEVENT
BEGIN:VEVENT
DTSTART;TZID=UTC:20280106T190000
DTEND;TZID=UTC:20280106T210000
DTSTAMP:20260425T122101
CREATED:20241109T130702Z
LAST-MODIFIED:20241109T130736Z
UID:10001213-1830798000-1830805200@hawickbaptistchurch.com
SUMMARY:HOME GROUPS
DESCRIPTION:
URL:https://hawickbaptistchurch.com/event/home-groups/2028-01-06/
END:VEVENT
BEGIN:VEVENT
DTSTART;TZID=Europe/London:20280109T103000
DTEND;TZID=Europe/London:20280109T113000
DTSTAMP:20260425T122101
CREATED:20241104T182139Z
LAST-MODIFIED:20250826T082821Z
UID:10000167-1831026600-1831030200@hawickbaptistchurch.com
SUMMARY:SUNDAY SERVICE
DESCRIPTION:We meet at 10:30 AM every Sunday morning for our main time together as a whole church family at our building on North Bridge Street\, Hawick.
URL:https://hawickbaptistchurch.com/event/sunday-service/2028-01-09/
LOCATION:Hawick Baptist Church\, North Bridge Street\, Hawick\, United Kingdom
END:VEVENT
BEGIN:VEVENT
DTSTART;TZID=UTC:20280111T100000
DTEND;TZID=UTC:20280111T110000
DTSTAMP:20260425T122101
CREATED:20241107T103814Z
LAST-MODIFIED:20250213T142056Z
UID:10000428-1831197600-1831201200@hawickbaptistchurch.com
SUMMARY:MAINLY PLAY
DESCRIPTION:
URL:https://hawickbaptistchurch.com/event/mainly-play-2/2028-01-11/
LOCATION:Hawick Baptist Church\, North Bridge Street\, Hawick\, United Kingdom
ORGANIZER;CN="Mainly Play HBC":MAILTO:mainlyplayhbc@gmail.com
END:VEVENT
BEGIN:VEVENT
DTSTART;TZID=UTC:20280112T160000
DTEND;TZID=UTC:20280112T170000
DTSTAMP:20260425T122101
CREATED:20241107T103959Z
LAST-MODIFIED:20241107T150551Z
UID:10000950-1831305600-1831309200@hawickbaptistchurch.com
SUMMARY:PRAYER MEETING
DESCRIPTION:
URL:https://hawickbaptistchurch.com/event/prayer-meeting/2028-01-12/
LOCATION:Hawick Baptist Church\, North Bridge Street\, Hawick\, United Kingdom
END:VEVENT
BEGIN:VEVENT
DTSTART;TZID=UTC:20280113T190000
DTEND;TZID=UTC:20280113T210000
DTSTAMP:20260425T122101
CREATED:20241109T130702Z
LAST-MODIFIED:20241109T130736Z
UID:10001214-1831402800-1831410000@hawickbaptistchurch.com
SUMMARY:HOME GROUPS
DESCRIPTION:
URL:https://hawickbaptistchurch.com/event/home-groups/2028-01-13/
END:VEVENT
BEGIN:VEVENT
DTSTART;TZID=Europe/London:20280116T103000
DTEND;TZID=Europe/London:20280116T113000
DTSTAMP:20260425T122101
CREATED:20241104T182139Z
LAST-MODIFIED:20250826T082821Z
UID:10000168-1831631400-1831635000@hawickbaptistchurch.com
SUMMARY:SUNDAY SERVICE
DESCRIPTION:We meet at 10:30 AM every Sunday morning for our main time together as a whole church family at our building on North Bridge Street\, Hawick.
URL:https://hawickbaptistchurch.com/event/sunday-service/2028-01-16/
LOCATION:Hawick Baptist Church\, North Bridge Street\, Hawick\, United Kingdom
END:VEVENT
BEGIN:VEVENT
DTSTART;TZID=UTC:20280118T100000
DTEND;TZID=UTC:20280118T110000
DTSTAMP:20260425T122101
CREATED:20241107T103814Z
LAST-MODIFIED:20250213T142056Z
UID:10000429-1831802400-1831806000@hawickbaptistchurch.com
SUMMARY:MAINLY PLAY
DESCRIPTION:
URL:https://hawickbaptistchurch.com/event/mainly-play-2/2028-01-18/
LOCATION:Hawick Baptist Church\, North Bridge Street\, Hawick\, United Kingdom
ORGANIZER;CN="Mainly Play HBC":MAILTO:mainlyplayhbc@gmail.com
END:VEVENT
BEGIN:VEVENT
DTSTART;TZID=UTC:20280119T160000
DTEND;TZID=UTC:20280119T170000
DTSTAMP:20260425T122101
CREATED:20241107T103959Z
LAST-MODIFIED:20241107T150551Z
UID:10000951-1831910400-1831914000@hawickbaptistchurch.com
SUMMARY:PRAYER MEETING
DESCRIPTION:
URL:https://hawickbaptistchurch.com/event/prayer-meeting/2028-01-19/
LOCATION:Hawick Baptist Church\, North Bridge Street\, Hawick\, United Kingdom
END:VEVENT
BEGIN:VEVENT
DTSTART;TZID=UTC:20280120T190000
DTEND;TZID=UTC:20280120T210000
DTSTAMP:20260425T122101
CREATED:20241109T130702Z
LAST-MODIFIED:20241109T130736Z
UID:10001215-1832007600-1832014800@hawickbaptistchurch.com
SUMMARY:HOME GROUPS
DESCRIPTION:
URL:https://hawickbaptistchurch.com/event/home-groups/2028-01-20/
END:VEVENT
BEGIN:VEVENT
DTSTART;TZID=Europe/London:20280123T103000
DTEND;TZID=Europe/London:20280123T113000
DTSTAMP:20260425T122101
CREATED:20241104T182139Z
LAST-MODIFIED:20250826T082821Z
UID:10000169-1832236200-1832239800@hawickbaptistchurch.com
SUMMARY:SUNDAY SERVICE
DESCRIPTION:We meet at 10:30 AM every Sunday morning for our main time together as a whole church family at our building on North Bridge Street\, Hawick.
URL:https://hawickbaptistchurch.com/event/sunday-service/2028-01-23/
LOCATION:Hawick Baptist Church\, North Bridge Street\, Hawick\, United Kingdom
END:VEVENT
BEGIN:VEVENT
DTSTART;TZID=UTC:20280125T100000
DTEND;TZID=UTC:20280125T110000
DTSTAMP:20260425T122101
CREATED:20241107T103814Z
LAST-MODIFIED:20250213T142056Z
UID:10000430-1832407200-1832410800@hawickbaptistchurch.com
SUMMARY:MAINLY PLAY
DESCRIPTION:
URL:https://hawickbaptistchurch.com/event/mainly-play-2/2028-01-25/
LOCATION:Hawick Baptist Church\, North Bridge Street\, Hawick\, United Kingdom
ORGANIZER;CN="Mainly Play HBC":MAILTO:mainlyplayhbc@gmail.com
END:VEVENT
BEGIN:VEVENT
DTSTART;TZID=UTC:20280126T160000
DTEND;TZID=UTC:20280126T170000
DTSTAMP:20260425T122101
CREATED:20241107T103959Z
LAST-MODIFIED:20241107T150551Z
UID:10000952-1832515200-1832518800@hawickbaptistchurch.com
SUMMARY:PRAYER MEETING
DESCRIPTION:
URL:https://hawickbaptistchurch.com/event/prayer-meeting/2028-01-26/
LOCATION:Hawick Baptist Church\, North Bridge Street\, Hawick\, United Kingdom
END:VEVENT
BEGIN:VEVENT
DTSTART;TZID=UTC:20280127T190000
DTEND;TZID=UTC:20280127T210000
DTSTAMP:20260425T122101
CREATED:20241109T130702Z
LAST-MODIFIED:20241109T130736Z
UID:10001216-1832612400-1832619600@hawickbaptistchurch.com
SUMMARY:HOME GROUPS
DESCRIPTION:
URL:https://hawickbaptistchurch.com/event/home-groups/2028-01-27/
END:VEVENT
BEGIN:VEVENT
DTSTART;TZID=Europe/London:20280130T103000
DTEND;TZID=Europe/London:20280130T113000
DTSTAMP:20260425T122101
CREATED:20241104T182139Z
LAST-MODIFIED:20250826T082821Z
UID:10000170-1832841000-1832844600@hawickbaptistchurch.com
SUMMARY:SUNDAY SERVICE
DESCRIPTION:We meet at 10:30 AM every Sunday morning for our main time together as a whole church family at our building on North Bridge Street\, Hawick.
URL:https://hawickbaptistchurch.com/event/sunday-service/2028-01-30/
LOCATION:Hawick Baptist Church\, North Bridge Street\, Hawick\, United Kingdom
END:VEVENT
BEGIN:VEVENT
DTSTART;TZID=UTC:20280201T100000
DTEND;TZID=UTC:20280201T110000
DTSTAMP:20260425T122101
CREATED:20241107T103814Z
LAST-MODIFIED:20250213T142056Z
UID:10000431-1833012000-1833015600@hawickbaptistchurch.com
SUMMARY:MAINLY PLAY
DESCRIPTION:
URL:https://hawickbaptistchurch.com/event/mainly-play-2/2028-02-01/
LOCATION:Hawick Baptist Church\, North Bridge Street\, Hawick\, United Kingdom
ORGANIZER;CN="Mainly Play HBC":MAILTO:mainlyplayhbc@gmail.com
END:VEVENT
BEGIN:VEVENT
DTSTART;TZID=UTC:20280202T160000
DTEND;TZID=UTC:20280202T170000
DTSTAMP:20260425T122101
CREATED:20241107T103959Z
LAST-MODIFIED:20241107T150551Z
UID:10000953-1833120000-1833123600@hawickbaptistchurch.com
SUMMARY:PRAYER MEETING
DESCRIPTION:
URL:https://hawickbaptistchurch.com/event/prayer-meeting/2028-02-02/
LOCATION:Hawick Baptist Church\, North Bridge Street\, Hawick\, United Kingdom
END:VEVENT
BEGIN:VEVENT
DTSTART;TZID=UTC:20280203T190000
DTEND;TZID=UTC:20280203T210000
DTSTAMP:20260425T122101
CREATED:20241109T130702Z
LAST-MODIFIED:20241109T130736Z
UID:10001217-1833217200-1833224400@hawickbaptistchurch.com
SUMMARY:HOME GROUPS
DESCRIPTION:
URL:https://hawickbaptistchurch.com/event/home-groups/2028-02-03/
END:VEVENT
BEGIN:VEVENT
DTSTART;TZID=Europe/London:20280206T103000
DTEND;TZID=Europe/London:20280206T113000
DTSTAMP:20260425T122101
CREATED:20241104T182139Z
LAST-MODIFIED:20250826T082821Z
UID:10000171-1833445800-1833449400@hawickbaptistchurch.com
SUMMARY:SUNDAY SERVICE
DESCRIPTION:We meet at 10:30 AM every Sunday morning for our main time together as a whole church family at our building on North Bridge Street\, Hawick.
URL:https://hawickbaptistchurch.com/event/sunday-service/2028-02-06/
LOCATION:Hawick Baptist Church\, North Bridge Street\, Hawick\, United Kingdom
END:VEVENT
BEGIN:VEVENT
DTSTART;TZID=UTC:20280208T100000
DTEND;TZID=UTC:20280208T110000
DTSTAMP:20260425T122101
CREATED:20241107T103814Z
LAST-MODIFIED:20250213T142056Z
UID:10000432-1833616800-1833620400@hawickbaptistchurch.com
SUMMARY:MAINLY PLAY
DESCRIPTION:
URL:https://hawickbaptistchurch.com/event/mainly-play-2/2028-02-08/
LOCATION:Hawick Baptist Church\, North Bridge Street\, Hawick\, United Kingdom
ORGANIZER;CN="Mainly Play HBC":MAILTO:mainlyplayhbc@gmail.com
END:VEVENT
BEGIN:VEVENT
DTSTART;TZID=UTC:20280209T160000
DTEND;TZID=UTC:20280209T170000
DTSTAMP:20260425T122101
CREATED:20241107T103959Z
LAST-MODIFIED:20241107T150551Z
UID:10000954-1833724800-1833728400@hawickbaptistchurch.com
SUMMARY:PRAYER MEETING
DESCRIPTION:
URL:https://hawickbaptistchurch.com/event/prayer-meeting/2028-02-09/
LOCATION:Hawick Baptist Church\, North Bridge Street\, Hawick\, United Kingdom
END:VEVENT
BEGIN:VEVENT
DTSTART;TZID=UTC:20280210T190000
DTEND;TZID=UTC:20280210T210000
DTSTAMP:20260425T122101
CREATED:20241109T130702Z
LAST-MODIFIED:20241109T130736Z
UID:10001218-1833822000-1833829200@hawickbaptistchurch.com
SUMMARY:HOME GROUPS
DESCRIPTION:
URL:https://hawickbaptistchurch.com/event/home-groups/2028-02-10/
END:VEVENT
END:VCALENDAR