BEGIN:VCALENDAR
VERSION:2.0
PRODID:-//Hawick Baptist Church - ECPv6.15.20//NONSGML v1.0//EN
CALSCALE:GREGORIAN
METHOD:PUBLISH
X-WR-CALNAME:Hawick Baptist Church
X-ORIGINAL-URL:https://hawickbaptistchurch.com
X-WR-CALDESC:Events for Hawick Baptist Church
REFRESH-INTERVAL;VALUE=DURATION:PT1H
X-Robots-Tag:noindex
X-PUBLISHED-TTL:PT1H
BEGIN:VTIMEZONE
TZID:UTC
BEGIN:STANDARD
TZOFFSETFROM:+0000
TZOFFSETTO:+0000
TZNAME:UTC
DTSTART:20250101T000000
END:STANDARD
END:VTIMEZONE
BEGIN:VTIMEZONE
TZID:Europe/London
BEGIN:DAYLIGHT
TZOFFSETFROM:+0000
TZOFFSETTO:+0100
TZNAME:BST
DTSTART:20250330T010000
END:DAYLIGHT
BEGIN:STANDARD
TZOFFSETFROM:+0100
TZOFFSETTO:+0000
TZNAME:GMT
DTSTART:20251026T010000
END:STANDARD
BEGIN:DAYLIGHT
TZOFFSETFROM:+0000
TZOFFSETTO:+0100
TZNAME:BST
DTSTART:20260329T010000
END:DAYLIGHT
BEGIN:STANDARD
TZOFFSETFROM:+0100
TZOFFSETTO:+0000
TZNAME:GMT
DTSTART:20261025T010000
END:STANDARD
BEGIN:DAYLIGHT
TZOFFSETFROM:+0000
TZOFFSETTO:+0100
TZNAME:BST
DTSTART:20270328T010000
END:DAYLIGHT
BEGIN:STANDARD
TZOFFSETFROM:+0100
TZOFFSETTO:+0000
TZNAME:GMT
DTSTART:20271031T010000
END:STANDARD
END:VTIMEZONE
BEGIN:VEVENT
DTSTART;TZID=UTC:20260409T190000
DTEND;TZID=UTC:20260409T210000
DTSTAMP:20260422T225755
CREATED:20241109T130702Z
LAST-MODIFIED:20241109T130736Z
UID:10001122-1775761200-1775768400@hawickbaptistchurch.com
SUMMARY:HOME GROUPS
DESCRIPTION:
URL:https://hawickbaptistchurch.com/event/home-groups/2026-04-09/
END:VEVENT
BEGIN:VEVENT
DTSTART;TZID=UTC:20260408T160000
DTEND;TZID=UTC:20260408T170000
DTSTAMP:20260422T225755
CREATED:20241107T103959Z
LAST-MODIFIED:20241107T150551Z
UID:10000858-1775664000-1775667600@hawickbaptistchurch.com
SUMMARY:PRAYER MEETING
DESCRIPTION:
URL:https://hawickbaptistchurch.com/event/prayer-meeting/2026-04-08/
LOCATION:Hawick Baptist Church\, North Bridge Street\, Hawick\, United Kingdom
END:VEVENT
BEGIN:VEVENT
DTSTART;TZID=UTC:20260407T100000
DTEND;TZID=UTC:20260407T110000
DTSTAMP:20260422T225755
CREATED:20241107T103814Z
LAST-MODIFIED:20250213T142056Z
UID:10000336-1775556000-1775559600@hawickbaptistchurch.com
SUMMARY:MAINLY PLAY
DESCRIPTION:
URL:https://hawickbaptistchurch.com/event/mainly-play-2/2026-04-07/
LOCATION:Hawick Baptist Church\, North Bridge Street\, Hawick\, United Kingdom
ORGANIZER;CN="Mainly Play HBC":MAILTO:mainlyplayhbc@gmail.com
END:VEVENT
BEGIN:VEVENT
DTSTART;TZID=UTC:20260405T103000
DTEND;TZID=UTC:20260405T113000
DTSTAMP:20260422T225755
CREATED:20260331T202853Z
LAST-MODIFIED:20260331T202853Z
UID:10001910-1775385000-1775388600@hawickbaptistchurch.com
SUMMARY:EASTER SUNDAY SERVICE
DESCRIPTION:
URL:https://hawickbaptistchurch.com/event/easter-sunday-service/
LOCATION:Hawick Baptist Church\, North Bridge Street\, Hawick\, United Kingdom
ATTACH;FMTTYPE=image/png:https://hawickbaptistchurch.com/wp-content/uploads/2026/03/Easter-Sunday-Postcard-105-x-148-mm.png
END:VEVENT
BEGIN:VEVENT
DTSTART;TZID=UTC:20260405T090000
DTEND;TZID=UTC:20260405T100000
DTSTAMP:20260422T225755
CREATED:20260331T202936Z
LAST-MODIFIED:20260331T202936Z
UID:10001911-1775379600-1775383200@hawickbaptistchurch.com
SUMMARY:EASTER EGG ROLL
DESCRIPTION:
URL:https://hawickbaptistchurch.com/event/easter-egg-roll/
LOCATION:Hawick Baptist Church\, North Bridge Street\, Hawick\, United Kingdom
ATTACH;FMTTYPE=image/png:https://hawickbaptistchurch.com/wp-content/uploads/2026/03/Easter-Egg-Roll.png
END:VEVENT
BEGIN:VEVENT
DTSTART;TZID=UTC:20260404T140000
DTEND;TZID=UTC:20260404T153000
DTSTAMP:20260422T225755
CREATED:20260331T203537Z
LAST-MODIFIED:20260331T203537Z
UID:10001921-1775311200-1775316600@hawickbaptistchurch.com
SUMMARY:WOMEN'S AFTERNOON TEA
DESCRIPTION:
URL:https://hawickbaptistchurch.com/event/womens-afternoon-tea/
LOCATION:Hawick Baptist Church\, North Bridge Street\, Hawick\, United Kingdom
ORGANIZER;CN="Emily Pollok":MAILTO:emilypollokhbc@gmail.com
END:VEVENT
BEGIN:VEVENT
DTSTART;TZID=UTC:20260404T090000
DTEND;TZID=UTC:20260404T100000
DTSTAMP:20260422T225755
CREATED:20260331T203500Z
LAST-MODIFIED:20260331T203500Z
UID:10001920-1775293200-1775296800@hawickbaptistchurch.com
SUMMARY:MEN'S BREAKFAST
DESCRIPTION:
URL:https://hawickbaptistchurch.com/event/mens-breakfast/
LOCATION:Hawick Baptist Church\, North Bridge Street\, Hawick\, United Kingdom
ORGANIZER;CN="Robin Turton":MAILTO:robinturton2628@gmail.com
END:VEVENT
BEGIN:VEVENT
DTSTART;TZID=UTC:20260403T103000
DTEND;TZID=UTC:20260403T113000
DTSTAMP:20260422T225755
CREATED:20260331T202745Z
LAST-MODIFIED:20260331T202745Z
UID:10001909-1775212200-1775215800@hawickbaptistchurch.com
SUMMARY:GOOD FRIDAY SERVICE
DESCRIPTION:
URL:https://hawickbaptistchurch.com/event/good-friday-service/
LOCATION:Hawick Baptist Church\, North Bridge Street\, Hawick\, United Kingdom
END:VEVENT
BEGIN:VEVENT
DTSTART;TZID=UTC:20260402T190000
DTEND;TZID=UTC:20260402T210000
DTSTAMP:20260422T225755
CREATED:20241109T130702Z
LAST-MODIFIED:20241109T130736Z
UID:10001121-1775156400-1775163600@hawickbaptistchurch.com
SUMMARY:HOME GROUPS
DESCRIPTION:
URL:https://hawickbaptistchurch.com/event/home-groups/2026-04-02/
END:VEVENT
BEGIN:VEVENT
DTSTART;TZID=UTC:20260401T160000
DTEND;TZID=UTC:20260401T170000
DTSTAMP:20260422T225755
CREATED:20241107T103959Z
LAST-MODIFIED:20241107T150551Z
UID:10000857-1775059200-1775062800@hawickbaptistchurch.com
SUMMARY:PRAYER MEETING
DESCRIPTION:
URL:https://hawickbaptistchurch.com/event/prayer-meeting/2026-04-01/
LOCATION:Hawick Baptist Church\, North Bridge Street\, Hawick\, United Kingdom
END:VEVENT
BEGIN:VEVENT
DTSTART;TZID=UTC:20260331T100000
DTEND;TZID=UTC:20260331T110000
DTSTAMP:20260422T225755
CREATED:20241107T103814Z
LAST-MODIFIED:20250213T142056Z
UID:10000335-1774951200-1774954800@hawickbaptistchurch.com
SUMMARY:MAINLY PLAY
DESCRIPTION:
URL:https://hawickbaptistchurch.com/event/mainly-play-2/2026-03-31/
LOCATION:Hawick Baptist Church\, North Bridge Street\, Hawick\, United Kingdom
ORGANIZER;CN="Mainly Play HBC":MAILTO:mainlyplayhbc@gmail.com
END:VEVENT
BEGIN:VEVENT
DTSTART;TZID=Europe/London:20260329T103000
DTEND;TZID=Europe/London:20260329T113000
DTSTAMP:20260422T225755
CREATED:20241104T182139Z
LAST-MODIFIED:20250826T082821Z
UID:10000074-1774780200-1774783800@hawickbaptistchurch.com
SUMMARY:SUNDAY SERVICE
DESCRIPTION:We meet at 10:30 AM every Sunday morning for our main time together as a whole church family at our building on North Bridge Street\, Hawick.
URL:https://hawickbaptistchurch.com/event/sunday-service/2026-03-29/
LOCATION:Hawick Baptist Church\, North Bridge Street\, Hawick\, United Kingdom
END:VEVENT
BEGIN:VEVENT
DTSTART;TZID=UTC:20260326T190000
DTEND;TZID=UTC:20260326T210000
DTSTAMP:20260422T225755
CREATED:20241109T130702Z
LAST-MODIFIED:20241109T130736Z
UID:10001120-1774551600-1774558800@hawickbaptistchurch.com
SUMMARY:HOME GROUPS
DESCRIPTION:
URL:https://hawickbaptistchurch.com/event/home-groups/2026-03-26/
END:VEVENT
BEGIN:VEVENT
DTSTART;TZID=UTC:20260325T160000
DTEND;TZID=UTC:20260325T170000
DTSTAMP:20260422T225755
CREATED:20241107T103959Z
LAST-MODIFIED:20241107T150551Z
UID:10000856-1774454400-1774458000@hawickbaptistchurch.com
SUMMARY:PRAYER MEETING
DESCRIPTION:
URL:https://hawickbaptistchurch.com/event/prayer-meeting/2026-03-25/
LOCATION:Hawick Baptist Church\, North Bridge Street\, Hawick\, United Kingdom
END:VEVENT
BEGIN:VEVENT
DTSTART;TZID=UTC:20260324T100000
DTEND;TZID=UTC:20260324T110000
DTSTAMP:20260422T225755
CREATED:20241107T103814Z
LAST-MODIFIED:20250213T142056Z
UID:10000334-1774346400-1774350000@hawickbaptistchurch.com
SUMMARY:MAINLY PLAY
DESCRIPTION:
URL:https://hawickbaptistchurch.com/event/mainly-play-2/2026-03-24/
LOCATION:Hawick Baptist Church\, North Bridge Street\, Hawick\, United Kingdom
ORGANIZER;CN="Mainly Play HBC":MAILTO:mainlyplayhbc@gmail.com
END:VEVENT
BEGIN:VEVENT
DTSTART;TZID=Europe/London:20260322T103000
DTEND;TZID=Europe/London:20260322T113000
DTSTAMP:20260422T225755
CREATED:20241104T182139Z
LAST-MODIFIED:20250826T082821Z
UID:10000073-1774175400-1774179000@hawickbaptistchurch.com
SUMMARY:SUNDAY SERVICE
DESCRIPTION:We meet at 10:30 AM every Sunday morning for our main time together as a whole church family at our building on North Bridge Street\, Hawick.
URL:https://hawickbaptistchurch.com/event/sunday-service/2026-03-22/
LOCATION:Hawick Baptist Church\, North Bridge Street\, Hawick\, United Kingdom
END:VEVENT
END:VCALENDAR