BEGIN:VCALENDAR
VERSION:2.0
PRODID:-//Hawick Baptist Church - ECPv6.15.20//NONSGML v1.0//EN
CALSCALE:GREGORIAN
METHOD:PUBLISH
X-WR-CALNAME:Hawick Baptist Church
X-ORIGINAL-URL:https://hawickbaptistchurch.com
X-WR-CALDESC:Events for Hawick Baptist Church
REFRESH-INTERVAL;VALUE=DURATION:PT1H
X-Robots-Tag:noindex
X-PUBLISHED-TTL:PT1H
BEGIN:VTIMEZONE
TZID:Europe/London
BEGIN:DAYLIGHT
TZOFFSETFROM:+0000
TZOFFSETTO:+0100
TZNAME:BST
DTSTART:20260329T010000
END:DAYLIGHT
BEGIN:STANDARD
TZOFFSETFROM:+0100
TZOFFSETTO:+0000
TZNAME:GMT
DTSTART:20261025T010000
END:STANDARD
BEGIN:DAYLIGHT
TZOFFSETFROM:+0000
TZOFFSETTO:+0100
TZNAME:BST
DTSTART:20270328T010000
END:DAYLIGHT
BEGIN:STANDARD
TZOFFSETFROM:+0100
TZOFFSETTO:+0000
TZNAME:GMT
DTSTART:20271031T010000
END:STANDARD
BEGIN:DAYLIGHT
TZOFFSETFROM:+0000
TZOFFSETTO:+0100
TZNAME:BST
DTSTART:20280326T010000
END:DAYLIGHT
BEGIN:STANDARD
TZOFFSETFROM:+0100
TZOFFSETTO:+0000
TZNAME:GMT
DTSTART:20281029T010000
END:STANDARD
END:VTIMEZONE
BEGIN:VTIMEZONE
TZID:UTC
BEGIN:STANDARD
TZOFFSETFROM:+0000
TZOFFSETTO:+0000
TZNAME:UTC
DTSTART:20260101T000000
END:STANDARD
END:VTIMEZONE
BEGIN:VEVENT
DTSTART;TZID=Europe/London:20270704T103000
DTEND;TZID=Europe/London:20270704T113000
DTSTAMP:20260424T154024
CREATED:20241104T182139Z
LAST-MODIFIED:20250826T082821Z
UID:10000140-1814697000-1814700600@hawickbaptistchurch.com
SUMMARY:SUNDAY SERVICE
DESCRIPTION:We meet at 10:30 AM every Sunday morning for our main time together as a whole church family at our building on North Bridge Street\, Hawick.
URL:https://hawickbaptistchurch.com/event/sunday-service/2027-07-04/
LOCATION:Hawick Baptist Church\, North Bridge Street\, Hawick\, United Kingdom
END:VEVENT
BEGIN:VEVENT
DTSTART;TZID=UTC:20270706T100000
DTEND;TZID=UTC:20270706T110000
DTSTAMP:20260424T154024
CREATED:20241107T103814Z
LAST-MODIFIED:20250213T142056Z
UID:10000401-1814868000-1814871600@hawickbaptistchurch.com
SUMMARY:MAINLY PLAY
DESCRIPTION:
URL:https://hawickbaptistchurch.com/event/mainly-play-2/2027-07-06/
LOCATION:Hawick Baptist Church\, North Bridge Street\, Hawick\, United Kingdom
ORGANIZER;CN="Mainly Play HBC":MAILTO:mainlyplayhbc@gmail.com
END:VEVENT
BEGIN:VEVENT
DTSTART;TZID=UTC:20270707T160000
DTEND;TZID=UTC:20270707T170000
DTSTAMP:20260424T154024
CREATED:20241107T103959Z
LAST-MODIFIED:20241107T150551Z
UID:10000923-1814976000-1814979600@hawickbaptistchurch.com
SUMMARY:PRAYER MEETING
DESCRIPTION:
URL:https://hawickbaptistchurch.com/event/prayer-meeting/2027-07-07/
LOCATION:Hawick Baptist Church\, North Bridge Street\, Hawick\, United Kingdom
END:VEVENT
BEGIN:VEVENT
DTSTART;TZID=UTC:20270708T190000
DTEND;TZID=UTC:20270708T210000
DTSTAMP:20260424T154024
CREATED:20241109T130702Z
LAST-MODIFIED:20241109T130736Z
UID:10001187-1815073200-1815080400@hawickbaptistchurch.com
SUMMARY:HOME GROUPS
DESCRIPTION:
URL:https://hawickbaptistchurch.com/event/home-groups/2027-07-08/
END:VEVENT
BEGIN:VEVENT
DTSTART;TZID=Europe/London:20270711T103000
DTEND;TZID=Europe/London:20270711T113000
DTSTAMP:20260424T154024
CREATED:20241104T182139Z
LAST-MODIFIED:20250826T082821Z
UID:10000141-1815301800-1815305400@hawickbaptistchurch.com
SUMMARY:SUNDAY SERVICE
DESCRIPTION:We meet at 10:30 AM every Sunday morning for our main time together as a whole church family at our building on North Bridge Street\, Hawick.
URL:https://hawickbaptistchurch.com/event/sunday-service/2027-07-11/
LOCATION:Hawick Baptist Church\, North Bridge Street\, Hawick\, United Kingdom
END:VEVENT
BEGIN:VEVENT
DTSTART;TZID=UTC:20270713T100000
DTEND;TZID=UTC:20270713T110000
DTSTAMP:20260424T154024
CREATED:20241107T103814Z
LAST-MODIFIED:20250213T142056Z
UID:10000402-1815472800-1815476400@hawickbaptistchurch.com
SUMMARY:MAINLY PLAY
DESCRIPTION:
URL:https://hawickbaptistchurch.com/event/mainly-play-2/2027-07-13/
LOCATION:Hawick Baptist Church\, North Bridge Street\, Hawick\, United Kingdom
ORGANIZER;CN="Mainly Play HBC":MAILTO:mainlyplayhbc@gmail.com
END:VEVENT
BEGIN:VEVENT
DTSTART;TZID=UTC:20270714T160000
DTEND;TZID=UTC:20270714T170000
DTSTAMP:20260424T154024
CREATED:20241107T103959Z
LAST-MODIFIED:20241107T150551Z
UID:10000924-1815580800-1815584400@hawickbaptistchurch.com
SUMMARY:PRAYER MEETING
DESCRIPTION:
URL:https://hawickbaptistchurch.com/event/prayer-meeting/2027-07-14/
LOCATION:Hawick Baptist Church\, North Bridge Street\, Hawick\, United Kingdom
END:VEVENT
BEGIN:VEVENT
DTSTART;TZID=UTC:20270715T190000
DTEND;TZID=UTC:20270715T210000
DTSTAMP:20260424T154024
CREATED:20241109T130702Z
LAST-MODIFIED:20241109T130736Z
UID:10001188-1815678000-1815685200@hawickbaptistchurch.com
SUMMARY:HOME GROUPS
DESCRIPTION:
URL:https://hawickbaptistchurch.com/event/home-groups/2027-07-15/
END:VEVENT
BEGIN:VEVENT
DTSTART;TZID=Europe/London:20270718T103000
DTEND;TZID=Europe/London:20270718T113000
DTSTAMP:20260424T154024
CREATED:20241104T182139Z
LAST-MODIFIED:20250826T082821Z
UID:10000142-1815906600-1815910200@hawickbaptistchurch.com
SUMMARY:SUNDAY SERVICE
DESCRIPTION:We meet at 10:30 AM every Sunday morning for our main time together as a whole church family at our building on North Bridge Street\, Hawick.
URL:https://hawickbaptistchurch.com/event/sunday-service/2027-07-18/
LOCATION:Hawick Baptist Church\, North Bridge Street\, Hawick\, United Kingdom
END:VEVENT
BEGIN:VEVENT
DTSTART;TZID=UTC:20270720T100000
DTEND;TZID=UTC:20270720T110000
DTSTAMP:20260424T154024
CREATED:20241107T103814Z
LAST-MODIFIED:20250213T142056Z
UID:10000403-1816077600-1816081200@hawickbaptistchurch.com
SUMMARY:MAINLY PLAY
DESCRIPTION:
URL:https://hawickbaptistchurch.com/event/mainly-play-2/2027-07-20/
LOCATION:Hawick Baptist Church\, North Bridge Street\, Hawick\, United Kingdom
ORGANIZER;CN="Mainly Play HBC":MAILTO:mainlyplayhbc@gmail.com
END:VEVENT
BEGIN:VEVENT
DTSTART;TZID=UTC:20270721T160000
DTEND;TZID=UTC:20270721T170000
DTSTAMP:20260424T154024
CREATED:20241107T103959Z
LAST-MODIFIED:20241107T150551Z
UID:10000925-1816185600-1816189200@hawickbaptistchurch.com
SUMMARY:PRAYER MEETING
DESCRIPTION:
URL:https://hawickbaptistchurch.com/event/prayer-meeting/2027-07-21/
LOCATION:Hawick Baptist Church\, North Bridge Street\, Hawick\, United Kingdom
END:VEVENT
BEGIN:VEVENT
DTSTART;TZID=UTC:20270722T190000
DTEND;TZID=UTC:20270722T210000
DTSTAMP:20260424T154024
CREATED:20241109T130702Z
LAST-MODIFIED:20241109T130736Z
UID:10001189-1816282800-1816290000@hawickbaptistchurch.com
SUMMARY:HOME GROUPS
DESCRIPTION:
URL:https://hawickbaptistchurch.com/event/home-groups/2027-07-22/
END:VEVENT
BEGIN:VEVENT
DTSTART;TZID=Europe/London:20270725T103000
DTEND;TZID=Europe/London:20270725T113000
DTSTAMP:20260424T154024
CREATED:20241104T182139Z
LAST-MODIFIED:20250826T082821Z
UID:10000143-1816511400-1816515000@hawickbaptistchurch.com
SUMMARY:SUNDAY SERVICE
DESCRIPTION:We meet at 10:30 AM every Sunday morning for our main time together as a whole church family at our building on North Bridge Street\, Hawick.
URL:https://hawickbaptistchurch.com/event/sunday-service/2027-07-25/
LOCATION:Hawick Baptist Church\, North Bridge Street\, Hawick\, United Kingdom
END:VEVENT
BEGIN:VEVENT
DTSTART;TZID=UTC:20270727T100000
DTEND;TZID=UTC:20270727T110000
DTSTAMP:20260424T154024
CREATED:20241107T103814Z
LAST-MODIFIED:20250213T142056Z
UID:10000404-1816682400-1816686000@hawickbaptistchurch.com
SUMMARY:MAINLY PLAY
DESCRIPTION:
URL:https://hawickbaptistchurch.com/event/mainly-play-2/2027-07-27/
LOCATION:Hawick Baptist Church\, North Bridge Street\, Hawick\, United Kingdom
ORGANIZER;CN="Mainly Play HBC":MAILTO:mainlyplayhbc@gmail.com
END:VEVENT
BEGIN:VEVENT
DTSTART;TZID=UTC:20270728T160000
DTEND;TZID=UTC:20270728T170000
DTSTAMP:20260424T154024
CREATED:20241107T103959Z
LAST-MODIFIED:20241107T150551Z
UID:10000926-1816790400-1816794000@hawickbaptistchurch.com
SUMMARY:PRAYER MEETING
DESCRIPTION:
URL:https://hawickbaptistchurch.com/event/prayer-meeting/2027-07-28/
LOCATION:Hawick Baptist Church\, North Bridge Street\, Hawick\, United Kingdom
END:VEVENT
BEGIN:VEVENT
DTSTART;TZID=UTC:20270729T190000
DTEND;TZID=UTC:20270729T210000
DTSTAMP:20260424T154024
CREATED:20241109T130702Z
LAST-MODIFIED:20241109T130736Z
UID:10001190-1816887600-1816894800@hawickbaptistchurch.com
SUMMARY:HOME GROUPS
DESCRIPTION:
URL:https://hawickbaptistchurch.com/event/home-groups/2027-07-29/
END:VEVENT
BEGIN:VEVENT
DTSTART;TZID=Europe/London:20270801T103000
DTEND;TZID=Europe/London:20270801T113000
DTSTAMP:20260424T154024
CREATED:20241104T182139Z
LAST-MODIFIED:20250826T082821Z
UID:10000144-1817116200-1817119800@hawickbaptistchurch.com
SUMMARY:SUNDAY SERVICE
DESCRIPTION:We meet at 10:30 AM every Sunday morning for our main time together as a whole church family at our building on North Bridge Street\, Hawick.
URL:https://hawickbaptistchurch.com/event/sunday-service/2027-08-01/
LOCATION:Hawick Baptist Church\, North Bridge Street\, Hawick\, United Kingdom
END:VEVENT
BEGIN:VEVENT
DTSTART;TZID=UTC:20270803T100000
DTEND;TZID=UTC:20270803T110000
DTSTAMP:20260424T154024
CREATED:20241107T103814Z
LAST-MODIFIED:20250213T142056Z
UID:10000405-1817287200-1817290800@hawickbaptistchurch.com
SUMMARY:MAINLY PLAY
DESCRIPTION:
URL:https://hawickbaptistchurch.com/event/mainly-play-2/2027-08-03/
LOCATION:Hawick Baptist Church\, North Bridge Street\, Hawick\, United Kingdom
ORGANIZER;CN="Mainly Play HBC":MAILTO:mainlyplayhbc@gmail.com
END:VEVENT
BEGIN:VEVENT
DTSTART;TZID=UTC:20270804T160000
DTEND;TZID=UTC:20270804T170000
DTSTAMP:20260424T154024
CREATED:20241107T103959Z
LAST-MODIFIED:20241107T150551Z
UID:10000927-1817395200-1817398800@hawickbaptistchurch.com
SUMMARY:PRAYER MEETING
DESCRIPTION:
URL:https://hawickbaptistchurch.com/event/prayer-meeting/2027-08-04/
LOCATION:Hawick Baptist Church\, North Bridge Street\, Hawick\, United Kingdom
END:VEVENT
BEGIN:VEVENT
DTSTART;TZID=UTC:20270805T190000
DTEND;TZID=UTC:20270805T210000
DTSTAMP:20260424T154024
CREATED:20241109T130702Z
LAST-MODIFIED:20241109T130736Z
UID:10001191-1817492400-1817499600@hawickbaptistchurch.com
SUMMARY:HOME GROUPS
DESCRIPTION:
URL:https://hawickbaptistchurch.com/event/home-groups/2027-08-05/
END:VEVENT
BEGIN:VEVENT
DTSTART;TZID=Europe/London:20270808T103000
DTEND;TZID=Europe/London:20270808T113000
DTSTAMP:20260424T154024
CREATED:20241104T182139Z
LAST-MODIFIED:20250826T082821Z
UID:10000145-1817721000-1817724600@hawickbaptistchurch.com
SUMMARY:SUNDAY SERVICE
DESCRIPTION:We meet at 10:30 AM every Sunday morning for our main time together as a whole church family at our building on North Bridge Street\, Hawick.
URL:https://hawickbaptistchurch.com/event/sunday-service/2027-08-08/
LOCATION:Hawick Baptist Church\, North Bridge Street\, Hawick\, United Kingdom
END:VEVENT
BEGIN:VEVENT
DTSTART;TZID=UTC:20270810T100000
DTEND;TZID=UTC:20270810T110000
DTSTAMP:20260424T154024
CREATED:20241107T103814Z
LAST-MODIFIED:20250213T142056Z
UID:10000406-1817892000-1817895600@hawickbaptistchurch.com
SUMMARY:MAINLY PLAY
DESCRIPTION:
URL:https://hawickbaptistchurch.com/event/mainly-play-2/2027-08-10/
LOCATION:Hawick Baptist Church\, North Bridge Street\, Hawick\, United Kingdom
ORGANIZER;CN="Mainly Play HBC":MAILTO:mainlyplayhbc@gmail.com
END:VEVENT
BEGIN:VEVENT
DTSTART;TZID=UTC:20270811T160000
DTEND;TZID=UTC:20270811T170000
DTSTAMP:20260424T154024
CREATED:20241107T103959Z
LAST-MODIFIED:20241107T150551Z
UID:10000928-1818000000-1818003600@hawickbaptistchurch.com
SUMMARY:PRAYER MEETING
DESCRIPTION:
URL:https://hawickbaptistchurch.com/event/prayer-meeting/2027-08-11/
LOCATION:Hawick Baptist Church\, North Bridge Street\, Hawick\, United Kingdom
END:VEVENT
BEGIN:VEVENT
DTSTART;TZID=UTC:20270812T190000
DTEND;TZID=UTC:20270812T210000
DTSTAMP:20260424T154024
CREATED:20241109T130702Z
LAST-MODIFIED:20241109T130736Z
UID:10001192-1818097200-1818104400@hawickbaptistchurch.com
SUMMARY:HOME GROUPS
DESCRIPTION:
URL:https://hawickbaptistchurch.com/event/home-groups/2027-08-12/
END:VEVENT
BEGIN:VEVENT
DTSTART;TZID=Europe/London:20270815T103000
DTEND;TZID=Europe/London:20270815T113000
DTSTAMP:20260424T154024
CREATED:20241104T182139Z
LAST-MODIFIED:20250826T082821Z
UID:10000146-1818325800-1818329400@hawickbaptistchurch.com
SUMMARY:SUNDAY SERVICE
DESCRIPTION:We meet at 10:30 AM every Sunday morning for our main time together as a whole church family at our building on North Bridge Street\, Hawick.
URL:https://hawickbaptistchurch.com/event/sunday-service/2027-08-15/
LOCATION:Hawick Baptist Church\, North Bridge Street\, Hawick\, United Kingdom
END:VEVENT
BEGIN:VEVENT
DTSTART;TZID=UTC:20270817T100000
DTEND;TZID=UTC:20270817T110000
DTSTAMP:20260424T154024
CREATED:20241107T103814Z
LAST-MODIFIED:20250213T142056Z
UID:10000407-1818496800-1818500400@hawickbaptistchurch.com
SUMMARY:MAINLY PLAY
DESCRIPTION:
URL:https://hawickbaptistchurch.com/event/mainly-play-2/2027-08-17/
LOCATION:Hawick Baptist Church\, North Bridge Street\, Hawick\, United Kingdom
ORGANIZER;CN="Mainly Play HBC":MAILTO:mainlyplayhbc@gmail.com
END:VEVENT
BEGIN:VEVENT
DTSTART;TZID=UTC:20270818T160000
DTEND;TZID=UTC:20270818T170000
DTSTAMP:20260424T154024
CREATED:20241107T103959Z
LAST-MODIFIED:20241107T150551Z
UID:10000929-1818604800-1818608400@hawickbaptistchurch.com
SUMMARY:PRAYER MEETING
DESCRIPTION:
URL:https://hawickbaptistchurch.com/event/prayer-meeting/2027-08-18/
LOCATION:Hawick Baptist Church\, North Bridge Street\, Hawick\, United Kingdom
END:VEVENT
BEGIN:VEVENT
DTSTART;TZID=UTC:20270819T190000
DTEND;TZID=UTC:20270819T210000
DTSTAMP:20260424T154024
CREATED:20241109T130702Z
LAST-MODIFIED:20241109T130736Z
UID:10001193-1818702000-1818709200@hawickbaptistchurch.com
SUMMARY:HOME GROUPS
DESCRIPTION:
URL:https://hawickbaptistchurch.com/event/home-groups/2027-08-19/
END:VEVENT
BEGIN:VEVENT
DTSTART;TZID=Europe/London:20270822T103000
DTEND;TZID=Europe/London:20270822T113000
DTSTAMP:20260424T154024
CREATED:20241104T182139Z
LAST-MODIFIED:20250826T082821Z
UID:10000147-1818930600-1818934200@hawickbaptistchurch.com
SUMMARY:SUNDAY SERVICE
DESCRIPTION:We meet at 10:30 AM every Sunday morning for our main time together as a whole church family at our building on North Bridge Street\, Hawick.
URL:https://hawickbaptistchurch.com/event/sunday-service/2027-08-22/
LOCATION:Hawick Baptist Church\, North Bridge Street\, Hawick\, United Kingdom
END:VEVENT
BEGIN:VEVENT
DTSTART;TZID=UTC:20270824T100000
DTEND;TZID=UTC:20270824T110000
DTSTAMP:20260424T154024
CREATED:20241107T103814Z
LAST-MODIFIED:20250213T142056Z
UID:10000408-1819101600-1819105200@hawickbaptistchurch.com
SUMMARY:MAINLY PLAY
DESCRIPTION:
URL:https://hawickbaptistchurch.com/event/mainly-play-2/2027-08-24/
LOCATION:Hawick Baptist Church\, North Bridge Street\, Hawick\, United Kingdom
ORGANIZER;CN="Mainly Play HBC":MAILTO:mainlyplayhbc@gmail.com
END:VEVENT
END:VCALENDAR