BEGIN:VCALENDAR
VERSION:2.0
PRODID:-//Hawick Baptist Church - ECPv6.15.20//NONSGML v1.0//EN
CALSCALE:GREGORIAN
METHOD:PUBLISH
X-WR-CALNAME:Hawick Baptist Church
X-ORIGINAL-URL:https://hawickbaptistchurch.com
X-WR-CALDESC:Events for Hawick Baptist Church
REFRESH-INTERVAL;VALUE=DURATION:PT1H
X-Robots-Tag:noindex
X-PUBLISHED-TTL:PT1H
BEGIN:VTIMEZONE
TZID:UTC
BEGIN:STANDARD
TZOFFSETFROM:+0000
TZOFFSETTO:+0000
TZNAME:UTC
DTSTART:20270101T000000
END:STANDARD
END:VTIMEZONE
BEGIN:VTIMEZONE
TZID:Europe/London
BEGIN:DAYLIGHT
TZOFFSETFROM:+0000
TZOFFSETTO:+0100
TZNAME:BST
DTSTART:20270328T010000
END:DAYLIGHT
BEGIN:STANDARD
TZOFFSETFROM:+0100
TZOFFSETTO:+0000
TZNAME:GMT
DTSTART:20271031T010000
END:STANDARD
BEGIN:DAYLIGHT
TZOFFSETFROM:+0000
TZOFFSETTO:+0100
TZNAME:BST
DTSTART:20280326T010000
END:DAYLIGHT
BEGIN:STANDARD
TZOFFSETFROM:+0100
TZOFFSETTO:+0000
TZNAME:GMT
DTSTART:20281029T010000
END:STANDARD
BEGIN:DAYLIGHT
TZOFFSETFROM:+0000
TZOFFSETTO:+0100
TZNAME:BST
DTSTART:20290325T010000
END:DAYLIGHT
BEGIN:STANDARD
TZOFFSETFROM:+0100
TZOFFSETTO:+0000
TZNAME:GMT
DTSTART:20291028T010000
END:STANDARD
END:VTIMEZONE
BEGIN:VEVENT
DTSTART;TZID=UTC:20280314T100000
DTEND;TZID=UTC:20280314T110000
DTSTAMP:20260426T041124
CREATED:20241107T103814Z
LAST-MODIFIED:20250213T142056Z
UID:10000437-1836640800-1836644400@hawickbaptistchurch.com
SUMMARY:MAINLY PLAY
DESCRIPTION:
URL:https://hawickbaptistchurch.com/event/mainly-play-2/2028-03-14/
LOCATION:Hawick Baptist Church\, North Bridge Street\, Hawick\, United Kingdom
ORGANIZER;CN="Mainly Play HBC":MAILTO:mainlyplayhbc@gmail.com
END:VEVENT
BEGIN:VEVENT
DTSTART;TZID=UTC:20280315T160000
DTEND;TZID=UTC:20280315T170000
DTSTAMP:20260426T041124
CREATED:20241107T103959Z
LAST-MODIFIED:20241107T150551Z
UID:10000959-1836748800-1836752400@hawickbaptistchurch.com
SUMMARY:PRAYER MEETING
DESCRIPTION:
URL:https://hawickbaptistchurch.com/event/prayer-meeting/2028-03-15/
LOCATION:Hawick Baptist Church\, North Bridge Street\, Hawick\, United Kingdom
END:VEVENT
BEGIN:VEVENT
DTSTART;TZID=UTC:20280316T190000
DTEND;TZID=UTC:20280316T210000
DTSTAMP:20260426T041124
CREATED:20241109T130702Z
LAST-MODIFIED:20241109T130736Z
UID:10001223-1836846000-1836853200@hawickbaptistchurch.com
SUMMARY:HOME GROUPS
DESCRIPTION:
URL:https://hawickbaptistchurch.com/event/home-groups/2028-03-16/
END:VEVENT
BEGIN:VEVENT
DTSTART;TZID=Europe/London:20280319T103000
DTEND;TZID=Europe/London:20280319T113000
DTSTAMP:20260426T041124
CREATED:20241104T182139Z
LAST-MODIFIED:20250826T082821Z
UID:10000177-1837074600-1837078200@hawickbaptistchurch.com
SUMMARY:SUNDAY SERVICE
DESCRIPTION:We meet at 10:30 AM every Sunday morning for our main time together as a whole church family at our building on North Bridge Street\, Hawick.
URL:https://hawickbaptistchurch.com/event/sunday-service/2028-03-19/
LOCATION:Hawick Baptist Church\, North Bridge Street\, Hawick\, United Kingdom
END:VEVENT
BEGIN:VEVENT
DTSTART;TZID=UTC:20280321T100000
DTEND;TZID=UTC:20280321T110000
DTSTAMP:20260426T041124
CREATED:20241107T103814Z
LAST-MODIFIED:20250213T142056Z
UID:10000438-1837245600-1837249200@hawickbaptistchurch.com
SUMMARY:MAINLY PLAY
DESCRIPTION:
URL:https://hawickbaptistchurch.com/event/mainly-play-2/2028-03-21/
LOCATION:Hawick Baptist Church\, North Bridge Street\, Hawick\, United Kingdom
ORGANIZER;CN="Mainly Play HBC":MAILTO:mainlyplayhbc@gmail.com
END:VEVENT
BEGIN:VEVENT
DTSTART;TZID=UTC:20280322T160000
DTEND;TZID=UTC:20280322T170000
DTSTAMP:20260426T041124
CREATED:20241107T103959Z
LAST-MODIFIED:20241107T150551Z
UID:10000960-1837353600-1837357200@hawickbaptistchurch.com
SUMMARY:PRAYER MEETING
DESCRIPTION:
URL:https://hawickbaptistchurch.com/event/prayer-meeting/2028-03-22/
LOCATION:Hawick Baptist Church\, North Bridge Street\, Hawick\, United Kingdom
END:VEVENT
BEGIN:VEVENT
DTSTART;TZID=UTC:20280323T190000
DTEND;TZID=UTC:20280323T210000
DTSTAMP:20260426T041124
CREATED:20241109T130702Z
LAST-MODIFIED:20241109T130736Z
UID:10001224-1837450800-1837458000@hawickbaptistchurch.com
SUMMARY:HOME GROUPS
DESCRIPTION:
URL:https://hawickbaptistchurch.com/event/home-groups/2028-03-23/
END:VEVENT
BEGIN:VEVENT
DTSTART;TZID=Europe/London:20280326T103000
DTEND;TZID=Europe/London:20280326T113000
DTSTAMP:20260426T041124
CREATED:20241104T182139Z
LAST-MODIFIED:20250826T082821Z
UID:10000178-1837679400-1837683000@hawickbaptistchurch.com
SUMMARY:SUNDAY SERVICE
DESCRIPTION:We meet at 10:30 AM every Sunday morning for our main time together as a whole church family at our building on North Bridge Street\, Hawick.
URL:https://hawickbaptistchurch.com/event/sunday-service/2028-03-26/
LOCATION:Hawick Baptist Church\, North Bridge Street\, Hawick\, United Kingdom
END:VEVENT
BEGIN:VEVENT
DTSTART;TZID=UTC:20280328T100000
DTEND;TZID=UTC:20280328T110000
DTSTAMP:20260426T041124
CREATED:20241107T103814Z
LAST-MODIFIED:20250213T142056Z
UID:10000439-1837850400-1837854000@hawickbaptistchurch.com
SUMMARY:MAINLY PLAY
DESCRIPTION:
URL:https://hawickbaptistchurch.com/event/mainly-play-2/2028-03-28/
LOCATION:Hawick Baptist Church\, North Bridge Street\, Hawick\, United Kingdom
ORGANIZER;CN="Mainly Play HBC":MAILTO:mainlyplayhbc@gmail.com
END:VEVENT
BEGIN:VEVENT
DTSTART;TZID=UTC:20280329T160000
DTEND;TZID=UTC:20280329T170000
DTSTAMP:20260426T041124
CREATED:20241107T103959Z
LAST-MODIFIED:20241107T150551Z
UID:10000961-1837958400-1837962000@hawickbaptistchurch.com
SUMMARY:PRAYER MEETING
DESCRIPTION:
URL:https://hawickbaptistchurch.com/event/prayer-meeting/2028-03-29/
LOCATION:Hawick Baptist Church\, North Bridge Street\, Hawick\, United Kingdom
END:VEVENT
BEGIN:VEVENT
DTSTART;TZID=UTC:20280330T190000
DTEND;TZID=UTC:20280330T210000
DTSTAMP:20260426T041124
CREATED:20241109T130702Z
LAST-MODIFIED:20241109T130736Z
UID:10001225-1838055600-1838062800@hawickbaptistchurch.com
SUMMARY:HOME GROUPS
DESCRIPTION:
URL:https://hawickbaptistchurch.com/event/home-groups/2028-03-30/
END:VEVENT
BEGIN:VEVENT
DTSTART;TZID=Europe/London:20280402T103000
DTEND;TZID=Europe/London:20280402T113000
DTSTAMP:20260426T041124
CREATED:20241104T182139Z
LAST-MODIFIED:20250826T082821Z
UID:10000179-1838284200-1838287800@hawickbaptistchurch.com
SUMMARY:SUNDAY SERVICE
DESCRIPTION:We meet at 10:30 AM every Sunday morning for our main time together as a whole church family at our building on North Bridge Street\, Hawick.
URL:https://hawickbaptistchurch.com/event/sunday-service/2028-04-02/
LOCATION:Hawick Baptist Church\, North Bridge Street\, Hawick\, United Kingdom
END:VEVENT
BEGIN:VEVENT
DTSTART;TZID=UTC:20280404T100000
DTEND;TZID=UTC:20280404T110000
DTSTAMP:20260426T041124
CREATED:20241107T103814Z
LAST-MODIFIED:20250213T142056Z
UID:10000440-1838455200-1838458800@hawickbaptistchurch.com
SUMMARY:MAINLY PLAY
DESCRIPTION:
URL:https://hawickbaptistchurch.com/event/mainly-play-2/2028-04-04/
LOCATION:Hawick Baptist Church\, North Bridge Street\, Hawick\, United Kingdom
ORGANIZER;CN="Mainly Play HBC":MAILTO:mainlyplayhbc@gmail.com
END:VEVENT
BEGIN:VEVENT
DTSTART;TZID=UTC:20280405T160000
DTEND;TZID=UTC:20280405T170000
DTSTAMP:20260426T041124
CREATED:20241107T103959Z
LAST-MODIFIED:20241107T150551Z
UID:10000962-1838563200-1838566800@hawickbaptistchurch.com
SUMMARY:PRAYER MEETING
DESCRIPTION:
URL:https://hawickbaptistchurch.com/event/prayer-meeting/2028-04-05/
LOCATION:Hawick Baptist Church\, North Bridge Street\, Hawick\, United Kingdom
END:VEVENT
BEGIN:VEVENT
DTSTART;TZID=UTC:20280406T190000
DTEND;TZID=UTC:20280406T210000
DTSTAMP:20260426T041124
CREATED:20241109T130702Z
LAST-MODIFIED:20241109T130736Z
UID:10001226-1838660400-1838667600@hawickbaptistchurch.com
SUMMARY:HOME GROUPS
DESCRIPTION:
URL:https://hawickbaptistchurch.com/event/home-groups/2028-04-06/
END:VEVENT
BEGIN:VEVENT
DTSTART;TZID=Europe/London:20280409T103000
DTEND;TZID=Europe/London:20280409T113000
DTSTAMP:20260426T041124
CREATED:20241104T182139Z
LAST-MODIFIED:20250826T082821Z
UID:10000180-1838889000-1838892600@hawickbaptistchurch.com
SUMMARY:SUNDAY SERVICE
DESCRIPTION:We meet at 10:30 AM every Sunday morning for our main time together as a whole church family at our building on North Bridge Street\, Hawick.
URL:https://hawickbaptistchurch.com/event/sunday-service/2028-04-09/
LOCATION:Hawick Baptist Church\, North Bridge Street\, Hawick\, United Kingdom
END:VEVENT
BEGIN:VEVENT
DTSTART;TZID=UTC:20280411T100000
DTEND;TZID=UTC:20280411T110000
DTSTAMP:20260426T041124
CREATED:20241107T103814Z
LAST-MODIFIED:20250213T142056Z
UID:10000441-1839060000-1839063600@hawickbaptistchurch.com
SUMMARY:MAINLY PLAY
DESCRIPTION:
URL:https://hawickbaptistchurch.com/event/mainly-play-2/2028-04-11/
LOCATION:Hawick Baptist Church\, North Bridge Street\, Hawick\, United Kingdom
ORGANIZER;CN="Mainly Play HBC":MAILTO:mainlyplayhbc@gmail.com
END:VEVENT
BEGIN:VEVENT
DTSTART;TZID=UTC:20280412T160000
DTEND;TZID=UTC:20280412T170000
DTSTAMP:20260426T041124
CREATED:20241107T103959Z
LAST-MODIFIED:20241107T150551Z
UID:10000963-1839168000-1839171600@hawickbaptistchurch.com
SUMMARY:PRAYER MEETING
DESCRIPTION:
URL:https://hawickbaptistchurch.com/event/prayer-meeting/2028-04-12/
LOCATION:Hawick Baptist Church\, North Bridge Street\, Hawick\, United Kingdom
END:VEVENT
BEGIN:VEVENT
DTSTART;TZID=UTC:20280413T190000
DTEND;TZID=UTC:20280413T210000
DTSTAMP:20260426T041124
CREATED:20241109T130702Z
LAST-MODIFIED:20241109T130736Z
UID:10001227-1839265200-1839272400@hawickbaptistchurch.com
SUMMARY:HOME GROUPS
DESCRIPTION:
URL:https://hawickbaptistchurch.com/event/home-groups/2028-04-13/
END:VEVENT
BEGIN:VEVENT
DTSTART;TZID=Europe/London:20280416T103000
DTEND;TZID=Europe/London:20280416T113000
DTSTAMP:20260426T041124
CREATED:20241104T182139Z
LAST-MODIFIED:20250826T082821Z
UID:10000181-1839493800-1839497400@hawickbaptistchurch.com
SUMMARY:SUNDAY SERVICE
DESCRIPTION:We meet at 10:30 AM every Sunday morning for our main time together as a whole church family at our building on North Bridge Street\, Hawick.
URL:https://hawickbaptistchurch.com/event/sunday-service/2028-04-16/
LOCATION:Hawick Baptist Church\, North Bridge Street\, Hawick\, United Kingdom
END:VEVENT
BEGIN:VEVENT
DTSTART;TZID=UTC:20280418T100000
DTEND;TZID=UTC:20280418T110000
DTSTAMP:20260426T041124
CREATED:20241107T103814Z
LAST-MODIFIED:20250213T142056Z
UID:10000442-1839664800-1839668400@hawickbaptistchurch.com
SUMMARY:MAINLY PLAY
DESCRIPTION:
URL:https://hawickbaptistchurch.com/event/mainly-play-2/2028-04-18/
LOCATION:Hawick Baptist Church\, North Bridge Street\, Hawick\, United Kingdom
ORGANIZER;CN="Mainly Play HBC":MAILTO:mainlyplayhbc@gmail.com
END:VEVENT
BEGIN:VEVENT
DTSTART;TZID=UTC:20280419T160000
DTEND;TZID=UTC:20280419T170000
DTSTAMP:20260426T041124
CREATED:20241107T103959Z
LAST-MODIFIED:20241107T150551Z
UID:10000964-1839772800-1839776400@hawickbaptistchurch.com
SUMMARY:PRAYER MEETING
DESCRIPTION:
URL:https://hawickbaptistchurch.com/event/prayer-meeting/2028-04-19/
LOCATION:Hawick Baptist Church\, North Bridge Street\, Hawick\, United Kingdom
END:VEVENT
BEGIN:VEVENT
DTSTART;TZID=UTC:20280420T190000
DTEND;TZID=UTC:20280420T210000
DTSTAMP:20260426T041124
CREATED:20241109T130702Z
LAST-MODIFIED:20241109T130736Z
UID:10001228-1839870000-1839877200@hawickbaptistchurch.com
SUMMARY:HOME GROUPS
DESCRIPTION:
URL:https://hawickbaptistchurch.com/event/home-groups/2028-04-20/
END:VEVENT
BEGIN:VEVENT
DTSTART;TZID=Europe/London:20280423T103000
DTEND;TZID=Europe/London:20280423T113000
DTSTAMP:20260426T041124
CREATED:20241104T182139Z
LAST-MODIFIED:20250826T082821Z
UID:10000182-1840098600-1840102200@hawickbaptistchurch.com
SUMMARY:SUNDAY SERVICE
DESCRIPTION:We meet at 10:30 AM every Sunday morning for our main time together as a whole church family at our building on North Bridge Street\, Hawick.
URL:https://hawickbaptistchurch.com/event/sunday-service/2028-04-23/
LOCATION:Hawick Baptist Church\, North Bridge Street\, Hawick\, United Kingdom
END:VEVENT
BEGIN:VEVENT
DTSTART;TZID=UTC:20280425T100000
DTEND;TZID=UTC:20280425T110000
DTSTAMP:20260426T041124
CREATED:20241107T103814Z
LAST-MODIFIED:20250213T142056Z
UID:10000443-1840269600-1840273200@hawickbaptistchurch.com
SUMMARY:MAINLY PLAY
DESCRIPTION:
URL:https://hawickbaptistchurch.com/event/mainly-play-2/2028-04-25/
LOCATION:Hawick Baptist Church\, North Bridge Street\, Hawick\, United Kingdom
ORGANIZER;CN="Mainly Play HBC":MAILTO:mainlyplayhbc@gmail.com
END:VEVENT
BEGIN:VEVENT
DTSTART;TZID=UTC:20280426T160000
DTEND;TZID=UTC:20280426T170000
DTSTAMP:20260426T041124
CREATED:20241107T103959Z
LAST-MODIFIED:20241107T150551Z
UID:10000965-1840377600-1840381200@hawickbaptistchurch.com
SUMMARY:PRAYER MEETING
DESCRIPTION:
URL:https://hawickbaptistchurch.com/event/prayer-meeting/2028-04-26/
LOCATION:Hawick Baptist Church\, North Bridge Street\, Hawick\, United Kingdom
END:VEVENT
BEGIN:VEVENT
DTSTART;TZID=UTC:20280427T190000
DTEND;TZID=UTC:20280427T210000
DTSTAMP:20260426T041124
CREATED:20241109T130702Z
LAST-MODIFIED:20241109T130736Z
UID:10001229-1840474800-1840482000@hawickbaptistchurch.com
SUMMARY:HOME GROUPS
DESCRIPTION:
URL:https://hawickbaptistchurch.com/event/home-groups/2028-04-27/
END:VEVENT
BEGIN:VEVENT
DTSTART;TZID=Europe/London:20280430T103000
DTEND;TZID=Europe/London:20280430T113000
DTSTAMP:20260426T041124
CREATED:20241104T182139Z
LAST-MODIFIED:20250826T082821Z
UID:10000183-1840703400-1840707000@hawickbaptistchurch.com
SUMMARY:SUNDAY SERVICE
DESCRIPTION:We meet at 10:30 AM every Sunday morning for our main time together as a whole church family at our building on North Bridge Street\, Hawick.
URL:https://hawickbaptistchurch.com/event/sunday-service/2028-04-30/
LOCATION:Hawick Baptist Church\, North Bridge Street\, Hawick\, United Kingdom
END:VEVENT
BEGIN:VEVENT
DTSTART;TZID=UTC:20280502T100000
DTEND;TZID=UTC:20280502T110000
DTSTAMP:20260426T041124
CREATED:20241107T103814Z
LAST-MODIFIED:20250213T142056Z
UID:10000444-1840874400-1840878000@hawickbaptistchurch.com
SUMMARY:MAINLY PLAY
DESCRIPTION:
URL:https://hawickbaptistchurch.com/event/mainly-play-2/2028-05-02/
LOCATION:Hawick Baptist Church\, North Bridge Street\, Hawick\, United Kingdom
ORGANIZER;CN="Mainly Play HBC":MAILTO:mainlyplayhbc@gmail.com
END:VEVENT
BEGIN:VEVENT
DTSTART;TZID=UTC:20280503T160000
DTEND;TZID=UTC:20280503T170000
DTSTAMP:20260426T041124
CREATED:20241107T103959Z
LAST-MODIFIED:20241107T150551Z
UID:10000966-1840982400-1840986000@hawickbaptistchurch.com
SUMMARY:PRAYER MEETING
DESCRIPTION:
URL:https://hawickbaptistchurch.com/event/prayer-meeting/2028-05-03/
LOCATION:Hawick Baptist Church\, North Bridge Street\, Hawick\, United Kingdom
END:VEVENT
END:VCALENDAR