BEGIN:VCALENDAR
VERSION:2.0
PRODID:-//Hawick Baptist Church - ECPv6.15.20//NONSGML v1.0//EN
CALSCALE:GREGORIAN
METHOD:PUBLISH
X-WR-CALNAME:Hawick Baptist Church
X-ORIGINAL-URL:https://hawickbaptistchurch.com
X-WR-CALDESC:Events for Hawick Baptist Church
REFRESH-INTERVAL;VALUE=DURATION:PT1H
X-Robots-Tag:noindex
X-PUBLISHED-TTL:PT1H
BEGIN:VTIMEZONE
TZID:UTC
BEGIN:STANDARD
TZOFFSETFROM:+0000
TZOFFSETTO:+0000
TZNAME:UTC
DTSTART:20260101T000000
END:STANDARD
END:VTIMEZONE
BEGIN:VTIMEZONE
TZID:Europe/London
BEGIN:DAYLIGHT
TZOFFSETFROM:+0000
TZOFFSETTO:+0100
TZNAME:BST
DTSTART:20260329T010000
END:DAYLIGHT
BEGIN:STANDARD
TZOFFSETFROM:+0100
TZOFFSETTO:+0000
TZNAME:GMT
DTSTART:20261025T010000
END:STANDARD
BEGIN:DAYLIGHT
TZOFFSETFROM:+0000
TZOFFSETTO:+0100
TZNAME:BST
DTSTART:20270328T010000
END:DAYLIGHT
BEGIN:STANDARD
TZOFFSETFROM:+0100
TZOFFSETTO:+0000
TZNAME:GMT
DTSTART:20271031T010000
END:STANDARD
BEGIN:DAYLIGHT
TZOFFSETFROM:+0000
TZOFFSETTO:+0100
TZNAME:BST
DTSTART:20280326T010000
END:DAYLIGHT
BEGIN:STANDARD
TZOFFSETFROM:+0100
TZOFFSETTO:+0000
TZNAME:GMT
DTSTART:20281029T010000
END:STANDARD
END:VTIMEZONE
BEGIN:VEVENT
DTSTART;TZID=UTC:20270202T100000
DTEND;TZID=UTC:20270202T110000
DTSTAMP:20260423T073747
CREATED:20241107T103814Z
LAST-MODIFIED:20250213T142056Z
UID:10000379-1801562400-1801566000@hawickbaptistchurch.com
SUMMARY:MAINLY PLAY
DESCRIPTION:
URL:https://hawickbaptistchurch.com/event/mainly-play-2/2027-02-02/
LOCATION:Hawick Baptist Church\, North Bridge Street\, Hawick\, United Kingdom
ORGANIZER;CN="Mainly Play HBC":MAILTO:mainlyplayhbc@gmail.com
END:VEVENT
BEGIN:VEVENT
DTSTART;TZID=UTC:20270203T160000
DTEND;TZID=UTC:20270203T170000
DTSTAMP:20260423T073747
CREATED:20241107T103959Z
LAST-MODIFIED:20241107T150551Z
UID:10000901-1801670400-1801674000@hawickbaptistchurch.com
SUMMARY:PRAYER MEETING
DESCRIPTION:
URL:https://hawickbaptistchurch.com/event/prayer-meeting/2027-02-03/
LOCATION:Hawick Baptist Church\, North Bridge Street\, Hawick\, United Kingdom
END:VEVENT
BEGIN:VEVENT
DTSTART;TZID=UTC:20270204T190000
DTEND;TZID=UTC:20270204T210000
DTSTAMP:20260423T073747
CREATED:20241109T130702Z
LAST-MODIFIED:20241109T130736Z
UID:10001165-1801767600-1801774800@hawickbaptistchurch.com
SUMMARY:HOME GROUPS
DESCRIPTION:
URL:https://hawickbaptistchurch.com/event/home-groups/2027-02-04/
END:VEVENT
BEGIN:VEVENT
DTSTART;TZID=Europe/London:20270207T103000
DTEND;TZID=Europe/London:20270207T113000
DTSTAMP:20260423T073747
CREATED:20241104T182139Z
LAST-MODIFIED:20250826T082821Z
UID:10000119-1801996200-1801999800@hawickbaptistchurch.com
SUMMARY:SUNDAY SERVICE
DESCRIPTION:We meet at 10:30 AM every Sunday morning for our main time together as a whole church family at our building on North Bridge Street\, Hawick.
URL:https://hawickbaptistchurch.com/event/sunday-service/2027-02-07/
LOCATION:Hawick Baptist Church\, North Bridge Street\, Hawick\, United Kingdom
END:VEVENT
BEGIN:VEVENT
DTSTART;TZID=UTC:20270209T100000
DTEND;TZID=UTC:20270209T110000
DTSTAMP:20260423T073747
CREATED:20241107T103814Z
LAST-MODIFIED:20250213T142056Z
UID:10000380-1802167200-1802170800@hawickbaptistchurch.com
SUMMARY:MAINLY PLAY
DESCRIPTION:
URL:https://hawickbaptistchurch.com/event/mainly-play-2/2027-02-09/
LOCATION:Hawick Baptist Church\, North Bridge Street\, Hawick\, United Kingdom
ORGANIZER;CN="Mainly Play HBC":MAILTO:mainlyplayhbc@gmail.com
END:VEVENT
BEGIN:VEVENT
DTSTART;TZID=UTC:20270210T160000
DTEND;TZID=UTC:20270210T170000
DTSTAMP:20260423T073747
CREATED:20241107T103959Z
LAST-MODIFIED:20241107T150551Z
UID:10000902-1802275200-1802278800@hawickbaptistchurch.com
SUMMARY:PRAYER MEETING
DESCRIPTION:
URL:https://hawickbaptistchurch.com/event/prayer-meeting/2027-02-10/
LOCATION:Hawick Baptist Church\, North Bridge Street\, Hawick\, United Kingdom
END:VEVENT
BEGIN:VEVENT
DTSTART;TZID=UTC:20270211T190000
DTEND;TZID=UTC:20270211T210000
DTSTAMP:20260423T073747
CREATED:20241109T130702Z
LAST-MODIFIED:20241109T130736Z
UID:10001166-1802372400-1802379600@hawickbaptistchurch.com
SUMMARY:HOME GROUPS
DESCRIPTION:
URL:https://hawickbaptistchurch.com/event/home-groups/2027-02-11/
END:VEVENT
BEGIN:VEVENT
DTSTART;TZID=Europe/London:20270214T103000
DTEND;TZID=Europe/London:20270214T113000
DTSTAMP:20260423T073747
CREATED:20241104T182139Z
LAST-MODIFIED:20250826T082821Z
UID:10000120-1802601000-1802604600@hawickbaptistchurch.com
SUMMARY:SUNDAY SERVICE
DESCRIPTION:We meet at 10:30 AM every Sunday morning for our main time together as a whole church family at our building on North Bridge Street\, Hawick.
URL:https://hawickbaptistchurch.com/event/sunday-service/2027-02-14/
LOCATION:Hawick Baptist Church\, North Bridge Street\, Hawick\, United Kingdom
END:VEVENT
BEGIN:VEVENT
DTSTART;TZID=UTC:20270216T100000
DTEND;TZID=UTC:20270216T110000
DTSTAMP:20260423T073747
CREATED:20241107T103814Z
LAST-MODIFIED:20250213T142056Z
UID:10000381-1802772000-1802775600@hawickbaptistchurch.com
SUMMARY:MAINLY PLAY
DESCRIPTION:
URL:https://hawickbaptistchurch.com/event/mainly-play-2/2027-02-16/
LOCATION:Hawick Baptist Church\, North Bridge Street\, Hawick\, United Kingdom
ORGANIZER;CN="Mainly Play HBC":MAILTO:mainlyplayhbc@gmail.com
END:VEVENT
BEGIN:VEVENT
DTSTART;TZID=UTC:20270217T160000
DTEND;TZID=UTC:20270217T170000
DTSTAMP:20260423T073747
CREATED:20241107T103959Z
LAST-MODIFIED:20241107T150551Z
UID:10000903-1802880000-1802883600@hawickbaptistchurch.com
SUMMARY:PRAYER MEETING
DESCRIPTION:
URL:https://hawickbaptistchurch.com/event/prayer-meeting/2027-02-17/
LOCATION:Hawick Baptist Church\, North Bridge Street\, Hawick\, United Kingdom
END:VEVENT
BEGIN:VEVENT
DTSTART;TZID=UTC:20270218T190000
DTEND;TZID=UTC:20270218T210000
DTSTAMP:20260423T073747
CREATED:20241109T130702Z
LAST-MODIFIED:20241109T130736Z
UID:10001167-1802977200-1802984400@hawickbaptistchurch.com
SUMMARY:HOME GROUPS
DESCRIPTION:
URL:https://hawickbaptistchurch.com/event/home-groups/2027-02-18/
END:VEVENT
BEGIN:VEVENT
DTSTART;TZID=Europe/London:20270221T103000
DTEND;TZID=Europe/London:20270221T113000
DTSTAMP:20260423T073747
CREATED:20241104T182139Z
LAST-MODIFIED:20250826T082821Z
UID:10000121-1803205800-1803209400@hawickbaptistchurch.com
SUMMARY:SUNDAY SERVICE
DESCRIPTION:We meet at 10:30 AM every Sunday morning for our main time together as a whole church family at our building on North Bridge Street\, Hawick.
URL:https://hawickbaptistchurch.com/event/sunday-service/2027-02-21/
LOCATION:Hawick Baptist Church\, North Bridge Street\, Hawick\, United Kingdom
END:VEVENT
BEGIN:VEVENT
DTSTART;TZID=UTC:20270223T100000
DTEND;TZID=UTC:20270223T110000
DTSTAMP:20260423T073747
CREATED:20241107T103814Z
LAST-MODIFIED:20250213T142056Z
UID:10000382-1803376800-1803380400@hawickbaptistchurch.com
SUMMARY:MAINLY PLAY
DESCRIPTION:
URL:https://hawickbaptistchurch.com/event/mainly-play-2/2027-02-23/
LOCATION:Hawick Baptist Church\, North Bridge Street\, Hawick\, United Kingdom
ORGANIZER;CN="Mainly Play HBC":MAILTO:mainlyplayhbc@gmail.com
END:VEVENT
BEGIN:VEVENT
DTSTART;TZID=UTC:20270224T160000
DTEND;TZID=UTC:20270224T170000
DTSTAMP:20260423T073747
CREATED:20241107T103959Z
LAST-MODIFIED:20241107T150551Z
UID:10000904-1803484800-1803488400@hawickbaptistchurch.com
SUMMARY:PRAYER MEETING
DESCRIPTION:
URL:https://hawickbaptistchurch.com/event/prayer-meeting/2027-02-24/
LOCATION:Hawick Baptist Church\, North Bridge Street\, Hawick\, United Kingdom
END:VEVENT
BEGIN:VEVENT
DTSTART;TZID=UTC:20270225T190000
DTEND;TZID=UTC:20270225T210000
DTSTAMP:20260423T073747
CREATED:20241109T130702Z
LAST-MODIFIED:20241109T130736Z
UID:10001168-1803582000-1803589200@hawickbaptistchurch.com
SUMMARY:HOME GROUPS
DESCRIPTION:
URL:https://hawickbaptistchurch.com/event/home-groups/2027-02-25/
END:VEVENT
BEGIN:VEVENT
DTSTART;TZID=Europe/London:20270228T103000
DTEND;TZID=Europe/London:20270228T113000
DTSTAMP:20260423T073747
CREATED:20241104T182139Z
LAST-MODIFIED:20250826T082821Z
UID:10000122-1803810600-1803814200@hawickbaptistchurch.com
SUMMARY:SUNDAY SERVICE
DESCRIPTION:We meet at 10:30 AM every Sunday morning for our main time together as a whole church family at our building on North Bridge Street\, Hawick.
URL:https://hawickbaptistchurch.com/event/sunday-service/2027-02-28/
LOCATION:Hawick Baptist Church\, North Bridge Street\, Hawick\, United Kingdom
END:VEVENT
BEGIN:VEVENT
DTSTART;TZID=UTC:20270302T100000
DTEND;TZID=UTC:20270302T110000
DTSTAMP:20260423T073747
CREATED:20241107T103814Z
LAST-MODIFIED:20250213T142056Z
UID:10000383-1803981600-1803985200@hawickbaptistchurch.com
SUMMARY:MAINLY PLAY
DESCRIPTION:
URL:https://hawickbaptistchurch.com/event/mainly-play-2/2027-03-02/
LOCATION:Hawick Baptist Church\, North Bridge Street\, Hawick\, United Kingdom
ORGANIZER;CN="Mainly Play HBC":MAILTO:mainlyplayhbc@gmail.com
END:VEVENT
BEGIN:VEVENT
DTSTART;TZID=UTC:20270303T160000
DTEND;TZID=UTC:20270303T170000
DTSTAMP:20260423T073747
CREATED:20241107T103959Z
LAST-MODIFIED:20241107T150551Z
UID:10000905-1804089600-1804093200@hawickbaptistchurch.com
SUMMARY:PRAYER MEETING
DESCRIPTION:
URL:https://hawickbaptistchurch.com/event/prayer-meeting/2027-03-03/
LOCATION:Hawick Baptist Church\, North Bridge Street\, Hawick\, United Kingdom
END:VEVENT
BEGIN:VEVENT
DTSTART;TZID=UTC:20270304T190000
DTEND;TZID=UTC:20270304T210000
DTSTAMP:20260423T073747
CREATED:20241109T130702Z
LAST-MODIFIED:20241109T130736Z
UID:10001169-1804186800-1804194000@hawickbaptistchurch.com
SUMMARY:HOME GROUPS
DESCRIPTION:
URL:https://hawickbaptistchurch.com/event/home-groups/2027-03-04/
END:VEVENT
BEGIN:VEVENT
DTSTART;TZID=Europe/London:20270307T103000
DTEND;TZID=Europe/London:20270307T113000
DTSTAMP:20260423T073747
CREATED:20241104T182139Z
LAST-MODIFIED:20250826T082821Z
UID:10000123-1804415400-1804419000@hawickbaptistchurch.com
SUMMARY:SUNDAY SERVICE
DESCRIPTION:We meet at 10:30 AM every Sunday morning for our main time together as a whole church family at our building on North Bridge Street\, Hawick.
URL:https://hawickbaptistchurch.com/event/sunday-service/2027-03-07/
LOCATION:Hawick Baptist Church\, North Bridge Street\, Hawick\, United Kingdom
END:VEVENT
BEGIN:VEVENT
DTSTART;TZID=UTC:20270309T100000
DTEND;TZID=UTC:20270309T110000
DTSTAMP:20260423T073747
CREATED:20241107T103814Z
LAST-MODIFIED:20250213T142056Z
UID:10000384-1804586400-1804590000@hawickbaptistchurch.com
SUMMARY:MAINLY PLAY
DESCRIPTION:
URL:https://hawickbaptistchurch.com/event/mainly-play-2/2027-03-09/
LOCATION:Hawick Baptist Church\, North Bridge Street\, Hawick\, United Kingdom
ORGANIZER;CN="Mainly Play HBC":MAILTO:mainlyplayhbc@gmail.com
END:VEVENT
BEGIN:VEVENT
DTSTART;TZID=UTC:20270310T160000
DTEND;TZID=UTC:20270310T170000
DTSTAMP:20260423T073747
CREATED:20241107T103959Z
LAST-MODIFIED:20241107T150551Z
UID:10000906-1804694400-1804698000@hawickbaptistchurch.com
SUMMARY:PRAYER MEETING
DESCRIPTION:
URL:https://hawickbaptistchurch.com/event/prayer-meeting/2027-03-10/
LOCATION:Hawick Baptist Church\, North Bridge Street\, Hawick\, United Kingdom
END:VEVENT
BEGIN:VEVENT
DTSTART;TZID=UTC:20270311T190000
DTEND;TZID=UTC:20270311T210000
DTSTAMP:20260423T073747
CREATED:20241109T130702Z
LAST-MODIFIED:20241109T130736Z
UID:10001170-1804791600-1804798800@hawickbaptistchurch.com
SUMMARY:HOME GROUPS
DESCRIPTION:
URL:https://hawickbaptistchurch.com/event/home-groups/2027-03-11/
END:VEVENT
BEGIN:VEVENT
DTSTART;TZID=Europe/London:20270314T103000
DTEND;TZID=Europe/London:20270314T113000
DTSTAMP:20260423T073747
CREATED:20241104T182139Z
LAST-MODIFIED:20250826T082821Z
UID:10000124-1805020200-1805023800@hawickbaptistchurch.com
SUMMARY:SUNDAY SERVICE
DESCRIPTION:We meet at 10:30 AM every Sunday morning for our main time together as a whole church family at our building on North Bridge Street\, Hawick.
URL:https://hawickbaptistchurch.com/event/sunday-service/2027-03-14/
LOCATION:Hawick Baptist Church\, North Bridge Street\, Hawick\, United Kingdom
END:VEVENT
BEGIN:VEVENT
DTSTART;TZID=UTC:20270316T100000
DTEND;TZID=UTC:20270316T110000
DTSTAMP:20260423T073747
CREATED:20241107T103814Z
LAST-MODIFIED:20250213T142056Z
UID:10000385-1805191200-1805194800@hawickbaptistchurch.com
SUMMARY:MAINLY PLAY
DESCRIPTION:
URL:https://hawickbaptistchurch.com/event/mainly-play-2/2027-03-16/
LOCATION:Hawick Baptist Church\, North Bridge Street\, Hawick\, United Kingdom
ORGANIZER;CN="Mainly Play HBC":MAILTO:mainlyplayhbc@gmail.com
END:VEVENT
BEGIN:VEVENT
DTSTART;TZID=UTC:20270317T160000
DTEND;TZID=UTC:20270317T170000
DTSTAMP:20260423T073747
CREATED:20241107T103959Z
LAST-MODIFIED:20241107T150551Z
UID:10000907-1805299200-1805302800@hawickbaptistchurch.com
SUMMARY:PRAYER MEETING
DESCRIPTION:
URL:https://hawickbaptistchurch.com/event/prayer-meeting/2027-03-17/
LOCATION:Hawick Baptist Church\, North Bridge Street\, Hawick\, United Kingdom
END:VEVENT
BEGIN:VEVENT
DTSTART;TZID=UTC:20270318T190000
DTEND;TZID=UTC:20270318T210000
DTSTAMP:20260423T073747
CREATED:20241109T130702Z
LAST-MODIFIED:20241109T130736Z
UID:10001171-1805396400-1805403600@hawickbaptistchurch.com
SUMMARY:HOME GROUPS
DESCRIPTION:
URL:https://hawickbaptistchurch.com/event/home-groups/2027-03-18/
END:VEVENT
BEGIN:VEVENT
DTSTART;TZID=Europe/London:20270321T103000
DTEND;TZID=Europe/London:20270321T113000
DTSTAMP:20260423T073747
CREATED:20241104T182139Z
LAST-MODIFIED:20250826T082821Z
UID:10000125-1805625000-1805628600@hawickbaptistchurch.com
SUMMARY:SUNDAY SERVICE
DESCRIPTION:We meet at 10:30 AM every Sunday morning for our main time together as a whole church family at our building on North Bridge Street\, Hawick.
URL:https://hawickbaptistchurch.com/event/sunday-service/2027-03-21/
LOCATION:Hawick Baptist Church\, North Bridge Street\, Hawick\, United Kingdom
END:VEVENT
BEGIN:VEVENT
DTSTART;TZID=UTC:20270323T100000
DTEND;TZID=UTC:20270323T110000
DTSTAMP:20260423T073747
CREATED:20241107T103814Z
LAST-MODIFIED:20250213T142056Z
UID:10000386-1805796000-1805799600@hawickbaptistchurch.com
SUMMARY:MAINLY PLAY
DESCRIPTION:
URL:https://hawickbaptistchurch.com/event/mainly-play-2/2027-03-23/
LOCATION:Hawick Baptist Church\, North Bridge Street\, Hawick\, United Kingdom
ORGANIZER;CN="Mainly Play HBC":MAILTO:mainlyplayhbc@gmail.com
END:VEVENT
BEGIN:VEVENT
DTSTART;TZID=UTC:20270324T160000
DTEND;TZID=UTC:20270324T170000
DTSTAMP:20260423T073747
CREATED:20241107T103959Z
LAST-MODIFIED:20241107T150551Z
UID:10000908-1805904000-1805907600@hawickbaptistchurch.com
SUMMARY:PRAYER MEETING
DESCRIPTION:
URL:https://hawickbaptistchurch.com/event/prayer-meeting/2027-03-24/
LOCATION:Hawick Baptist Church\, North Bridge Street\, Hawick\, United Kingdom
END:VEVENT
END:VCALENDAR