BEGIN:VCALENDAR
VERSION:2.0
PRODID:-//Hawick Baptist Church - ECPv6.15.20//NONSGML v1.0//EN
CALSCALE:GREGORIAN
METHOD:PUBLISH
X-WR-CALNAME:Hawick Baptist Church
X-ORIGINAL-URL:https://hawickbaptistchurch.com
X-WR-CALDESC:Events for Hawick Baptist Church
REFRESH-INTERVAL;VALUE=DURATION:PT1H
X-Robots-Tag:noindex
X-PUBLISHED-TTL:PT1H
BEGIN:VTIMEZONE
TZID:UTC
BEGIN:STANDARD
TZOFFSETFROM:+0000
TZOFFSETTO:+0000
TZNAME:UTC
DTSTART:20250101T000000
END:STANDARD
END:VTIMEZONE
BEGIN:VTIMEZONE
TZID:Europe/London
BEGIN:DAYLIGHT
TZOFFSETFROM:+0000
TZOFFSETTO:+0100
TZNAME:BST
DTSTART:20250330T010000
END:DAYLIGHT
BEGIN:STANDARD
TZOFFSETFROM:+0100
TZOFFSETTO:+0000
TZNAME:GMT
DTSTART:20251026T010000
END:STANDARD
BEGIN:DAYLIGHT
TZOFFSETFROM:+0000
TZOFFSETTO:+0100
TZNAME:BST
DTSTART:20260329T010000
END:DAYLIGHT
BEGIN:STANDARD
TZOFFSETFROM:+0100
TZOFFSETTO:+0000
TZNAME:GMT
DTSTART:20261025T010000
END:STANDARD
BEGIN:DAYLIGHT
TZOFFSETFROM:+0000
TZOFFSETTO:+0100
TZNAME:BST
DTSTART:20270328T010000
END:DAYLIGHT
BEGIN:STANDARD
TZOFFSETFROM:+0100
TZOFFSETTO:+0000
TZNAME:GMT
DTSTART:20271031T010000
END:STANDARD
END:VTIMEZONE
BEGIN:VEVENT
DTSTART;TZID=UTC:20260630T100000
DTEND;TZID=UTC:20260630T110000
DTSTAMP:20260422T224856
CREATED:20241107T103814Z
LAST-MODIFIED:20250213T142056Z
UID:10000348-1782813600-1782817200@hawickbaptistchurch.com
SUMMARY:MAINLY PLAY
DESCRIPTION:
URL:https://hawickbaptistchurch.com/event/mainly-play-2/2026-06-30/
LOCATION:Hawick Baptist Church\, North Bridge Street\, Hawick\, United Kingdom
ORGANIZER;CN="Mainly Play HBC":MAILTO:mainlyplayhbc@gmail.com
END:VEVENT
BEGIN:VEVENT
DTSTART;TZID=Europe/London:20260628T103000
DTEND;TZID=Europe/London:20260628T113000
DTSTAMP:20260422T224856
CREATED:20241104T182139Z
LAST-MODIFIED:20250826T082821Z
UID:10000087-1782642600-1782646200@hawickbaptistchurch.com
SUMMARY:SUNDAY SERVICE
DESCRIPTION:We meet at 10:30 AM every Sunday morning for our main time together as a whole church family at our building on North Bridge Street\, Hawick.
URL:https://hawickbaptistchurch.com/event/sunday-service/2026-06-28/
LOCATION:Hawick Baptist Church\, North Bridge Street\, Hawick\, United Kingdom
END:VEVENT
BEGIN:VEVENT
DTSTART;TZID=UTC:20260625T190000
DTEND;TZID=UTC:20260625T210000
DTSTAMP:20260422T224856
CREATED:20241109T130702Z
LAST-MODIFIED:20241109T130736Z
UID:10001133-1782414000-1782421200@hawickbaptistchurch.com
SUMMARY:HOME GROUPS
DESCRIPTION:
URL:https://hawickbaptistchurch.com/event/home-groups/2026-06-25/
END:VEVENT
BEGIN:VEVENT
DTSTART;TZID=UTC:20260624T160000
DTEND;TZID=UTC:20260624T170000
DTSTAMP:20260422T224856
CREATED:20241107T103959Z
LAST-MODIFIED:20241107T150551Z
UID:10000869-1782316800-1782320400@hawickbaptistchurch.com
SUMMARY:PRAYER MEETING
DESCRIPTION:
URL:https://hawickbaptistchurch.com/event/prayer-meeting/2026-06-24/
LOCATION:Hawick Baptist Church\, North Bridge Street\, Hawick\, United Kingdom
END:VEVENT
BEGIN:VEVENT
DTSTART;TZID=UTC:20260623T100000
DTEND;TZID=UTC:20260623T110000
DTSTAMP:20260422T224856
CREATED:20241107T103814Z
LAST-MODIFIED:20250213T142056Z
UID:10000347-1782208800-1782212400@hawickbaptistchurch.com
SUMMARY:MAINLY PLAY
DESCRIPTION:
URL:https://hawickbaptistchurch.com/event/mainly-play-2/2026-06-23/
LOCATION:Hawick Baptist Church\, North Bridge Street\, Hawick\, United Kingdom
ORGANIZER;CN="Mainly Play HBC":MAILTO:mainlyplayhbc@gmail.com
END:VEVENT
BEGIN:VEVENT
DTSTART;TZID=Europe/London:20260621T103000
DTEND;TZID=Europe/London:20260621T113000
DTSTAMP:20260422T224856
CREATED:20241104T182139Z
LAST-MODIFIED:20250826T082821Z
UID:10000086-1782037800-1782041400@hawickbaptistchurch.com
SUMMARY:SUNDAY SERVICE
DESCRIPTION:We meet at 10:30 AM every Sunday morning for our main time together as a whole church family at our building on North Bridge Street\, Hawick.
URL:https://hawickbaptistchurch.com/event/sunday-service/2026-06-21/
LOCATION:Hawick Baptist Church\, North Bridge Street\, Hawick\, United Kingdom
END:VEVENT
BEGIN:VEVENT
DTSTART;TZID=UTC:20260618T190000
DTEND;TZID=UTC:20260618T210000
DTSTAMP:20260422T224856
CREATED:20241109T130702Z
LAST-MODIFIED:20241109T130736Z
UID:10001132-1781809200-1781816400@hawickbaptistchurch.com
SUMMARY:HOME GROUPS
DESCRIPTION:
URL:https://hawickbaptistchurch.com/event/home-groups/2026-06-18/
END:VEVENT
BEGIN:VEVENT
DTSTART;TZID=UTC:20260617T160000
DTEND;TZID=UTC:20260617T170000
DTSTAMP:20260422T224856
CREATED:20241107T103959Z
LAST-MODIFIED:20241107T150551Z
UID:10000868-1781712000-1781715600@hawickbaptistchurch.com
SUMMARY:PRAYER MEETING
DESCRIPTION:
URL:https://hawickbaptistchurch.com/event/prayer-meeting/2026-06-17/
LOCATION:Hawick Baptist Church\, North Bridge Street\, Hawick\, United Kingdom
END:VEVENT
BEGIN:VEVENT
DTSTART;TZID=UTC:20260616T100000
DTEND;TZID=UTC:20260616T110000
DTSTAMP:20260422T224856
CREATED:20241107T103814Z
LAST-MODIFIED:20250213T142056Z
UID:10000346-1781604000-1781607600@hawickbaptistchurch.com
SUMMARY:MAINLY PLAY
DESCRIPTION:
URL:https://hawickbaptistchurch.com/event/mainly-play-2/2026-06-16/
LOCATION:Hawick Baptist Church\, North Bridge Street\, Hawick\, United Kingdom
ORGANIZER;CN="Mainly Play HBC":MAILTO:mainlyplayhbc@gmail.com
END:VEVENT
BEGIN:VEVENT
DTSTART;TZID=Europe/London:20260614T103000
DTEND;TZID=Europe/London:20260614T113000
DTSTAMP:20260422T224856
CREATED:20241104T182139Z
LAST-MODIFIED:20250826T082821Z
UID:10000085-1781433000-1781436600@hawickbaptistchurch.com
SUMMARY:SUNDAY SERVICE
DESCRIPTION:We meet at 10:30 AM every Sunday morning for our main time together as a whole church family at our building on North Bridge Street\, Hawick.
URL:https://hawickbaptistchurch.com/event/sunday-service/2026-06-14/
LOCATION:Hawick Baptist Church\, North Bridge Street\, Hawick\, United Kingdom
END:VEVENT
BEGIN:VEVENT
DTSTART;TZID=UTC:20260611T190000
DTEND;TZID=UTC:20260611T210000
DTSTAMP:20260422T224856
CREATED:20241109T130702Z
LAST-MODIFIED:20241109T130736Z
UID:10001131-1781204400-1781211600@hawickbaptistchurch.com
SUMMARY:HOME GROUPS
DESCRIPTION:
URL:https://hawickbaptistchurch.com/event/home-groups/2026-06-11/
END:VEVENT
BEGIN:VEVENT
DTSTART;TZID=UTC:20260610T160000
DTEND;TZID=UTC:20260610T170000
DTSTAMP:20260422T224856
CREATED:20241107T103959Z
LAST-MODIFIED:20241107T150551Z
UID:10000867-1781107200-1781110800@hawickbaptistchurch.com
SUMMARY:PRAYER MEETING
DESCRIPTION:
URL:https://hawickbaptistchurch.com/event/prayer-meeting/2026-06-10/
LOCATION:Hawick Baptist Church\, North Bridge Street\, Hawick\, United Kingdom
END:VEVENT
BEGIN:VEVENT
DTSTART;TZID=UTC:20260609T100000
DTEND;TZID=UTC:20260609T110000
DTSTAMP:20260422T224856
CREATED:20241107T103814Z
LAST-MODIFIED:20250213T142056Z
UID:10000345-1780999200-1781002800@hawickbaptistchurch.com
SUMMARY:MAINLY PLAY
DESCRIPTION:
URL:https://hawickbaptistchurch.com/event/mainly-play-2/2026-06-09/
LOCATION:Hawick Baptist Church\, North Bridge Street\, Hawick\, United Kingdom
ORGANIZER;CN="Mainly Play HBC":MAILTO:mainlyplayhbc@gmail.com
END:VEVENT
BEGIN:VEVENT
DTSTART;TZID=Europe/London:20260607T103000
DTEND;TZID=Europe/London:20260607T113000
DTSTAMP:20260422T224856
CREATED:20241104T182139Z
LAST-MODIFIED:20250826T082821Z
UID:10000084-1780828200-1780831800@hawickbaptistchurch.com
SUMMARY:SUNDAY SERVICE
DESCRIPTION:We meet at 10:30 AM every Sunday morning for our main time together as a whole church family at our building on North Bridge Street\, Hawick.
URL:https://hawickbaptistchurch.com/event/sunday-service/2026-06-07/
LOCATION:Hawick Baptist Church\, North Bridge Street\, Hawick\, United Kingdom
END:VEVENT
BEGIN:VEVENT
DTSTART;TZID=UTC:20260604T190000
DTEND;TZID=UTC:20260604T210000
DTSTAMP:20260422T224856
CREATED:20241109T130702Z
LAST-MODIFIED:20241109T130736Z
UID:10001130-1780599600-1780606800@hawickbaptistchurch.com
SUMMARY:HOME GROUPS
DESCRIPTION:
URL:https://hawickbaptistchurch.com/event/home-groups/2026-06-04/
END:VEVENT
BEGIN:VEVENT
DTSTART;TZID=UTC:20260603T160000
DTEND;TZID=UTC:20260603T170000
DTSTAMP:20260422T224856
CREATED:20241107T103959Z
LAST-MODIFIED:20241107T150551Z
UID:10000866-1780502400-1780506000@hawickbaptistchurch.com
SUMMARY:PRAYER MEETING
DESCRIPTION:
URL:https://hawickbaptistchurch.com/event/prayer-meeting/2026-06-03/
LOCATION:Hawick Baptist Church\, North Bridge Street\, Hawick\, United Kingdom
END:VEVENT
BEGIN:VEVENT
DTSTART;TZID=UTC:20260602T100000
DTEND;TZID=UTC:20260602T110000
DTSTAMP:20260422T224856
CREATED:20241107T103814Z
LAST-MODIFIED:20250213T142056Z
UID:10000344-1780394400-1780398000@hawickbaptistchurch.com
SUMMARY:MAINLY PLAY
DESCRIPTION:
URL:https://hawickbaptistchurch.com/event/mainly-play-2/2026-06-02/
LOCATION:Hawick Baptist Church\, North Bridge Street\, Hawick\, United Kingdom
ORGANIZER;CN="Mainly Play HBC":MAILTO:mainlyplayhbc@gmail.com
END:VEVENT
BEGIN:VEVENT
DTSTART;TZID=UTC:20260531T140000
DTEND;TZID=UTC:20260531T153000
DTSTAMP:20260422T224856
CREATED:20260331T203237Z
LAST-MODIFIED:20260331T203238Z
UID:10001918-1780236000-1780241400@hawickbaptistchurch.com
SUMMARY:CHRISTIANITY EXPLORED
DESCRIPTION:Christianity isn’t just a set of ideas\, rules\, or philosophies. At its heart\, it’s about a person to know – a person who shows us exactly what God is like\, and what he thinks. Christianity is about Jesus Christ. \nOver seven sessions\, Christianity Explored takes you through the Gospel of Mark – an eyewitness testimony about who Jesus is\, why he came\, and what it means for us today. \nWe’ll watch a short film together that will kick off the conversation\, then continue it in our own groups. Come with your questions\, but be prepared – The answers may surprise you. \nTo sign up\, please email hawickbaptistchurch@gmail.com or contact 07810 860693
URL:https://hawickbaptistchurch.com/event/christianity-explored/2026-05-31/
LOCATION:Hawick Baptist Church\, North Bridge Street\, Hawick\, United Kingdom
ATTACH;FMTTYPE=image/jpeg:https://hawickbaptistchurch.com/wp-content/uploads/2026/03/CE-poster-A3.jpg
ORGANIZER;CN="Robin Turton":MAILTO:robinturton2628@gmail.com
END:VEVENT
BEGIN:VEVENT
DTSTART;TZID=Europe/London:20260531T103000
DTEND;TZID=Europe/London:20260531T113000
DTSTAMP:20260422T224856
CREATED:20241104T182139Z
LAST-MODIFIED:20250826T082821Z
UID:10000083-1780223400-1780227000@hawickbaptistchurch.com
SUMMARY:SUNDAY SERVICE
DESCRIPTION:We meet at 10:30 AM every Sunday morning for our main time together as a whole church family at our building on North Bridge Street\, Hawick.
URL:https://hawickbaptistchurch.com/event/sunday-service/2026-05-31/
LOCATION:Hawick Baptist Church\, North Bridge Street\, Hawick\, United Kingdom
END:VEVENT
BEGIN:VEVENT
DTSTART;TZID=UTC:20260528T190000
DTEND;TZID=UTC:20260528T210000
DTSTAMP:20260422T224856
CREATED:20241109T130702Z
LAST-MODIFIED:20241109T130736Z
UID:10001129-1779994800-1780002000@hawickbaptistchurch.com
SUMMARY:HOME GROUPS
DESCRIPTION:
URL:https://hawickbaptistchurch.com/event/home-groups/2026-05-28/
END:VEVENT
BEGIN:VEVENT
DTSTART;TZID=UTC:20260527T160000
DTEND;TZID=UTC:20260527T170000
DTSTAMP:20260422T224856
CREATED:20241107T103959Z
LAST-MODIFIED:20241107T150551Z
UID:10000865-1779897600-1779901200@hawickbaptistchurch.com
SUMMARY:PRAYER MEETING
DESCRIPTION:
URL:https://hawickbaptistchurch.com/event/prayer-meeting/2026-05-27/
LOCATION:Hawick Baptist Church\, North Bridge Street\, Hawick\, United Kingdom
END:VEVENT
BEGIN:VEVENT
DTSTART;TZID=UTC:20260526T100000
DTEND;TZID=UTC:20260526T110000
DTSTAMP:20260422T224856
CREATED:20241107T103814Z
LAST-MODIFIED:20250213T142056Z
UID:10000343-1779789600-1779793200@hawickbaptistchurch.com
SUMMARY:MAINLY PLAY
DESCRIPTION:
URL:https://hawickbaptistchurch.com/event/mainly-play-2/2026-05-26/
LOCATION:Hawick Baptist Church\, North Bridge Street\, Hawick\, United Kingdom
ORGANIZER;CN="Mainly Play HBC":MAILTO:mainlyplayhbc@gmail.com
END:VEVENT
BEGIN:VEVENT
DTSTART;TZID=UTC:20260524T140000
DTEND;TZID=UTC:20260524T153000
DTSTAMP:20260422T224856
CREATED:20260331T203237Z
LAST-MODIFIED:20260331T203238Z
UID:10001917-1779631200-1779636600@hawickbaptistchurch.com
SUMMARY:CHRISTIANITY EXPLORED
DESCRIPTION:Christianity isn’t just a set of ideas\, rules\, or philosophies. At its heart\, it’s about a person to know – a person who shows us exactly what God is like\, and what he thinks. Christianity is about Jesus Christ. \nOver seven sessions\, Christianity Explored takes you through the Gospel of Mark – an eyewitness testimony about who Jesus is\, why he came\, and what it means for us today. \nWe’ll watch a short film together that will kick off the conversation\, then continue it in our own groups. Come with your questions\, but be prepared – The answers may surprise you. \nTo sign up\, please email hawickbaptistchurch@gmail.com or contact 07810 860693
URL:https://hawickbaptistchurch.com/event/christianity-explored/2026-05-24/
LOCATION:Hawick Baptist Church\, North Bridge Street\, Hawick\, United Kingdom
ATTACH;FMTTYPE=image/jpeg:https://hawickbaptistchurch.com/wp-content/uploads/2026/03/CE-poster-A3.jpg
ORGANIZER;CN="Robin Turton":MAILTO:robinturton2628@gmail.com
END:VEVENT
BEGIN:VEVENT
DTSTART;TZID=Europe/London:20260524T103000
DTEND;TZID=Europe/London:20260524T113000
DTSTAMP:20260422T224856
CREATED:20241104T182139Z
LAST-MODIFIED:20250826T082821Z
UID:10000082-1779618600-1779622200@hawickbaptistchurch.com
SUMMARY:SUNDAY SERVICE
DESCRIPTION:We meet at 10:30 AM every Sunday morning for our main time together as a whole church family at our building on North Bridge Street\, Hawick.
URL:https://hawickbaptistchurch.com/event/sunday-service/2026-05-24/
LOCATION:Hawick Baptist Church\, North Bridge Street\, Hawick\, United Kingdom
END:VEVENT
BEGIN:VEVENT
DTSTART;TZID=UTC:20260521T190000
DTEND;TZID=UTC:20260521T210000
DTSTAMP:20260422T224856
CREATED:20241109T130702Z
LAST-MODIFIED:20241109T130736Z
UID:10001128-1779390000-1779397200@hawickbaptistchurch.com
SUMMARY:HOME GROUPS
DESCRIPTION:
URL:https://hawickbaptistchurch.com/event/home-groups/2026-05-21/
END:VEVENT
BEGIN:VEVENT
DTSTART;TZID=UTC:20260520T160000
DTEND;TZID=UTC:20260520T170000
DTSTAMP:20260422T224856
CREATED:20241107T103959Z
LAST-MODIFIED:20241107T150551Z
UID:10000864-1779292800-1779296400@hawickbaptistchurch.com
SUMMARY:PRAYER MEETING
DESCRIPTION:
URL:https://hawickbaptistchurch.com/event/prayer-meeting/2026-05-20/
LOCATION:Hawick Baptist Church\, North Bridge Street\, Hawick\, United Kingdom
END:VEVENT
BEGIN:VEVENT
DTSTART;TZID=UTC:20260519T100000
DTEND;TZID=UTC:20260519T110000
DTSTAMP:20260422T224856
CREATED:20241107T103814Z
LAST-MODIFIED:20250213T142056Z
UID:10000342-1779184800-1779188400@hawickbaptistchurch.com
SUMMARY:MAINLY PLAY
DESCRIPTION:
URL:https://hawickbaptistchurch.com/event/mainly-play-2/2026-05-19/
LOCATION:Hawick Baptist Church\, North Bridge Street\, Hawick\, United Kingdom
ORGANIZER;CN="Mainly Play HBC":MAILTO:mainlyplayhbc@gmail.com
END:VEVENT
BEGIN:VEVENT
DTSTART;TZID=UTC:20260517T140000
DTEND;TZID=UTC:20260517T153000
DTSTAMP:20260422T224856
CREATED:20260331T203237Z
LAST-MODIFIED:20260331T203238Z
UID:10001916-1779026400-1779031800@hawickbaptistchurch.com
SUMMARY:CHRISTIANITY EXPLORED
DESCRIPTION:Christianity isn’t just a set of ideas\, rules\, or philosophies. At its heart\, it’s about a person to know – a person who shows us exactly what God is like\, and what he thinks. Christianity is about Jesus Christ. \nOver seven sessions\, Christianity Explored takes you through the Gospel of Mark – an eyewitness testimony about who Jesus is\, why he came\, and what it means for us today. \nWe’ll watch a short film together that will kick off the conversation\, then continue it in our own groups. Come with your questions\, but be prepared – The answers may surprise you. \nTo sign up\, please email hawickbaptistchurch@gmail.com or contact 07810 860693
URL:https://hawickbaptistchurch.com/event/christianity-explored/2026-05-17/
LOCATION:Hawick Baptist Church\, North Bridge Street\, Hawick\, United Kingdom
ATTACH;FMTTYPE=image/jpeg:https://hawickbaptistchurch.com/wp-content/uploads/2026/03/CE-poster-A3.jpg
ORGANIZER;CN="Robin Turton":MAILTO:robinturton2628@gmail.com
END:VEVENT
BEGIN:VEVENT
DTSTART;TZID=Europe/London:20260517T103000
DTEND;TZID=Europe/London:20260517T113000
DTSTAMP:20260422T224856
CREATED:20241104T182139Z
LAST-MODIFIED:20250826T082821Z
UID:10000081-1779013800-1779017400@hawickbaptistchurch.com
SUMMARY:SUNDAY SERVICE
DESCRIPTION:We meet at 10:30 AM every Sunday morning for our main time together as a whole church family at our building on North Bridge Street\, Hawick.
URL:https://hawickbaptistchurch.com/event/sunday-service/2026-05-17/
LOCATION:Hawick Baptist Church\, North Bridge Street\, Hawick\, United Kingdom
END:VEVENT
BEGIN:VEVENT
DTSTART;TZID=UTC:20260514T190000
DTEND;TZID=UTC:20260514T210000
DTSTAMP:20260422T224856
CREATED:20241109T130702Z
LAST-MODIFIED:20241109T130736Z
UID:10001127-1778785200-1778792400@hawickbaptistchurch.com
SUMMARY:HOME GROUPS
DESCRIPTION:
URL:https://hawickbaptistchurch.com/event/home-groups/2026-05-14/
END:VEVENT
END:VCALENDAR