BEGIN:VCALENDAR
VERSION:2.0
PRODID:-//Hawick Baptist Church - ECPv6.15.20//NONSGML v1.0//EN
CALSCALE:GREGORIAN
METHOD:PUBLISH
X-ORIGINAL-URL:https://hawickbaptistchurch.com
X-WR-CALDESC:Events for Hawick Baptist Church
REFRESH-INTERVAL;VALUE=DURATION:PT1H
X-Robots-Tag:noindex
X-PUBLISHED-TTL:PT1H
BEGIN:VTIMEZONE
TZID:UTC
BEGIN:STANDARD
TZOFFSETFROM:+0000
TZOFFSETTO:+0000
TZNAME:UTC
DTSTART:20250101T000000
END:STANDARD
END:VTIMEZONE
BEGIN:VTIMEZONE
TZID:Europe/London
BEGIN:DAYLIGHT
TZOFFSETFROM:+0000
TZOFFSETTO:+0100
TZNAME:BST
DTSTART:20250330T010000
END:DAYLIGHT
BEGIN:STANDARD
TZOFFSETFROM:+0100
TZOFFSETTO:+0000
TZNAME:GMT
DTSTART:20251026T010000
END:STANDARD
BEGIN:DAYLIGHT
TZOFFSETFROM:+0000
TZOFFSETTO:+0100
TZNAME:BST
DTSTART:20260329T010000
END:DAYLIGHT
BEGIN:STANDARD
TZOFFSETFROM:+0100
TZOFFSETTO:+0000
TZNAME:GMT
DTSTART:20261025T010000
END:STANDARD
BEGIN:DAYLIGHT
TZOFFSETFROM:+0000
TZOFFSETTO:+0100
TZNAME:BST
DTSTART:20270328T010000
END:DAYLIGHT
BEGIN:STANDARD
TZOFFSETFROM:+0100
TZOFFSETTO:+0000
TZNAME:GMT
DTSTART:20271031T010000
END:STANDARD
END:VTIMEZONE
BEGIN:VEVENT
DTSTART;TZID=UTC:20260422T160000
DTEND;TZID=UTC:20260422T170000
DTSTAMP:20260422T153021
CREATED:20241107T103959Z
LAST-MODIFIED:20241107T150551Z
UID:10000860-1776873600-1776877200@hawickbaptistchurch.com
SUMMARY:PRAYER MEETING
DESCRIPTION:
URL:https://hawickbaptistchurch.com/event/prayer-meeting/2026-04-22/
LOCATION:Hawick Baptist Church\, North Bridge Street\, Hawick\, United Kingdom
END:VEVENT
BEGIN:VEVENT
DTSTART;TZID=UTC:20260423T190000
DTEND;TZID=UTC:20260423T210000
DTSTAMP:20260422T153021
CREATED:20241109T130702Z
LAST-MODIFIED:20241109T130736Z
UID:10001124-1776970800-1776978000@hawickbaptistchurch.com
SUMMARY:HOME GROUPS
DESCRIPTION:
URL:https://hawickbaptistchurch.com/event/home-groups/2026-04-23/
END:VEVENT
BEGIN:VEVENT
DTSTART;TZID=Europe/London:20260426T103000
DTEND;TZID=Europe/London:20260426T113000
DTSTAMP:20260422T153021
CREATED:20241104T182139Z
LAST-MODIFIED:20250826T082821Z
UID:10000078-1777199400-1777203000@hawickbaptistchurch.com
SUMMARY:SUNDAY SERVICE
DESCRIPTION:We meet at 10:30 AM every Sunday morning for our main time together as a whole church family at our building on North Bridge Street\, Hawick.
URL:https://hawickbaptistchurch.com/event/sunday-service/2026-04-26/
LOCATION:Hawick Baptist Church\, North Bridge Street\, Hawick\, United Kingdom
END:VEVENT
BEGIN:VEVENT
DTSTART;TZID=UTC:20260426T140000
DTEND;TZID=UTC:20260426T153000
DTSTAMP:20260422T153021
CREATED:20260331T203237Z
LAST-MODIFIED:20260331T203238Z
UID:10001913-1777212000-1777217400@hawickbaptistchurch.com
SUMMARY:CHRISTIANITY EXPLORED
DESCRIPTION:Christianity isn’t just a set of ideas\, rules\, or philosophies. At its heart\, it’s about a person to know – a person who shows us exactly what God is like\, and what he thinks. Christianity is about Jesus Christ. \nOver seven sessions\, Christianity Explored takes you through the Gospel of Mark – an eyewitness testimony about who Jesus is\, why he came\, and what it means for us today. \nWe’ll watch a short film together that will kick off the conversation\, then continue it in our own groups. Come with your questions\, but be prepared – The answers may surprise you. \nTo sign up\, please email hawickbaptistchurch@gmail.com or contact 07810 860693
URL:https://hawickbaptistchurch.com/event/christianity-explored/2026-04-26/
LOCATION:Hawick Baptist Church\, North Bridge Street\, Hawick\, United Kingdom
ATTACH;FMTTYPE=image/jpeg:https://hawickbaptistchurch.com/wp-content/uploads/2026/03/CE-poster-A3.jpg
ORGANIZER;CN="Robin Turton":MAILTO:robinturton2628@gmail.com
END:VEVENT
BEGIN:VEVENT
DTSTART;TZID=UTC:20260428T100000
DTEND;TZID=UTC:20260428T110000
DTSTAMP:20260422T153021
CREATED:20241107T103814Z
LAST-MODIFIED:20250213T142056Z
UID:10000339-1777370400-1777374000@hawickbaptistchurch.com
SUMMARY:MAINLY PLAY
DESCRIPTION:
URL:https://hawickbaptistchurch.com/event/mainly-play-2/2026-04-28/
LOCATION:Hawick Baptist Church\, North Bridge Street\, Hawick\, United Kingdom
ORGANIZER;CN="Mainly Play HBC":MAILTO:mainlyplayhbc@gmail.com
END:VEVENT
BEGIN:VEVENT
DTSTART;TZID=UTC:20260429T160000
DTEND;TZID=UTC:20260429T170000
DTSTAMP:20260422T153021
CREATED:20241107T103959Z
LAST-MODIFIED:20241107T150551Z
UID:10000861-1777478400-1777482000@hawickbaptistchurch.com
SUMMARY:PRAYER MEETING
DESCRIPTION:
URL:https://hawickbaptistchurch.com/event/prayer-meeting/2026-04-29/
LOCATION:Hawick Baptist Church\, North Bridge Street\, Hawick\, United Kingdom
END:VEVENT
BEGIN:VEVENT
DTSTART;TZID=UTC:20260430T190000
DTEND;TZID=UTC:20260430T210000
DTSTAMP:20260422T153021
CREATED:20241109T130702Z
LAST-MODIFIED:20241109T130736Z
UID:10001125-1777575600-1777582800@hawickbaptistchurch.com
SUMMARY:HOME GROUPS
DESCRIPTION:
URL:https://hawickbaptistchurch.com/event/home-groups/2026-04-30/
END:VEVENT
END:VCALENDAR