BEGIN:VCALENDAR
VERSION:2.0
PRODID:-//Hawick Baptist Church - ECPv6.15.20//NONSGML v1.0//EN
CALSCALE:GREGORIAN
METHOD:PUBLISH
X-WR-CALNAME:Hawick Baptist Church
X-ORIGINAL-URL:https://hawickbaptistchurch.com
X-WR-CALDESC:Events for Hawick Baptist Church
REFRESH-INTERVAL;VALUE=DURATION:PT1H
X-Robots-Tag:noindex
X-PUBLISHED-TTL:PT1H
BEGIN:VTIMEZONE
TZID:Europe/London
BEGIN:DAYLIGHT
TZOFFSETFROM:+0000
TZOFFSETTO:+0100
TZNAME:BST
DTSTART:20260329T010000
END:DAYLIGHT
BEGIN:STANDARD
TZOFFSETFROM:+0100
TZOFFSETTO:+0000
TZNAME:GMT
DTSTART:20261025T010000
END:STANDARD
BEGIN:DAYLIGHT
TZOFFSETFROM:+0000
TZOFFSETTO:+0100
TZNAME:BST
DTSTART:20270328T010000
END:DAYLIGHT
BEGIN:STANDARD
TZOFFSETFROM:+0100
TZOFFSETTO:+0000
TZNAME:GMT
DTSTART:20271031T010000
END:STANDARD
BEGIN:DAYLIGHT
TZOFFSETFROM:+0000
TZOFFSETTO:+0100
TZNAME:BST
DTSTART:20280326T010000
END:DAYLIGHT
BEGIN:STANDARD
TZOFFSETFROM:+0100
TZOFFSETTO:+0000
TZNAME:GMT
DTSTART:20281029T010000
END:STANDARD
END:VTIMEZONE
BEGIN:VTIMEZONE
TZID:UTC
BEGIN:STANDARD
TZOFFSETFROM:+0000
TZOFFSETTO:+0000
TZNAME:UTC
DTSTART:20260101T000000
END:STANDARD
END:VTIMEZONE
BEGIN:VEVENT
DTSTART;TZID=Europe/London:20270103T103000
DTEND;TZID=Europe/London:20270103T113000
DTSTAMP:20260423T044728
CREATED:20241104T182139Z
LAST-MODIFIED:20250826T082821Z
UID:10000114-1798972200-1798975800@hawickbaptistchurch.com
SUMMARY:SUNDAY SERVICE
DESCRIPTION:We meet at 10:30 AM every Sunday morning for our main time together as a whole church family at our building on North Bridge Street\, Hawick.
URL:https://hawickbaptistchurch.com/event/sunday-service/2027-01-03/
LOCATION:Hawick Baptist Church\, North Bridge Street\, Hawick\, United Kingdom
END:VEVENT
BEGIN:VEVENT
DTSTART;TZID=UTC:20270105T100000
DTEND;TZID=UTC:20270105T110000
DTSTAMP:20260423T044728
CREATED:20241107T103814Z
LAST-MODIFIED:20250213T142056Z
UID:10000375-1799143200-1799146800@hawickbaptistchurch.com
SUMMARY:MAINLY PLAY
DESCRIPTION:
URL:https://hawickbaptistchurch.com/event/mainly-play-2/2027-01-05/
LOCATION:Hawick Baptist Church\, North Bridge Street\, Hawick\, United Kingdom
ORGANIZER;CN="Mainly Play HBC":MAILTO:mainlyplayhbc@gmail.com
END:VEVENT
BEGIN:VEVENT
DTSTART;TZID=UTC:20270106T160000
DTEND;TZID=UTC:20270106T170000
DTSTAMP:20260423T044728
CREATED:20241107T103959Z
LAST-MODIFIED:20241107T150551Z
UID:10000897-1799251200-1799254800@hawickbaptistchurch.com
SUMMARY:PRAYER MEETING
DESCRIPTION:
URL:https://hawickbaptistchurch.com/event/prayer-meeting/2027-01-06/
LOCATION:Hawick Baptist Church\, North Bridge Street\, Hawick\, United Kingdom
END:VEVENT
BEGIN:VEVENT
DTSTART;TZID=UTC:20270107T190000
DTEND;TZID=UTC:20270107T210000
DTSTAMP:20260423T044728
CREATED:20241109T130702Z
LAST-MODIFIED:20241109T130736Z
UID:10001161-1799348400-1799355600@hawickbaptistchurch.com
SUMMARY:HOME GROUPS
DESCRIPTION:
URL:https://hawickbaptistchurch.com/event/home-groups/2027-01-07/
END:VEVENT
BEGIN:VEVENT
DTSTART;TZID=Europe/London:20270110T103000
DTEND;TZID=Europe/London:20270110T113000
DTSTAMP:20260423T044728
CREATED:20241104T182139Z
LAST-MODIFIED:20250826T082821Z
UID:10000115-1799577000-1799580600@hawickbaptistchurch.com
SUMMARY:SUNDAY SERVICE
DESCRIPTION:We meet at 10:30 AM every Sunday morning for our main time together as a whole church family at our building on North Bridge Street\, Hawick.
URL:https://hawickbaptistchurch.com/event/sunday-service/2027-01-10/
LOCATION:Hawick Baptist Church\, North Bridge Street\, Hawick\, United Kingdom
END:VEVENT
BEGIN:VEVENT
DTSTART;TZID=UTC:20270112T100000
DTEND;TZID=UTC:20270112T110000
DTSTAMP:20260423T044728
CREATED:20241107T103814Z
LAST-MODIFIED:20250213T142056Z
UID:10000376-1799748000-1799751600@hawickbaptistchurch.com
SUMMARY:MAINLY PLAY
DESCRIPTION:
URL:https://hawickbaptistchurch.com/event/mainly-play-2/2027-01-12/
LOCATION:Hawick Baptist Church\, North Bridge Street\, Hawick\, United Kingdom
ORGANIZER;CN="Mainly Play HBC":MAILTO:mainlyplayhbc@gmail.com
END:VEVENT
BEGIN:VEVENT
DTSTART;TZID=UTC:20270113T160000
DTEND;TZID=UTC:20270113T170000
DTSTAMP:20260423T044728
CREATED:20241107T103959Z
LAST-MODIFIED:20241107T150551Z
UID:10000898-1799856000-1799859600@hawickbaptistchurch.com
SUMMARY:PRAYER MEETING
DESCRIPTION:
URL:https://hawickbaptistchurch.com/event/prayer-meeting/2027-01-13/
LOCATION:Hawick Baptist Church\, North Bridge Street\, Hawick\, United Kingdom
END:VEVENT
BEGIN:VEVENT
DTSTART;TZID=UTC:20270114T190000
DTEND;TZID=UTC:20270114T210000
DTSTAMP:20260423T044728
CREATED:20241109T130702Z
LAST-MODIFIED:20241109T130736Z
UID:10001162-1799953200-1799960400@hawickbaptistchurch.com
SUMMARY:HOME GROUPS
DESCRIPTION:
URL:https://hawickbaptistchurch.com/event/home-groups/2027-01-14/
END:VEVENT
BEGIN:VEVENT
DTSTART;TZID=Europe/London:20270117T103000
DTEND;TZID=Europe/London:20270117T113000
DTSTAMP:20260423T044728
CREATED:20241104T182139Z
LAST-MODIFIED:20250826T082821Z
UID:10000116-1800181800-1800185400@hawickbaptistchurch.com
SUMMARY:SUNDAY SERVICE
DESCRIPTION:We meet at 10:30 AM every Sunday morning for our main time together as a whole church family at our building on North Bridge Street\, Hawick.
URL:https://hawickbaptistchurch.com/event/sunday-service/2027-01-17/
LOCATION:Hawick Baptist Church\, North Bridge Street\, Hawick\, United Kingdom
END:VEVENT
BEGIN:VEVENT
DTSTART;TZID=UTC:20270119T100000
DTEND;TZID=UTC:20270119T110000
DTSTAMP:20260423T044728
CREATED:20241107T103814Z
LAST-MODIFIED:20250213T142056Z
UID:10000377-1800352800-1800356400@hawickbaptistchurch.com
SUMMARY:MAINLY PLAY
DESCRIPTION:
URL:https://hawickbaptistchurch.com/event/mainly-play-2/2027-01-19/
LOCATION:Hawick Baptist Church\, North Bridge Street\, Hawick\, United Kingdom
ORGANIZER;CN="Mainly Play HBC":MAILTO:mainlyplayhbc@gmail.com
END:VEVENT
BEGIN:VEVENT
DTSTART;TZID=UTC:20270120T160000
DTEND;TZID=UTC:20270120T170000
DTSTAMP:20260423T044728
CREATED:20241107T103959Z
LAST-MODIFIED:20241107T150551Z
UID:10000899-1800460800-1800464400@hawickbaptistchurch.com
SUMMARY:PRAYER MEETING
DESCRIPTION:
URL:https://hawickbaptistchurch.com/event/prayer-meeting/2027-01-20/
LOCATION:Hawick Baptist Church\, North Bridge Street\, Hawick\, United Kingdom
END:VEVENT
BEGIN:VEVENT
DTSTART;TZID=UTC:20270121T190000
DTEND;TZID=UTC:20270121T210000
DTSTAMP:20260423T044728
CREATED:20241109T130702Z
LAST-MODIFIED:20241109T130736Z
UID:10001163-1800558000-1800565200@hawickbaptistchurch.com
SUMMARY:HOME GROUPS
DESCRIPTION:
URL:https://hawickbaptistchurch.com/event/home-groups/2027-01-21/
END:VEVENT
BEGIN:VEVENT
DTSTART;TZID=Europe/London:20270124T103000
DTEND;TZID=Europe/London:20270124T113000
DTSTAMP:20260423T044728
CREATED:20241104T182139Z
LAST-MODIFIED:20250826T082821Z
UID:10000117-1800786600-1800790200@hawickbaptistchurch.com
SUMMARY:SUNDAY SERVICE
DESCRIPTION:We meet at 10:30 AM every Sunday morning for our main time together as a whole church family at our building on North Bridge Street\, Hawick.
URL:https://hawickbaptistchurch.com/event/sunday-service/2027-01-24/
LOCATION:Hawick Baptist Church\, North Bridge Street\, Hawick\, United Kingdom
END:VEVENT
BEGIN:VEVENT
DTSTART;TZID=UTC:20270126T100000
DTEND;TZID=UTC:20270126T110000
DTSTAMP:20260423T044728
CREATED:20241107T103814Z
LAST-MODIFIED:20250213T142056Z
UID:10000378-1800957600-1800961200@hawickbaptistchurch.com
SUMMARY:MAINLY PLAY
DESCRIPTION:
URL:https://hawickbaptistchurch.com/event/mainly-play-2/2027-01-26/
LOCATION:Hawick Baptist Church\, North Bridge Street\, Hawick\, United Kingdom
ORGANIZER;CN="Mainly Play HBC":MAILTO:mainlyplayhbc@gmail.com
END:VEVENT
BEGIN:VEVENT
DTSTART;TZID=UTC:20270127T160000
DTEND;TZID=UTC:20270127T170000
DTSTAMP:20260423T044728
CREATED:20241107T103959Z
LAST-MODIFIED:20241107T150551Z
UID:10000900-1801065600-1801069200@hawickbaptistchurch.com
SUMMARY:PRAYER MEETING
DESCRIPTION:
URL:https://hawickbaptistchurch.com/event/prayer-meeting/2027-01-27/
LOCATION:Hawick Baptist Church\, North Bridge Street\, Hawick\, United Kingdom
END:VEVENT
BEGIN:VEVENT
DTSTART;TZID=UTC:20270128T190000
DTEND;TZID=UTC:20270128T210000
DTSTAMP:20260423T044728
CREATED:20241109T130702Z
LAST-MODIFIED:20241109T130736Z
UID:10001164-1801162800-1801170000@hawickbaptistchurch.com
SUMMARY:HOME GROUPS
DESCRIPTION:
URL:https://hawickbaptistchurch.com/event/home-groups/2027-01-28/
END:VEVENT
BEGIN:VEVENT
DTSTART;TZID=Europe/London:20270131T103000
DTEND;TZID=Europe/London:20270131T113000
DTSTAMP:20260423T044728
CREATED:20241104T182139Z
LAST-MODIFIED:20250826T082821Z
UID:10000118-1801391400-1801395000@hawickbaptistchurch.com
SUMMARY:SUNDAY SERVICE
DESCRIPTION:We meet at 10:30 AM every Sunday morning for our main time together as a whole church family at our building on North Bridge Street\, Hawick.
URL:https://hawickbaptistchurch.com/event/sunday-service/2027-01-31/
LOCATION:Hawick Baptist Church\, North Bridge Street\, Hawick\, United Kingdom
END:VEVENT
END:VCALENDAR